Workbook

Sheet naslovnica
A2: GRAĐEVINA: | C2: I. GIMNAZIJA U OSIJEKU
C3: k.č. 9121/23 k.o. Osijek
A5: INVESTITOR: | C5: OSJEČKO-BARANJSKA ŽUPANIJA
C6: Trg Ante Starčevića 2, 31000 Osijek
A8: PROJEKT: | C8: IZVEDBENI PROJEKT
A10: SADRŽAJ: | C10: TROŠKOVNIK RADOVA
A12: BROJ PROJEKTA: | C12: 18-12-IZP
A14: GLAVNI PROJEKTANT: | C14: Maja Stanić, dipl.ing.arh.
A16: PROJEKTANT: | C16: Vojko Stanić, dipl.ing.arh.
A18: SURADNICI: | C18: Martina Vivoda, mag.ing.arch.
C19: Kristina Žuvela, mag.ing.arch.
C20: Filip Ružić, mag.ing.arch.urb.
B23: SADRŽAJ TROŠKOVNIKA
B25: I. GRUPE RADOVA
B27: II. REKAPITULACIJA RADOVA
B29: III. OPĆI UVJETI UZ TROŠKOVNIK
B31: IV. TROŠKOVNICI PO GRUPAMA RADOVA
B33: 1 | C33: GRAĐEVINSKI RADOVI
B35: 2 | C35: OBRTNIČKI RADOVI
B37: 3 | C37: UREĐENJE OKOLIŠA PJEŠAČKIH POVRŠINA
B39: 4 | C39: ELEKTROINSTALACIJE
B41: 5 | C41: SUSTAV ZA DOJAVU POŽARA
B43: 6 | C43: STROJARSKE INSTALACIJE
B45: 7 | C45: HIDROINSTALACIJE
B47: 8 | C47: PROMETNE POVRŠINE I VANJSKI SPORTSKI TERENI
B49: 9 | C49: SPRINKLER INSTALACIJE

Sheet rekapitulacija
B2: I. | C2: REKAPITULACIJA RADOVA
B5: 1 | C5: GRAĐEVINSKI RADOVI | E5: ='1-Građevinski radovi'!E1130 -> 0
B7: 2 | C7: OBRTNIČKI RADOVI | E7: ='2-Obrtnički radovi'!E1886 -> 0
B9: 3 | C9: OKOLIŠ | E9: ='3-Okoliš '!E462 -> 0
B11: 4 | C11: ELEKTROINSTALACIJE | E11: ='4.Elektroinstalacije'!E986 -> 0
B13: 5 | C13: SUSTAV ZA DOJAVU POŽARA | E13: ='5. Sustav za dojavu požara'!E57 -> 0
B15: 6 | C15: STROJARSKE INSTALACIJE | E15: ='6-Strojarske instalacije'!E815 -> 0
B17: 7 | C17: HIDROINSTALACIJE | E17: ='7. Hidroinstalacije'!E731 -> 0
B19: 8 | C19: PROMETNE POVRŠINE I SPORTSKI TERENI | E19: ='8. Prometne površine'!E361 -> 0
B21: 9 | C21: SPRINKLER INSTALACIJE | E21: ='9-Sprinkler inst.'!E389 -> 0
C24: SVEUKUPNO RADOVI | E24: =SUM(E5:E21) -> 0
D26: 25% PDV | E26: =E24*0.25 -> 0
C28: SVEUKUPNO s pdv-om | E28: =SUM(E26+E24) -> 0

Sheet 1-Građevinski radovi
A1: BR. | B1: OPIS STAVKE JED.MJERA | C1: KOLIČINA | D1: JED. CIJENA bez PDV-a | E1: UKUPNA CIJENA bez PDV-a
A3: 1 | B3: GRAĐEVINSKI RADOVI
B5: OPĆI UVJETI UZ TROŠKOVNIK
B6: OPĆENITO
B7: Izvođaču se uz troškovnik radova stavljaju na uvid kompletni izvedbeni i glavni projekti svih struka koji su sastavni dio ponudbene dokumentacije. Upisom jedinične cijene pojedine stavke podrazumijeva se da je izvođač proučio cjelokupnu dokumentaciju i da je jediničnom cijenom obuhvaćeno sve navedeno troškovničkom stavkom i sve navedeno u nacrtima i tekstu izvedbenog i glavnog projekta.
B8: Ovi opći tehnički uvjeti se dopunjuju opisima stavaka troškovnika i posebnim tehničkim uvjetima za pojedine vrste radova. Sve što je navedeno u njima, a nije u pojedinačnom opisu stavke smatra se uključenim u jediničnu cijenu.
B9: JEDINIČNA CIJENA (odnosi se na sve vrste radova):
B10: Sve stavke troškovnika podrazumijevaju nabavu, isporuku, transport, montažu pomoću kvalificirane i stručne radne snage i adekvatne mehanizacije u skladu sa važećim propisima, standardima i projektnoj dokumentaciji, sve horizontalne i vertikalne transporte potrebnog specificiranog materijala na samoj lokaciji do mjesta ugradnje i primopredaju investitoru.
B11: Materijal
B12: Pod tim nazivom se podrazumijeva cijena materijala tj. dobavna cijena i to kako glavnog materijala, tako i pomoćnog, veznog materijala, podkonstrukcije i sl., a upotrijebljeni materijal, kojeg izvođač dobavlja i ugrađuje, mora odgovarati trenutno važećim standardima i za iste dostaviti važeće izjave o svojstvima (prihvatiti će se i sve potvrde o sukladnosti izdane od tijela za potvrđivanje osnovanim u državama članicama EU) i to najmanje 14 kalendarskih dana prije zadnjeg datuma moguće narudžbe koja neće ugroziti ugovorni rok.
B13: Proizvodi/dimenzije
B14: Dopuštena odstupanja tehničkih karakteristika ponuđenih proizvoda u odnosu na tehničke podatke u troškovniku iznose maksimalno 5%. Odnosi se na sve stavke troškovnika i za sve navedene parametre.
B15: Transportni troškovi
B16: U cijenu materijala uključena je i cijena transportnih troškova bez obzira na prijevozno sredstvo sa svim prijenosima, utovarima i istovarima, te uskladištenje i čuvanje na gradilištu od unošenja (prebacivanje, zaštita i sl.) do ugradnje. U jediničnu cijenu uključena je i izrada svih transportnih privremenih putova na gradilištu.
... B63: Izvođač je dužan pridržavati se u svemu propisanog Zakonom o gradnji (NN 153/13, 20/17, 39/19, 125/19).
A65: 1 | B65: GRAĐEVINSKI RADOVI
A67: 1.1. | B67: PRIPREMNI I ZAVRŠNI RADOVI
B68: OPĆI UVJETI
B69: Pripremnim radovima mora se prići s velikim oprezom, sa svim potrebnim osiguranjima i mjerama zaštite okoliša i štetnog utjecaja na susjedne objekte. Sve radove treba izvesti uz obveznu primjenu važećih propisa zaštite na radu za ovu vrstu radova.
B70: Izvođač je dužan tijekom cijelog izvođenja radova održavati gradilište - zgrade i okoliša čistim. Obavezno treba čistiti od blata i sl. kotače vozila koja izlaze sa gradilišta na javnu prometnicu, te obavezno osigurati čišćenje dijela prometnice uz ulaz u gradilište. Čišćenje se vrši po potrebi, izvan pojedinih radova, a uključuje i završno čišćenje pred predaju objekta.
B71: Izvođač je dužan tijekom cijelog izvođenja radova zaštiti postojeći drvored kestena koji se zadržava kao i statua (kip, križ) koji se nalazi na predtrgu. Izvedba zaštitne ograde oko cijele zone unutar koje se nalaze postojeće stablašice. Zaštitna ograda se formira od vertikalno postavljenih dasaka visine 1,5 m, koje se postavljaju u širini 1 m oko debla stablašica i međusobno povezuju i učvršćuju horizontalnom letvicom, dok se u kutovima kazeta postavljaju četiri stupa na koje se učvršćuju letvice i daske. Deblje žile korijenovog sustava oblažu se mješavinom humusno-tresetnog supstrata i zemlje i gusto omataju trakama od prirodnih vlakana (jute) širine cca 20 cm i fiksiraju. Cjelokupan korjenov sustav se dodatno pokriva širokim trakama prirodnih vlakana, koje se fiksiraju u tlu korištenjem kolčića. U slučaju da se ne može garantirati "sigurnost" statua od oštećenja predvidjeti demontažu i čuvanje, kao i ponovnu postavu na isto mjesto.
B72: Izvođač je dužan izraditi terminski plan i dostaviti isti nadzornom inženjeru na ovjeru najkasnije 3 tjedna nakon potpisa ugovora. 'Izvođač je za vrijeme izvođenja radova dužan s građevinskim otpadom nastalim obavljanjem radova postupati sukladno Odluci o odlaganju građevinskog otpada i zemlje od iskopa građevinskih radova ("Službeni glasnik" Grada Osijeka) i ishoditi Potvrdu sukladno članku 7. Odluke od nadležnog Upravnog odjela.
B73: Za vrijeme izvođenja radova potrebno je osigurati nužno nesmetano i sigurno odvijanje prometa vozila i pješaka. Izvođač je dužan ishoditi Suglasnost na kolni prilaz od nadležnog Upravnog odjela Grada Osijeka. Zahtjevu za suglasnost treba sadržavati i projekt privremene regulacije prometa za vrijeme izvođenja radova.
B74: Pripremni radovi obuhvaćaju i sve potrebne geodetske radnje od strane osobe ovlaštene za obavljanje poslova državne izmjere katastra nekretnina prema posebnom zakonu i u skladu sa geodetskim projektom, sva geodetska mjerenja kojima se podaci s projekta prenose na teren (vertikalno i horizontalno), sve obnavljanje i održavanje iskolčenih oznaka na terenu za vrijeme građenja, izradu Elaborata iskolčenja, stalno geodetsko praćenje izvedbe armiranobetonskih radova i radova na izradi čelične konstrukcije, te sve potrebne radnje za upis objekta u katastar. Nakon provedenog iskolčenja, izvođač je dužan dostaviti izjavu o provedenom iskolčenju u skladu sa geodetskim projektom koja je ovjerena od strane ovlaštenog geodete, bez posebne nadoplate. Izvođač radova dužan je za vrijeme građenja stalno održavati i osigurati sve repere i poligonske točke. Iskolčenje objekata treba neprestano nadzirati i po potrebi obnavljati o vlastitom trošku. Izvođač je sve vrijeme građenja dužan obnavljati izvedeno iskolčenje i sve oznake na terenu, bez obzira na uzroke štete.
B75: Geodetskom kontrolom utvrđuje se visinski i položajno početno stanje ili stanje izvedenog posla. Točnost mjerenja mora biti u skladu s geodetskim normama za pojedine vrste mjerenja i u skladu sa zahtjevima za kakvoću pojedinih radova prema ovim tehničkim uvjetima. Geodetski radovi pri građenju obuhvaćaju : a.iskolčenje trase i svih objekata u trasi i preko trase cesta; b.ovjerenu izjavu ovlaštenog geodete da je iskolčenje izvedeno u skladu sa geodetskim projektom c.sva geodetska mjerenja koja su u vezi s prijenosom podataka iz projekata na teren i obrnuto; d.održavanje iskolčenih oznaka na terenu u cijelom razdoblju od početka radova do predaje svih radova investitoru
A77: 1.1.1. | B77: ČIŠĆENJE PARCELE
B78: Čišćenje i raščišćavanje terena na površini izgradnje, a prije početka radova. Rad obuhvaća sječu šiblja i stabala, rezanje grana na dužine pogodne za prijevoz, vađenje korijenja te odnošenje šiblja, granja, trupaca i panjeva (predviđa se rušenje jednog stabla u drvoredu kestena uz Strossmayerovu ulicu.). Površine koje treba očistiti od grmlja i drveća određuje nadzorni inženjer prije početka rada. Čišćenje obuhvaća i uklanjanje svega nepotrebnog materijala zaostalog nakon tih radova. Izvođač mora rušiti stabla uz punu primjenu higijensko-tehničkih zaštitnih mjera i bez nanošenja štete susjednim objektima, posjedima uz trasu i imovini uopće. Obračun za komplet radova za površinu 12941m² sa utovarom, odvozom iistovarom na gradski deponiji.
B79: komplet | C79: 1 | E79: =IF((D79>0),SUM(C79*D79),"kn") -> kn
A80: 1.1.2. | B80: ISKOLČENJE GRAĐEVINE I TRASA
B81: Radovi obuhvaćaju sve potrebne geodetske radnje od strane osobe ovlaštene za obavljanje poslova državne izmjere katastra nekretnina prema posebnom zakonu i u skladu sa geodetskim projektom, sva geodetska mjerenja kojima se podaci s projekta prenose na teren (vertikalno i horizontalno), sve obnavljanje i održavanje iskolčenih oznaka na terenu za vrijeme građenja, izradu Elaborata iskolčenja, stalno geodetsko praćenje izvedbe armiranobetonskih radova i radova na izradi čelične konstrukcije, te sve potrebne radnje za upis objekta u katastar. Nakon provedenog iskolčenja, izvođač je dužan dostaviti izjavu o provedenom iskolčenju u skladu sa geodetskim projektom koja je ovjerena od strane ovlaštenog geodete, bez posebne nadoplate. Izvođač radova dužan je za vrijeme građenja stalno održavati i osigurati sve repere i poligonske točke. Iskolčenje objekata treba neprestano nadzirati i po potrebi obnavljati o vlastitom trošku.
B82: Izvođač je sve vrijeme građenja dužan obnavljati izvedeno iskolčenje i sve oznake na terenu, bez obzira na uzroke štete. Geodetskom kontrolom utvrđuje se visinski i položajno početno stanje ili stanje izvedenog posla. Točnost mjerenja mora biti u skladu s geodetskim normama za pojedine vrste mjerenja i u skladu sa zahtjevima za kakvoću pojedinih radova prema ovim tehničkim uvjetima. Geodetski radovi pri građenju obuhvaćaju : a.iskolčenje trase i svih objekata u trasi i preko trase cesta; b.ovjerenu izjavu ovlaštenog geodete da je iskolčenje izvedeno u skladu sa geodetskim projektom c.sva geodetska mjerenja koja su u vezi s prijenosom podataka iz projekata na teren i obrnuto; d.održavanje iskolčenih oznaka na terenu u cijelom razdoblju od početka radova do predaje svih radova investitoru
B83: U geodetsku situaciju uključiti snimanje svih novih i postojećih instalacija koje se pojave prilikom radova na prostoru gradilišta.
B84: U jed.cijenu uključiti geodetsko praćenje iskopa, geod.snimku i izračun volumena iskopa.
B85: Iskolčenje na području obuhvat zahvata - objekt gimnazije - 4080m².
B86: Iskolčenje na području obuhvat zahvata - uređenje okoliša, internih prometnica i sportskih terena - 12914m².
B87: Iskolčenje na području obuhvat zahvata - javne površine - 1000m².
B88: Stavka uključuje i izradu Geodetske situacije izvedenog stanja sa svim instalacijama s prijavom nadležnom Uredu za katastar uz ishođenje potvrde od strane DGU. Predaja investitoru u 3 primjerka tiskano i 1 primjerka na CDu. Geodetskom nadzoru izvođač radova dužan je pružiti sve detaljne informacije o provedenom poslu i po potrebni osigurati kontrolna mjerenja u njegovom prisustvu.
B89: komplet | C89: 1 | E89: =IF((D89>0),SUM(C89*D89),"kn") -> kn
A90: 1.1.3. | B90: PRIPREMA GRADILIŠTA
B91: Priprema gradilišta obuhvaća dopremu i instalaciju opreme za betoniranje, bušenje i injektiranje sidara kao i svu ostalu potrebnu opremu za izvođenje radova te po završenim radovima, raspremanje gradilišta, odvoz opreme i dovođenje lokacije u prvobitno stanje. U sklopu pripreme gradilišta uzima se u obzir i trošak organizacije gradilišta, kompletna izvedba pristupnih puteva i privremenih deponija materijala (mreža, sidara te drugih materijala i opreme). Obračun po kompletu.
...

Sheet 2-Obrtnički radovi
A1: BR. | B1: OPIS STAVKE JED.MJERA | C1: KOLIČINA | D1: JED. CIJENA bez PDV-a | E1: UKUPNA CIJENA bez PDV-a
A3: 2 | B3: OBRTNIČKI RADOVI
B4: Napomena: Sve stavke uključuju sav rad i materijal (osnovni i pomoćni materijal te spojni i pričvrsni materijal, materijal za završne obrade) sve do potpune gotovosti i funkcionalnosti. U jediničnu cijenu stavki su uključeni svi horizontalni i vertikalni transporti po gradilištu te sva potrebna mehanizacija, radna skela i materijal za podupiranje tijekom ugradnje stavki (osim fasadne skele koja je obračunata u posebnoj stavci).
A6: 2.1. | B6: BRAVARSKI RADOVI
B7: OPĆI UVJETI
B8: Svi radovi moraju biti izrađeni u skladu sa zahtjevima važećih standarda i propisa navedenih u tekstu na početku ovih općih uvjeta.
B9: Također, svi bravarski radovi moraju se izvesti prema potvrđenim radioničkim nacrtima, opisu troškovnika i uputama projektanta i nadzornog inženjera.
B10: Vlastita konstruktivna rješenja i posebnost načina ugradnje, opšavne profile i predločeni okov prije ugovaranja ponuditelj će usuglasiti sa zahtjevima projektanta i nadzornog inženjera.
B11: Izvođač je dužan uzeti na gradilištu sve mjere otvora u koje se treba ugraditi bravarija te nakon toga pristupiti izradi iste. Također, prije početka izrade obavezno se moraju uskladiti mjere i količine na objektu s onima u projektima te izraditi radioničke nacrte koje mora ovjeriti projektant i nadzorni inženjer.
B12: Izvođač radova dužan je dobaviti i montirati te u cijenu ukalkulirati sav potreban okov za besprijekornu upotrebu pojedinog bravarskog elementa bez obzira da li je u pojedinim stavkama sve iskazano.
B13: Materijal
B14: Sav materijal koji se upotrebljava za izradu bravarskih radova mora odgovarati važećim standardima.
B15: Površinska obrada
B16: Antikorozivna zaštita čeličnih dijelova mora biti u skladu sa važećim propisima. Kompletna površinska obrada svih materijala mora biti u skladu sa važećim propisima i uputama proizvođača primijenjenog materijala (sredstva), a prema zahtjevu projekta.
B17: Sva čelična bravarija mora prije otpreme na gradilište biti pjeskarena i ličena prvim temeljnim slojem 2x ili pocinčana. Sva vanjska bravarija mora biti brtvena protiv prodora kiše i prašine.
B18: Za sve boje navedene u pojedinim stavkama prema RAL ton karti, prije završne obrade donosi se uzorak projektantu na ovjeru - vrijedi za sve navedene boje.
... B37: ČELIČNE I STAKLENE OGRADE
A39: 2.1.1. | B39: OSTAKLJENA OGRADA PODESTA DVORANE
B40: Izrada, doprema i montaža ostakljene ograde. Ograda se izrađuje sukladno DETALJU POZICIJA S01 i S02 - vidi izvedbeni projekt. Ograda se izrađuje od kaljenog laminiranog stakla 8+8mm (elementi dužine cca 130cm). Debljina folije PVB 1,52mm. Gornji rubovi stakla polirani. Mat brušeni inox rukohvat U oblika 3x2x3cm. Staklo se postavlja unutar čeličnog U profila 200x50x200mm i fiksira unutar istog specijalnim trajnoelastičnim kitom za staklo. Profil se prije postave stakla učvršćuje u ab podest (nevidljivi prihvat). Profil se završno obrađuje plastificiranjem u RAL 7044.
B41: Voditi računa o propisnom sidrenju i statici (propisano bočno opterećenje). Ukupna visina ograde od gotovog poda 100cm. Statičku provjeru ograde daje izvođač. Ista mora izdržati horizontalno opterećenje od min. 700 N/m. Obračun po m' ograde.
B42: m' | C42: 41 | E42: =IF((D42>0),SUM(C42*D42),"kn") -> kn
A43: 2.1.2. | B43: KLIZNA VRATA UNUTAR OGRADE PODESTA DVORANE
B44: Izrada, doprema i montaža kliznih staklenih vrata ograde podesta dvorane. Ograda se izrađuje sukladno DETALJU POZICIJA S01 i S02 - vidi izvedbeni projekt. Ograda se izrađuje od kaljenog laminiranog stakla 8+8mm (elementi dužine cca 120cm). Debljina folije PVB 1,52mm. Gornji rubovi stakla polirani. Mat brušeni inox rukohvat U oblika 3x2x3cm. Staklo se postavlja unutar čeličnog U profila 50x50x50mm i fiksira unutar istog specijalnim trajnoelastičnim kitom za staklo. Profil se postavlja unutar sustava klizne vodilice koja je ugrađena u AB ploču podesta . Vodilica dužine 240cm, u ravnini s vrhom ploče - PREDVIDJETI POSTAVU KALUPA U FAZI BETONIRANJA PODESTA. Uskladiti s detaljem vodilice. Profil se završno obrađuje plastificiranjem u RAL 7044.
B45: Voditi računa o propisnom sidrenju i statici (propisano bočno opterećenje). Ukupna visina ograde od gotovog poda 100cm. Statičku provjeru ograde daje izvođač. Ista mora izdržati horizontalno opterećenje od min. 700 N/m. Obračun po m' ograde.
B46: kom | C46: 6 | E46: =IF((D46>0),SUM(C46*D46),"kn") -> kn
A47: 2.1.3. | B47: OSTAKLJENA OGRADA
B48: Izrada, doprema i montaža ograde ostakljene ograde. Ograda se izrađuje sukladno detaljima u izvedbenom projektu. Ograda se izrađuje od kaljenog laminiranog stakla 8+8mm (elementi dužine cca 130-200cm, visine 110cm). Debljina folije PVB 1,52mm. Gornji rubovi stakla polirani. Mat brušeni inox rukohvat U oblika 3x2x3cm odnosno rukohvat od punog drveta, javor promjera 5cm. Staklo se postavlja unutar čeličnog U profila 120x50x120mm s dodatkom čelične pločice preko koje se fiksira u AB podnu ploču (slojevi poda prelaze preko pločice do profila) i fiksira unutar istog specijalnim trajnoelastičnim kitom za staklo. Profil se prije postave stakla učvršćuje u ab podest (nevidljivi prihvat). Profil se završno obrađuje plastificiranjem u boju RAL 7044.
B49: Voditi računa o propisnom sidrenju i statici (propisano bočno opterećenje). Ukupna visina ograde od gotovog poda 100cm. Statičku provjeru ograde daje izvođač. Ista mora izdržati horizontalno opterećenje od min. 700 N/m. Obračun po m' ograde.
B50: staklena ograda S02 - ispred stubišta dvorane
B51: - vidi izvedbeni projekt - list br. 2.5.6.6.
B52: m' | C52: 5.2 | E52: =IF((D52>0),SUM(C52*D52),"kn") -> kn
B53: staklena ograda S03 - pored dizala
B54: - vidi izvedbeni projekt - list br. 2.5.6.7.
B55: m' | C55: 2 | E55: =IF((D55>0),SUM(C55*D55),"kn") -> kn
B56: staklena ograda S05 - hodnik 1. kata (drveni rukohvat)
B57: - vidi izvedbeni projekt - list br. 2.5.6.9.
B58: m' | C58: 12 | E58: =IF((D58>0),SUM(C58*D58),"kn") -> kn
B59: staklena ograda S06 - hodnik 1. kata (drveni rukohvat)
B60: - vidi izvedbeni projekt - list br. 2.5.6.10.
B61: m' | C61: 5.2 | E61: =IF((D61>0),SUM(C61*D61),"kn") -> kn
...

Sheet 3-Okoliš 
A1: BR. | B1: OPIS STAVKE JED.MJERA | C1: KOLIČINA | D1: JED. CIJENA bez PDV-a | E1: UKUPNA CIJENA bez PDV-a
A3: 3 | B3: RADOVI UREĐENJA OKOLIŠA - TRG, PREDTRG, ŠETNICA UZ ZAPADNI DIO GRAĐEVINE (PJEŠAČKE POVRŠINE)
A5: 3.1. | B5: PRIPREMNI I ZEMLJANI RADOVI
B6: OPĆI UVJETI
B7: Sukladno geotehničkom elaboratu za potrebe uređenja temeljnog tla za manje zidove, okoliš, promete i pješačke površine dane su slijedeće preporuke: - Na području zahvata potrebno je izvesti zamjenu materijala u debljini od najmanje 0,50 m (humusni i površinski materijal). - Iskop postojećeg materijala vrši se zbog podložnosti ciklusima smrzavanja i odmrzavanja te ga je potrebno ukloniti. - Nakon iskopa potrebno je izravnati posteljicu za ugradnju kamenog materijala te izvesti zbijanje - Na dno iskopa je potrebno postaviti netkani geotekstil. Polaganjem geotekstila dolazi do odvajanja slojeva materijala bitno različitih karakteristika (granulometrijskog sastava kao i svojstava koja proizlaze iz toga) pri čemu se osigurava minimalna vodopropusnost kao i mehanizam filtriranja kojim se ograničava ispiranje sitnozrnatog materijala pri prolazu vode iz temeljnog tla u sloj od kamenog materijala. - Nakon polaganja geotekstila potrebno je ugraditi tampon od mehanički stabiliziranog drobljenog kamena granulacije 0-63 mm u dva sloja od 25,0 cm sa zbijanjem. Tampon se ugrađuje strojno te valja vibracijskim sredstvima - Zbijanjem tampona je potrebno postići minimalan modul stišljivosti od Ms=60,0 MN/m2 mjeren kružnom pločom Ø30 cm
B8: U cijeni svakog rada uključena sva potrebna sredstva za rad, režijski troškovi najma alata i prijevoznih sredstava, radne skele, sredstva za osiguranje ljudi, radnih sredstava i samog gradilišta. Pri izvođenju zatrpavanja po izvođenju temelja, materijal koji se koristi za zatrpavanje, obvezatno se nasipava u slojevima max debljine do 30 cm, uz zbijanje svakog sloja do statičkim proračunom ili troškovničkom stavkom predviđene zbijenosti. Zbijenost slojeva koji se zbijaju kontrolirati metodom kružne ploće. Obračun količina iskopa i nasipa u ovom troškovniku vršen je za sve zemljane i šljunčane materijale u sraslom (odn., zbijenom) stanju, ukoliko u pripadajučoj stavki-opisu rada nije izrijekom predviđeno drugačije.
B9: Izvođač radova je dužan izvršiti predradnje, pomoćne radnje te dobaviti i upotrijebiti pomoćne materijale i opremu kako bi se osigurala projektirana funkcionalnost i estetika građevine. Izvođač je dužan izraditi plan upravljanja otpadom i sav otpad zbrinuti prema važećim propisima. Izvođač radova se mora pridržavati važećih propisa zaštite na radu.
B10: U jediničnu cijenu stavki obavezno uključiti sve utovare i odvoze na deponiju predviđenu za tu namjenu sukladno zakonskim propisima bez obzira na udaljenost, sva potrebna razupiranja, osiguranja iskopa od urušavanja, crpljenja vode, deponiranja materijala na gradilišnu deponiju, koeficijente rastresitosti (svi obračuni vršiti će se u sraslom stanju), takse za deponij, nabave i dopreme materijala, razastiranja, zbijanja, valjanja i slično i sve ostale osnovne i pomoćne radove i materijale do potpune funkcionalne gotovosti pojedine stavke - ako opisom stavke nije drugačije određeno. Nakon iskopa terena za temelje a prije izvedbe temelja obavezno izvršiti pregled iskopa od strane geomehaničara što se posebno ne obračunava a podaci o pregledu unose se u građevinski dnevnik.
B11: Tijekom izvođenja radova na iskopu građevine potrebna je stalna prisutnost nadzornog inženjera, čije je obaveza da u cjelosti osigura izvedbu sukladno sa smjernicama općih uvjeta i projekta.Izvođač je dužan u cijenama stavaka uključiti sva potrebna kontrolna ispitivanja kojima je dužan dokazati kvalitetu izvedenih radova sukladno svim uvjetima iz projektne dokumentacije.Izvođač je dužan ugovoriti uslugu ovlaštenog geomehaničara te cijenu uračunati u jedinične cijene stavaka.
B12: Iskope, nasipe i temeljenje izvesti sukladno stavkama troškovnika i nacrtima i opisima unutar izvedbenih projekata.
A13: 3.1.1. | B13: UREĐENJE TEMELJNOG TLA MEHANIČKIM ZBIJANJEM
B14: Uređenje temeljnog tla mehaničkim zbijanjem - obuhvat zahvata: - predtrg, trg, pješačka staza uz zapadni dio građevine, ispod temelja potpornih zidova Rad obuhvaća prethodno čišćenje i planiranje, postizanje optimalne vlažnosti, vlaženjem ili rahljenjem i sušenjem, izravnavanje površine tla i zbijanje odgovarajućim sredstvima do tražene zbijenosti te sav rad, materijal i opremu koji su potrebni za potpuno dovršenje uključujući i ispitivanje i kontrolu kakvoće. Temeljno tlo treba zbiti tako da se postigne stupanj zbijenosti u odnosu na standardni Proctorov postupak min Sz ≥ 97%, odnosno modul stišljivosti metodom kružne ploče promjera 30 cm min Ms = 20 MN/m2. Obračun se vrši po m2 stvarno uređenog temeljnog tla.
B15: m2 | C15: 3293 | E15: =IF((D15>0),SUM(C15*D15),"kn") -> kn
B16: predtrg
B17: m2 | C17: 760 | E17: =IF((D17>0),SUM(C17*D17),"kn") -> kn
A18: 3.1.2. | B18: POSTAVA GEOTEKSTILA
B19: Uređenje slabonosivog temeljnog tla geotekstilom - obuhvat zahvata: predtrg, trg, pješačka staza uz zapadni dio građevine, ispod temelja potpornih zidova Rad obuhvaća nabavu, dopremu i ugradnju separacijskog geotekstila za odvajanje temeljnog tla i nosivog sloja od mehanički stabiliziranog zrnatog kamenog materijala. Jediničnom cijenom obuhvaćena je dobava materijala, svi radovi i prijevoz potrebni za ugradnju geoteksila. Karakteristike geotekstila: - masa: 300 g - vlačna čvrstoća min. 21 kN/m - vlačno istezanje >55% - otpornost na CBR proboj min. 3,5 kN - test dinamičkog proboja max. 10 mm - preklop 50 cm Obračun se vrši po m2 ugrađenog geoteksila.
B20: m2 | C20: 3293 | E20: =IF((D20>0),SUM(C20*D20),"kn") -> kn
B21: predtrg
B22: m2 | C22: 760 | E22: =IF((D22>0),SUM(C22*D22),"kn") -> kn
A23: 3.1.3. | B23: IZRADA NASIPA OD KAMENOG MATERIJALA
B24: Izrada nasipa (nosivog sloja) od mehanički stabiliziranog zrnatog kamenog materijala u debljini od d = 50 cm (dva sloja od po 25cm) - obuhvat zahvata: predtrg, trg, pješačka staza uz zapadni dio građevine, ispod temelja potpornih zidova Rad obuhvaća nabavu, dopremu i ugradnju zrnatog kamenog materijala 0/63 mm. U poprečnom smislu nasip uvijek mora imati pad od 4%. Svaki sloj mora se zbiti u punoj širini odgovarajućim sredstvima za zbijanje. Nasip treba zbiti tako da se postigne stupanj zbijenosti u odnosu na standardni Proctorov postupak min Sz ≥ 100%, odnosno modul stišljivosti metodom kružne ploče promjera 30 cm min Ms = 60 MN/m2. Izvedbu vremenski uskladiti s postavom mreže odvodnje i ostalih instalacijskih vodova. Jediničnom cijenom obuhvaćena je dobava materijala, svi radovi i prijevoz potrebni za izradu nasipa (nosivog sloja). Obračun se vrši po m3 ugrađenog i zbijenog nasipa.
B25: m3 | C25: 1785 | E25: =IF((D25>0),SUM(C25*D25),"kn") -> kn
B26: predtrg
B27: m3 | C27: 380 | E27: =IF((D27>0),SUM(C27*D27),"kn") -> kn
A28: 3.1.4. | B28: IZRADA NASIPA OD MIJEŠANOG MATERIJALA
B29: Izrada nasipa od miješanog materijala.Obuhvat zahvata: površine višeg nasipa, zapadni dio prema potpornim zidovima i ispod zelenila. NASIP SE IZVODI ODMAH NA POČETKU IZVOĐENJA RADOVA (potrebno je vrijeme da se isti stabilizira - faza izvođenja radova izvedbe građevine). Rad obuhvaća nabavu, dopremu i ugradnju mješanog materijala. Granulacija materijala treba biti takva da koeficijent nejednolikosti materijala U=d60/d10 bude veći od 9. Nasipni materijal ne smije se ugraditi na smrznutu podlogu. Isto tako, u nasip se ne smije ugrađivati snijeg, led ili smrznuti materijal. Maksimalna veličina zrna smije biti jednaka najviše polovici debljine sloja odnosno maksimalno 150,0 mm. Nasipni materijal nanosi se na uređeno temeljno tlo ili na već izrađeni sloj nasipa tek nakon što nadzorni inženjer preuzme temeljno tlo ili sloj već izrađenog nasipa. Kriteriji za ocjenu kakvoće ugrađenog materijala u slojeve nasipa navedeni su u građevinskom projektu temeljenja. Obračun po m³ ugrađenog i zbijenog materijala.
B30: m3 | C30: 2152 | E30: =IF((D30>0),SUM(C30*D30),"kn") -> kn
A31: 3.1.5. | B31: IZRADA NASIPA OD KAMENOG MATERIJALA
B32: Izrada nasipa od miješanog kamenog materijala. Obuhvat zahvata: - zatrpavanje uz potporne zidove uz zapadnu strane parcele NASIP SE IZVODI NAKON IZVEDBE OBJEKTA - u fazi izvedbe uređenja okoliša. Rad obuhvaća nabavu, dopremu i ugradnju kamenog materijala granulacije Ø0-63 mm. Rad obuhvaća nasipavnje, razastiranje, prema potrebi vlaženje ili sušenje, te planiranje materijala u nasipu prema dimenzijama i nagibima danim u projektu. U nasipu je potrebno koristiti kameni materijal iz iskopa. U poprečnom smislu nasip uvijek mora imati pad od 4%. Svaki sloj mora se zbiti u punoj širini odgovarajućim sredstvima za zbijanje. Obračun se vrši po m3 ugrađenog i zbijenog nasipa.
B33: m3 | C33: 474 | E33: =IF((D33>0),SUM(C33*D33),"kn") -> kn
A34: 3.1.6. | B34: IZRADA NOSIVOG SLOJA ISPOD POPLOČENJA PREF. AB PLOČAMA
B35: Izrada gornjeg nosivog sloja od mehanički stabiliziranog zrnatog kamenog materijala u debljini od d = 10-15 cm - obuhvat zahvata: pješačke površine - dio trga i ispod pješačke staze uz zapadni dio građevine (na kojima se nakon uređenja temeljnog tla izrađuje nasip od mješanog materijala) Rad obuhvaća nabavu, prijevoz i ugradnju zrnatog kamenog materijala 0/32 mm za potrebe izrade gornjeg nosivog sloja pješačkih površina koje se popločuju prefabricirnaim ab pločama i kockama. Modul stišljivosti Ms mjeren kružnom pločom promjera 30 cm treba biti minimalno 80 MN/m2. Stupanj zbijenosti Sz u odnosu na modificirani Proctor je min 100%. Jediničnom cijenom obuhvaćena je dobava materijala, svi radovi i prijevoz potrebni za izradu gornjeg nosivog sloja. Stavka obuhvaća sva ispitivanja zbijenosti zemljanih radova prema zahtjevima iz projekta i obaveza je izvođača radova. Obračun se vrši po m³ ugrađenog materijala u zbijenom stanju.
B36: m3 | C36: 210 | E36: =IF((D36>0),SUM(C36*D36),"kn") -> kn
A38: =A5 -> 3.1. | B38: UKUPNO PRIPREMNI I ZEMLJANI RADOVI | E38: =SUM(E15:E36) -> 0
A40: 3.2. | B40: ARMIRANO - BETONSKI RADOVI
B41: OPĆI UVJETI
B42: BETON / CEMENT / AGREGAT
B43: Čvrstoća betona određuje se razredom tlačne čvrstoće. Izvođač se mora strogo pridržavati razreda tlačne čvrstoće za pojedine konstrukcije prema statičkom proračunu.
B44: Beton spravljati isključivo strojnim putem. Beton se mora proizvoditi od prethodno ispitanih i tijekom vremena kontroliranih osnovnih materijala, u pogonima za proizvodnju betona, koji su funkcionalno projektirani, prethodno ispitani i kontrolirani u toku rada. Sastav betona mora biti projektiran računski i provjeren eksperimentalno u skladu sa postojećim tehničkim propisima i važećim standardima. Svojstva osnovnih materijala i ugrađenog betona moraju se dokazati laboratorijskim ispitivanjima koje će obaviti Izvođač radova putem organizacije registrirane za tu djelatnosti.
...

Sheet 4.Elektroinstalacije
A1: BR. | B1: OPIS STAVKE JED.MJERA | C1: KOLIČINA | D1: JED. CIJENA bez PDV-a | E1: UKUPNA CIJENA bez PDV-a
A3: 4 | B3: ELEKTROTEHNIČKI RADOVI
B5: OPĆI PROJEKTNI UVJETI
B6: Sve radove potrebno je izvesti u potpunosti prema projektu, troškovniku, svim važećim tehničkim propisima, normama, uputama proizvođača opreme i pravilima struke. Dinamika izvođenja radova mora se prilagoditi roku za završetak radova.
B7: U jediničnim cijenama svih stavki troškovnika, prilikom izrade ponude moraju biti obuhvaćeni ukupni troškovi materijala, opreme i rada za potpuno dovršenje cjelokupnog posla uključujući: nabavu i transport na gradilište, spajanje i montažu opreme prema priloženoj tehničkoj dokumentaciji s ugradnjom kvalitetnog elektroinstalacijskog materijala pomoću kvalificirane i stručne radne snage u skladu s važećim tehničkim propisima i pravilima struke, izradu prateće radioničke dokumentacije, građevinsku pripomoć u vidu izrade i zatvaranja šliceva za polaganje kabela, izrade niša s ugradnjom i obzidavanjem razvodnih ploča i svih ostalih građevinskih radova koji se odnose na elektroinstalaterske radove, izuzev ako je to izričito stavkom troškovnika traženo i nuđeno, puštanje sustava u rad, kao i ostali radovi koji nisu posebno iskazani specifikacijama, a potrebni su za potpunu i urednu izvedbu projektiranih instalacija, njihovu funkcionalnost, pogonsku gotovost i primopredaju korisniku (uputstva za rukovanje, izrada natpisnih pločica, pribavljanje potrebne dokumentacije za tehnički pregled i sl.), prateća čišćenja prostora tijekom izvođenja radova, svi potrebni prijenosi, utovari i istovari, uskladištenje i čuvanje.
B8: Svi radovi moraju se izvoditi sa stručno osposobljenom radnom snagom za svaku vrstu radova.
B9: U slučaju da izvođač radova izvede pojedine radove čiji kvalitet ne zadovoljava kvalitet predviđen projektom, dužan je o svom trošku iste radove ukloniti i ponovno izvesti onako kako je predviđeno projektom.
B10: Svu štetu koju Izvođač nanese nemarom okolnim prostorima, zgradama, predmetima, infrastrukturi i okolišu, dužan je popraviti i dovesti u prvobitno stanje i to o svom trošku. Izvođač je odgovoran za izvedene radove do primopredaje radova i u slučaju bilo kakve štete ili kvara dužan je o svom trošku to otkloniti.
B11: Izvođači su dužni prije podnošenja ponude temeljito pregledati projektnu dokumentaciju i procijeniti sve činjenice koje utječu na cijenu, kvalitetu i rok završetka radova, budući se naknadni prigovori i zahtjevi za povećanje cijene radi nepoznavanja ili nedovoljnog poznavanja građevine i projektne dokumentacije neće razmatrati.
B12: Prije početka radova izvođač radova dužan je u skladu s važećim propisima označiti i osigurati gradilište.
B13: Sve stavke troškovnika moraju su količinski kontrolirati prije narudžbe.
B14: Dopuštena odstupanja tehničkih karakteristika ponuđenih proizvoda u odnosu na tehničke podatke u troškovniku iznose maksimalno 5%. Odnosi se na sve stavke troškovnika, za sve navedene parametre.
B15: ELEKTROINSTALACIJA
B17: Kod podžbuknog polaganja kabela stavkama je obuhvaćeno dubljenje žlijeba i otvora za razvodne kutije u zidu, zatvaranje otvora, proboj zidova i ostala građevinska pripomoć.
... B29: U istu kutiju ne smiju se postavljati elementi instalacija jake i slabe struje.
A31: 4.1. | B31: ENERGETSKI PRIKLJUČAK I GLAVNI RAZVOD
A33: 4.1.1. | B33: Svi potrebni kontakti s nadležnim službama HEP-a, prijava instalacije, ormarić za gradilišni priključak, ishodovanje dokumentacije za gradilišni priključak.Izrada gradilišnog priključka nije predmet nuđenja i ugovara se nakon dogovora s HEP-om o mjestu priključenja i načinu izvedbe priključka.
B34: komplet | C34: 1 | E34: =IF((D34>0),SUM(C34*D34),"kn") -> kn
A35: 4.1.2. | B35: Glavna razvodna ploča - razdjelnik oznake GRP. Sastavljena je od tipskih polja u zaštiti IP55, ukupnih dimenzija 4700x2000x400mm. GRP je sastavljena od slijedećih elemenata:
B36: POLJE 1 - PRIKLJUČNO POLJE * ormar samostojeće izvedbe dimenzija 800x2000x400mm s postoljem visine 100mm i vratima, stupanj zaštite IP55 - kom 1 * tropolni niskonaponski prekidač 800A , 50kA opremljen elektronskom zaštitnom jedinicom 320-1600A i okidačem za daljinski isklop - kom 1 * multimetar za direktno kabelsko spajanje na glavni prekidač- kom 1 * tropolni niskonaponski prekidač 160A , 50kA opremljen termo magnetskom jedinicom TM100 - kom 2 * strujni mjerni transformator 500/5A - kom 1 * prenaponska zaštita klase I/B, 50kA, 3p - kom 1 * automatski prekidač C40A, 1p, 20kA kom 3 * rastalni osigurač tip STI 25/4A, 1p- kom 1 * sabirnice N i PE
B37: POLJE 2 - RAZVODNO POLJE MREŽE 1 * ormar samostojeće izvedbe dimenzija 800x2000x400mm s postoljem visine 100mm i vratima, stupanj zaštite IP55 - kom 1 * tropolni niskonaponski prekidač 400A , 36kA opremljen elektronskom zaštitnom jedinicom 160-400A- kom 1 * tropolni niskonaponski prekidač 100A , 25kA opremljen termo magnetskom jedinicom TM100- kom 4 * tropolni niskonaponski prekidač 100A , 25kA opremljen termo magnetskom jedinicom TM80- kom 3 * tropolni niskonaponski prekidač 100A , 25kA opremljen termo magnetskom jedinicom TM50 - kom 1 * sabirnice N i PE * kabelsko polje širine 300mm s postoljem za montažu između polja 2 i 3 - kom 1
B38: POLJE 3 - RAZVODNO POLJE MREŽE 2 * ormar samostojeće izvedbe dimenzija 800x2000x400mm s postoljem visine 100mm i vratima, stupanj zaštite IP55- kom 1 * tropolni niskonaponski prekidač 400A , 36kA opremljen elektronskom zaštitnom jedinicom 160-400A - kom 1 * tropolni niskonaponski prekidač 100A , 25kA opremljen termo magnetskom jedinicom TM100 - kom 3 * tropolni niskonaponski prekidač 100A , 25kA opremljen termo magnetskom jedinicom TM63 - kom 3 * sabirnice N i PE
B39: POLJE 4 - KOMPENZACIJA JALOVE ENERGIJE * ormar samostojeće izvedbe dimenzija 600x2000x400mm s postoljem visine 100mm i vratima, stupanj zaštite IP55 - kom 1 * Uređaj za automatsku kompenzaciju jalove energije snage 100kVAr, 2x25+2x50 kVAr, komplet s podešavanjem, spajanjem i puštanjem u rad.
B40: POLJE 5 - POLJE VLASTITE POTROŠNJE - GRP-VP * ormar samostojeće izvedbe dimenzija 800x2000x400mm s postoljem visine 100mm i vratima, stupanj zaštite IP55 - kom 1 * rastavna sklopka 0-1, 100A, 3p - kom 1 * prenaponska zaštita 20kA, 1p - kom 4 * automatski prekidač C20A, 1p, 10kA - kom 4 * trofazni relej za nadzor faza s podesivim naponskim područjem- kom 1 * instalacijski sklopnik 20A, 230V, 2NO - kom 3 * pomoćni sklopnik 10A, 230V, 1NO+1NC - kom 3 * izborna preklopka 1-0-2, 20A, 2p - kom 3 * prekidač s diferencijalnom zaštitom B32A / 30mA, 4p - kom 1 * prekidač s diferencijalnom zaštitom C16A / 30mA, 2p - kom 1 * prekidač s diferencijalnom zaštitom B16A / 30mA, 2p - kom 15 * prekidač s diferencijalnom zaštitom C10A / 30mA, 2p - kom 3 * prekidač s diferencijalnom zaštitom B10A / 30mA, 2p - kom 8 * prekidač s diferencijalnom zaštitom B6A / 30mA, 2p - kom 1 * automatski prekidač B4A, 1p, 10kA - kom 3 * automatski prekidač B6A, 1p, 10kA - kom 6 * automatski prekidač B6A, 3p, 10kA - kom 1 * automatski prekidač C16A, 1p, 10kA - kom 4 * automatski prekidač C10A, 1p, 10kA - kom 12 * sabirnice, stezaljke, natpisne pločice i ožičenje
B41: POLJE 6 - SIGURNOSNI ORMAR * ormar samostojeće izvedbe dimenzija 600x2000x400mm s postoljem visine 100mm i vratima, stupanj zaštite IP55 - kom 1 * sustav za izmjenu napajanja sastavljen od dva niskonaponska kompaktna zaštitna prekidača 160A, 4p s IVE, ACP, UA kontrolerom, motornim pogonom, pomoćnim kontaktima, fiksne izvedbe, u mehaničkoj i električkoj blokadi, sve do potpune funkcije sustava - kom 1 * teretna sklopka 160A, 3p - kom 1 * tropolna osiguračka pruga 160A s NH ulošcima osigurača - kom 4 * sabirnice N i PE * u ormar se smještaju osigurači za napajanje vlastite potrošnje agregata koje isporučuje i spaja isporučitelj agregata za rezervno napajanje * vrata ormara moraju biti obojana u crvenu boju * između polja 5 i 6 postavlja se čelični lim za požarno odvajanje * ulazi kabela u ormar moraju biti protupožarno brtvljeni * na vrata ormara postaviti natpis - "napajanje sigurnosnih potrošača - isključenje napajanja može izvršiti samo ovlaštena osoba"
B42: sva potrebna montažna i spojna oprema za ugradnju specificirane opreme u ormare do pune funkcionalnosti, sabirnice, igličaste sabirnice, redne stezaljke, sabirnice N i PE, spojni vodovi, plastične kanalice, natpisne pločice, kompletan spojni i montažni pribor, izrada tropolne i struje sheme prema jednopolnoj shemi iz projekta, izrada radioničke dokumentacije izjave u sukladnosti i sva potrebna dokumentacija za tehnički pregled građevine
B43: komplet | C43: 1 | E43: =IF((D43>0),SUM(C43*D43),"kn") -> kn
A44: 4.1.3. | B44: Razvodna ploča oznake RP-SUT1 - suteren. Ploča je samostojeće izvedbe dimenzija 1200x2000x400mm. Izrađena od lima, komplet s postoljem visine 100mm, vratima i bravom. U ploču je ugrađena slijedeća oprema: * rastavna sklopka 0-1, 160A, 3p - kom 1 * prenaponska zaštita 20kA, 1p - kom 4 * automatski prekidač C20A, 1p, 10kA- kom 4 * trofazni relej za nadzor faza s podesivim naponskim područjem - kom 1 * pomoćni sklopnik 10A, 230V, 1NO+1NC - kom 1 * preklopka 0-1, 20A, 1p - kom 1 * signalna lampica zelena 230V - kom 2 * signalna lampica crvena 230V - kom 2 * transformator 230/24V, 63VA - kom 1 * prekidač s diferencijalnom zaštitom C16A / 300mA, 4p - kom 13 * prekidač s diferencijalnom zaštitom B16A / 30mA, 2p - kom 25 * prekidač s diferencijalnom zaštitom C10A / 30mA, 2p - kom 5 * prekidač s diferencijalnom zaštitom B10A / 30mA, 2p - kom 25 * prekidač s diferencijalnom zaštitom B6A / 30mA, 2p - kom 1 * automatski prekidač B4A, 1p, 10kA - kom 2 * automatski prekidač B6A, 1p, 10kA - kom 3 * automatski prekidač B6A, 2p, 10kA - kom 3 * automatski prekidač B6A, 3p, 10kA - kom 1 * automatski prekidač C10A, 1p, 10kA - kom 1 * sabirnice, stezaljke, natpisne pločice i ožičenje
B45: komplet | C45: 1 | E45: =IF((D45>0),SUM(C45*D45),"kn") -> kn
A46: 4.1.4. | B46: Razvodna ploča oznake RP-P1 - prizemlje. Ploča je samostojeće izvedbe dimenzija 1200x2000x400mm. Izrađena od lima, komplet s postoljem visine 100mm, vratima i bravom. U ploču je ugrađena slijedeća oprema: * rastavna sklopka 0-1, 100A, 3p - kom 1 * prenaponska zaštita 20kA, 1p - kom 4 * automatski prekidač C20A, 1p, 10kA - kom 4 * trofazni relej za nadzor faza s podesivim naponskim područjem - kom 1 * prekidač s diferencijalnom zaštitom B16A / 30mA, 2p - kom 15 * prekidač s diferencijalnom zaštitom C10A / 30mA, 2p - kom 2 * prekidač s diferencijalnom zaštitom B10A / 30mA, 2p - kom 20 * prekidač s diferencijalnom zaštitom B6A / 30mA, 2p - kom 3 * automatski prekidač B6A, 1p, 10kA - kom 3 * automatski prekidač B6A, 3p, 10kA - kom 1 * sabirnice, stezaljke, natpisne pločice i ožičenje
B47: komplet | C47: 1 | E47: =IF((D47>0),SUM(C47*D47),"kn") -> kn
A48: 4.1.5. | B48: Razvodna ploča oznake RP-P2 - prizemlje. Ploča je samostojeće izvedbe dimenzija 1200x2000x400mm. Izrađena od lima, komplet s postoljem visine 100mm, vratima i bravom. U ploču je ugrađena slijedeća oprema: * rastavna sklopka 0-1, 100A, 3p - kom 1 * prenaponska zaštita 20kA, 1p - kom 4 * automatski prekidač C20A, 1p, 10kA - kom 4 * trofazni relej za nadzor faza s podesivim naponskim područjem - kom 1 * prekidač s diferencijalnom zaštitom B16A / 30mA, 2p - kom 20 * prekidač s diferencijalnom zaštitom C10A / 30mA, 2p - kom 6 * prekidač s diferencijalnom zaštitom B10A / 30mA, 2p - kom 20 * prekidač s diferencijalnom zaštitom B6A / 30mA, 2p - kom 2 * automatski prekidač B6A, 1p, 10kA - kom 4 * automatski prekidač B6A, 3p, 10kA - kom 1 * sabirnice, stezaljke, natpisne pločice i ožičenje
B49: komplet | C49: 1 | E49: =IF((D49>0),SUM(C49*D49),"kn") -> kn
A50: 4.1.6. | B50: Razvodna ploča oznake RP-P3 - prizemlje. Ploča je samostojeće izvedbe dimenzija 600x2000x300mm. Izrađena od lima, komplet s postoljem visine 100mm, vratima i bravom. U ploču je ugrađena slijedeća oprema: * rastavna sklopka 0-1, 63A, 3p - kom 1 * prenaponska zaštita 20kA, 1p - kom 4 * automatski prekidač C20A, 1p, 10kA - kom 4 * trofazni relej za nadzor faza s podesivim naponskim područjem - kom 1 * prekidač s diferencijalnom zaštitom B16A / 30mA, 2p - kom 6 * prekidač s diferencijalnom zaštitom C10A / 30mA, 2p - kom 1 * prekidač s diferencijalnom zaštitom B10A / 30mA, 2p - kom 6 * prekidač s diferencijalnom zaštitom B6A / 30mA, 2p - kom 1 * automatski prekidač B6A, 1p, 10kA - kom 2 * automatski prekidač B6A, 3p, 10kA - kom 1 * sabirnice, stezaljke, natpisne pločice i ožičenje
B51: komplet | C51: 1 | E51: =IF((D51>0),SUM(C51*D51),"kn") -> kn
A52: 4.1.7. | B52: Razvodna ploča oznake RP-K1 - kat. Ploča je samostojeće izvedbe dimenzija 1200x2000x400mm. Izrađena od lima, komplet s postoljem visine 100mm, vratima i bravom. U ploču je ugrađena slijedeća oprema: * rastavna sklopka 0-1, 160A, 3p - kom 1 * prenaponska zaštita 20kA, 1p - kom 4 * automatski prekidač C20A, 1p, 10kA - kom 4 * trofazni relej za nadzor faza s podesivim naponskim područjem - kom 1 * prekidač s diferencijalnom zaštitom B16A / 30mA, 2p - kom 20 * prekidač s diferencijalnom zaštitom C10A / 30mA, 2p - kom 6 * prekidač s diferencijalnom zaštitom B10A / 30mA, 2p - kom 27 * prekidač s diferencijalnom zaštitom B6A / 30mA, 2p - kom 3 * automatski prekidač B6A, 1p, 10kA - kom 2 * automatski prekidač B6A, 3p, 10kA - kom 1 * sabirnice, stezaljke, natpisne pločice i ožičenje
B53: komplet | C53: 1 | E53: =IF((D53>0),SUM(C53*D53),"kn") -> kn
A54: 4.1.8. | B54: Razvodna ploča oznake RP-K2 - kat. Ploča je samostojeće izvedbe dimenzija 1200x2000x400mm. Izrađena od lima, komplet s postoljem visine 100mm, vratima i bravom. U ploču je ugrađena slijedeća oprema: * rastavna sklopka 0-1, 160A, 3p - kom 1 * prenaponska zaštita 20kA, 1p - kom 4 * automatski prekidač C20A, 1p, 10kA - kom 4 * trofazni relej za nadzor faza s podesivim naponskim područjem - kom 1 * prekidač s diferencijalnom zaštitom B16A / 30mA, 2p - kom 40 * prekidač s diferencijalnom zaštitom C10A / 30mA, 2p - kom 6 * prekidač s diferencijalnom zaštitom B10A / 30mA, 2p - kom 30 * prekidač s diferencijalnom zaštitom B6A / 30mA, 2p - kom 1 * automatski prekidač B6A, 1p, 10kA - kom 4 * automatski prekidač B6A, 3p, 10kA - kom 1 * sabirnice, stezaljke, natpisne pločice i ožičenje
B55: komplet | C55: 1 | E55: =IF((D55>0),SUM(C55*D55),"kn") -> kn
A56: 4.1.9. | B56: Razvodna ploča oznake RP-VENT - ventilacija krov. Samostojeće izvedbe IP65, dimenzija 1000x1250x320mm, komplet s tipskim podnožjem ili tipskim temeljem, vratima i bravom. U ormar su ugrađeni slijedeći elementi: * teretna sklopka 0-1 100A, 3p - kom 1 * instalacijski sklopnik 20A, 230V, 2NO - kom 7 * pomoćni sklopnik 10A, 230V, 1NO+1NC - kom 8 * izborna preklopka 1-0-2, 20A, 2p - kom 7 * preklopka 0-1, 20A, 1p - kom 2 * signalna lampica zelena 230V - kom 14 * signalna lampica crvena 230V - kom 14 * transformator 230/24V, 63VA - kom 1 * kombinirani zaštitni prekidač B40A/30mA, 4p - kom 1 * priključnica 16A, 230V, IP55 - montirana u ormaru - kom 3 * priključnica 32A, 400V, IP55 industrijska - bočno na ormaru - kom 1 * automatski prekidač B32A, 3p - kom 1 * automatski prekidač C25A, 3p - kom 3 * automatski prekidač C20A, 3p - kom 4 * automatski prekidač C10A, 1p - kom 10 * automatski prekidač B6A, 1p - kom 3 * automatski prekidač B4A, 1p - kom 24 * temostat-higrostat - kom 1 * grijač snage 100W - kom 1 * ventilator vanjski IP54 (230x230 mm) - kom 1 * zaštitna rešetka za ventilator IP65 (230x230 mm) - kom 1 * zaštitna rešetka za ulaz zraka (230x230 mm)- kom 1 * prostor za montažu opreme za upravljanje * sabirnice, stezaljke, natpisne pločice i ožičenje
...

Sheet 5. Sustav za dojavu požara
A1: BR. | B1: OPIS STAVKE JED.MJERA | C1: KOLIČINA | D1: JED. CIJENA bez PDV-a | E1: UKUPNA CIJENA bez PDV-a
A3: 5 | B3: SUSTAV ZA DOJAVU POŽARA
B5: OPĆI PROJEKTNI UVJETI
B6: Sve radove potrebno je izvesti u potpunosti prema projektu, troškovniku, svim važećim tehničkim propisima, normama, uputama proizvođača opreme i pravilima struke. Dinamika izvođenja radova mora se prilagoditi roku za završetak radova.
B7: 'U jediničnim cijenama svih stavki troškovnika, prilikom izrade ponude moraju biti obuhvaćeni ukupni troškovi materijala, opreme i rada za potpuno dovršenje cjelokupnog posla uključujući: nabavu i transport na gradilište, spajanje i montažu opreme prema priloženoj tehničkoj dokumentaciji s ugradnjom kvalitetnog elektroinstalacijskog materijala pomoću kvalificirane i stručne radne snage u skladu s važećim tehničkim propisima i pravilima struke, izradu prateće radioničke dokumentacije, građevinsku pripomoć u vidu izrade i zatvaranja šliceva za polaganje kabela, izrade niša s ugradnjom i obzidavanjem razvodnih ploča i svih ostalih građevinskih radova koji se odnose na elektroinstalaterske radove, izuzev ako je to izričito stavkom troškovnika traženo i nuđeno, puštanje sustava u rad, kao i ostali radovi koji nisu posebno iskazani specifikacijama, a potrebni su za potpunu i urednu izvedbu projektiranih instalacija, njihovu funkcionalnost, pogonsku gotovost i primopredaju korisniku (uputstva za rukovanje, izrada natpisnih pločica, pribavljanje potrebne dokumentacije za tehnički pregled i sl.), prateća čišćenja prostora tijekom izvođenja radova, svi potrebni prijenosi, utovari i istovari, uskladištenje i čuvanje.
B8: U slučaju da izvođač radova izvede pojedine radove čiji kvalitet ne zadovoljava kvalitet predviđen projektom, dužan je o svom trošku iste radove ukloniti i ponovno izvesti onako kako je predviđeno projektom.
B9: Svu štetu koju izvođač nanese nemarom okolnim prostorima, zgradama, predmetima, infrastrukturi i okolišu, dužan je popraviti i dovesti u prvobitno stanje i to o svom trošku. Izvođač je odgovoran za izvedene radove do primopredaje radova i u slučaju bilo kakve štete ili kvara dužan je o svom trošku to otkloniti.
B10: Izvođači su dužni prije podnošenja ponude temeljito pregledati projektnu dokumentaciju i procijeniti sve činjenice koje utječu na cijenu, kvalitetu i rok završetka radova, budući se naknadni prigovori i zahtjevi za povećanje cijene radi nepoznavanja ili nedovoljnog poznavanja građevine i projektne dokumentacije neće razmatrati.
B11: Prije početka radova izvođač radova dužan je u skladu s važećim propisima označiti i osigurati gradilište.
B12: Sve stavke troškovnika moraju su količinski kontrolirati prije narudžbe.
B13: Dopuštena odstupanja tehničkih karakteristika ponuđenih proizvoda u odnosu na tehničke podatke u troškovniku iznose maksimalno 5%. Odnosi se na sve stavke troškovnika, za sve navedene parametre.
B15: ELEKTROINSTALACIJA
B17: Kod podžbuknog polaganja kabela stavkama je obuhvaćeno dubljenje žlijeba i otvora za razvodne kutije u zidu, zatvaranje otvora, proboj zidova i ostala građevinska pripomoć.
B18: Kod izvođenja el.instalacije u montažnim pregradnim zidovima i stropovima (gips, drvo,metal) instalaciju izvoditi obavezno u samogasivim savitljivim PVC instalacijskim cijevima, a koristiti posebne montažne i razvodne kutije za montažu u pregrade.
A20: 5.1. | B20: SUSTAV ZA DOJAVU POŽARA
A22: 5.1.1 | B22: Analogno adresabilna vatrodojavna centrala za 4 analogno adresabilne petlje, komplet s akumulatorima 2x17Ah/12V, softwareom i programiranjem. IP komunikator.Vatrootporni ormar otpornosti 60 minuta za smještaj centrale.
B23: komplet | C23: 1 | E23: =IF((D23>0),SUM(C23*D23),"kn") -> kn
A24: 5.1.2. | B24: Izdvojeni signalno upravljački display.
B25: kom | C25: 2 | E25: =IF((D25>0),SUM(C25*D25),"kn") -> kn
A26: 5.1.3. | B26: Optički analogno adresabilni javljač požara, komplet s podnožjem.
B27: kom | C27: 250 | E27: =IF((D27>0),SUM(C27*D27),"kn") -> kn
A28: 5.1.4. | B28: Ručni analogno adresabilni javljač požara.
B29: kom | C29: 25 | E29: =IF((D29>0),SUM(C29*D29),"kn") -> kn
A30: 5.1.5. | B30: Ulazno/izlazni analogno adresabilni modul s kutijom za montažu.
B31: kom | C31: 65 | E31: =IF((D31>0),SUM(C31*D31),"kn") -> kn
A32: 5.1.6. | B32: Paralelni indikator za javljače u spuštenom stropu.
B33: kom | C33: 65 | E33: =IF((D33>0),SUM(C33*D33),"kn") -> kn
A34: 5.1.7. | B34: Vatrodojavna aktivna infracrvena barijera dometa 5-40m s refleksnim zrcalom, motorom za samopodešavanje i dodatnim kontrolerom.
B35: kom | C35: 7 | E35: =IF((D35>0),SUM(C35*D35),"kn") -> kn
A36: 5.1.8. | B36: Zener barijera za spajanje 2 zone u Ex izvedbi na vatrodojavnu centralu.
B37: kom | C37: 1 | E37: =IF((D37>0),SUM(C37*D37),"kn") -> kn
A38: 5.1.9. | B38: Relejni adapter za prijenos stanja zone požarnog sustava u Ex prostoru.
B39: kom | C39: 2 | E39: =IF((D39>0),SUM(C39*D39),"kn") -> kn
A40: 5.1.10. | B40: Optički javljač požara u Ex izvedbi, komplet s podnožjem.
B41: kom | C41: 1 | E41: =IF((D41>0),SUM(C41*D41),"kn") -> kn
A42: 5.1.11. | B42: Ručni javljač požara u Ex izvedbi.
B43: kom | C43: 1 | E43: =IF((D43>0),SUM(C43*D43),"kn") -> kn
A44: 5.1.12. | B44: Dodatno napajanje za IC barijere. IP44, RS232/485, 3 relejna kontakta, baterija 2x12V/24Ah, komplet s kućištem 390x350x140mm.
B45: komplet | C45: 1 | E45: =IF((D45>0),SUM(C45*D45),"kn") -> kn
A46: 5.1.13. | B46: Dobava i polaganje bezhalogenog vatrodojavnog instalacijskog kabela JEB-H(St)H FE180 E30 1x2x0,8, očuvanje funkcije u požaru 30 minuta. Kabel se polaže u PVC i PNT instalacijskim cijevima unutar spuštenog stropa i nadžbukno. U cijenu kabela uključena je PVC ili PNT instalacijska cijev crvene boje.
...

Sheet 6-Strojarske instalacije
A1: BR. | B1: OPIS STAVKE JED.MJERA | C1: KOLIČINA | D1: JED. CIJENA bez PDV-a | E1: UKUPNA CIJENA bez PDV-a
A3: 6 | B3: RADOVI STROJARSKIH INSTALACIJA GRIJANJA, HLAĐENJA I VENTILACIJE
B5: OPĆE NAPOMENE
B6: U jediničnim cijenama svih navedenih stavki specifikacija, prilikom izrade ponude (nuđenje izvedbe instalacija) moraju biti sadržani i obuhvaćeni ukupni troškovi opreme i uređaja, ukupni troškovi materijala i rada za potpuno dovršenje cjelokupnog posla uključujući:
B7: ‒ izradu potrebne prateće radioničke dokumentacije, ‒ prateća ispitivanja (tlačne, funkcionalne probe i sl.) s izradom pismenog izvješća, ‒ puštanje u probni pogon, ‒ podešavanje radnih parametara, ‒ puštanje u funkcijski-trajni rad, ‒ izradu primopredajne dokumentacije, ‒ izradu projekta izvedenog stanja,
B8: kao i ostale radove koji nisu posebno iskazani specifikacijama, a potrebni su za potpunu i urednu izvedbu projektiranih instalacija, njihovu funkcionalnost, pogonsku gotovost i primopredaju korisniku kao npr. uputstva za rukovanje i održavanje, izradu natpisnih pločica i oznaka, pribavljanje potrebne dokumentacije za uporabnu dozvolu i sl.
B9: Izvođači su obvezni prije podnošenja ponude temeljito pregledati projektnu dokumentaciju, te procjeniti relevantne činjenice koje utječu na cijenu, kvalitetu i rok završetka radova.
B10: Prateća čišćenja prostora tijekom izvedbe radova, kao i obuka osoblja korisnika u rukovanju instalacijom do konačne - službene primopredaje investitoru odnosno krajnjem korisniku, moraju biti uključena u ponudbenu cijenu.
B11: U troškovima opreme i uređaja, podrazumijeva se njihova nabavna cijena, transpotrni troškovi, svi potrebni prijenosi, utovari i istovari, uskladištenje i čuvanje, sve fco. montirano, prema projektnoj dokumentaciji, odnosno u skladu s predmetnim općim napomenama.
B12: U troškovima materijala, podrazumijeva se nabavna cijena kako primarnog, tako i kompletnog pomoćnog spojnog - potrošnog materijala, uključivo sa svim potrebnim prijenosima, utovarima i istovarima, uskladištenjem i čuvanjem.
B13: Za sve izvedene radove, ugrađene materijale i opremu, potrebno je u skladu s propisima pribaviti dokaze o kakvoći (atestna dokumentacija i sl.), koji se bez posebne naknade daju na uvid nadzornom inženjeru, a prilikom primopredaje građevine uručuju investitoru, odnosno krajnjem korisniku.
B14: U ponudbenim cijenama mora biti obuhvaćen sav rad, uporaba lakih pokretnih skela, sva potrebna podupiranja, sav unutrašnji transport te potrebna zaštita izvedenih radova.
B15: Jedinična cijena svake stavke uključuje radnu snagu potrebnu za izvedbu, organizaciju na gradilištu, režije i sve ostalo potrebno za izvedbu funkcionalne stavke.
B16: Za eventualne štete uzrokovane neodgovornim ili nestručnim radom odgovara izvođač radova, te ih je obvezan nadoknaditi investitoru.
B17: Dopuštena odstupanja tehničkih karakteristika ponuđenih proizvoda u odnosu na tehničke podatke u troškovniku iznose maksimalno 5%. Odnosi se na sve stavke troškovnika, za sve navedene parametre. Za sve definirane RAL boje potrebno je prije konačne narudžbe i lakiranja dostaviti uzorak na odobrenje projektantu.
A19: 6.1. | B19: INSTALACIJA GRIJANJA, HLAĐENJA i VENTILACIJE SPORTSKE DVORANE
A21: 6.1.1. | B21: Dobava i ugradnja krovne kompaktne jedinice, “Roof-top” uređaja za potrebe grijanja, hlađenja i ventilacije sportske dvorane. Uređaj je opremljen izvorom toplinske/rashladne energije u izvedbi dizalice topline za potrebe grijanja/hlađenja te plinskom sekcijom za potrebe grijanja pri nižim vanjskim temperaturama zraka. Za potrebe ventilacije prostora odnosno izmjene zraka uređaj je opremljen ventilacijskom sekcijom s visokoučinkovitim regeneratorom topline za potrebe iskorištavanja topline iz otpadnog zraka.
B22: Opis uređaja:
B23: Uređaj priprema topli/hladni zrak uz udio svježeg zraka za potrebe grijanja/hlađenja/ventilacije prostora sportske dvorane te putem ventilacijskih kanala distribuira pripremljeni zrak u prostor. Uređaj je namijenjen za vanjsku ugradnju na ravni krov. Prostor oko isparivača rashladnog kruga, te dobavnog zraka izoliran je toplinskom i zvučnom izolacijom koja je prekrivena aluminijskim limom otpornim na požar. Postolje uređaja sačinjeno je od fiksnih čeličnim profila s bočnim otvorima radi lakšeg transporta uređaja dizalicom. Dobavni ventilatori zraka opremljeni su pogonskim remenima i podesivim promjerom remenice na motoru za potrebe regulacije protoka zraka. Uređaj je opremljen perivim filterima klase G4 s preko 90% učinkovitosti. Rashladni krug opremljen je s dva spiralna kompresora u tandem verziji radi veće sigurnosti pogona, veće efikasnosti sustava pri parcijalnim opterećenjima, te mogućnosti rada do visoke vanjske temperature zraka od 52°C u režimu hlađenja. S ugrađenim brojačem sati rada svakog pojedinog kompresora, sustav podjednako koristi oba kompresora. Kompresori su montirani na fleksibilnim podloškama radi spriječavanja prijenosa vibracija na građevinu, te smanjenju buke.
B24: Plinski plamenik je opremljen podesivim elektromagnetskim ventilom, visokonaponskim transformatorom i svom ostalom opremom za automatski i siguran rad. Odvod dimnih plinova direktno u atmosferu bez potrebe za dimnjakom. Ventilacijska sekcija za potrebe ventilacije prostora odnosno izmjene zraka opremljena je s tlačnim i odsisnim ventilatorima, motoriziranim regulacijskim žaluzinama, visokoučinkovitim regeneratorom topline za potrebe iskorištavanja topline iz otpadnog zraka te perivim filterima klase G4 s preko 90% učinkovitosti.
B25: Glavne komponente uređaja:
B26: - tandem spiralni kompresori koji omogućavaju rad jedinice u djelomičnom opterećenju sa većom iskoristivosti i radom do vanjske temperature od 52°C u režimu hlađenja - izmjenjivači topline izvedeni iz alumunijskih lamela i bakrenih cijevi sa antikorozivnim zaštitnim premazom - priključci za VT i NT manometre - visokoučinkovit atmosferski plinski plamenik s elektronskim paljenjem - aksijalni ventilatori kondezatora sa niskom razinom buke i zaštitnom rešetkom - unutarnji centrifugalni ventilator pojačane izvedbe - soft start modul za sporo ukopčavanje unutarnjeg ventilatora (do 5.5 kW) - perivi filteri klase G4 u metalnom okviru - detektor zaprljanosti filtera sa komunikacijskom karticom - fiksni okvir za montažu na ravni krov, visine 400 mm izrađen od pocinčanih čeličnih profila - programabilnim zidni regulator - zidni prostorni osjetnik temperature za daljinsko očitanje sobne temperature - komunikacijska kartica Modbus - zaštitna mreža kondenzatora - komplet sapnica za prirodni plin "- ventilacijska sekcija odnosno regenerator zraka koji iskorištava (osjetnu i latentnu) toplinu iz otpadnog zraka te je prenosi na svježi zrak.
B27: Sastoji se od: tlačnog i odsisnog centrifugalnog ventilatora, osjetnika kvalitete unutarnjeg zraka, motoriziranih regulacijskih žaluzina za potrebe miješanja optočnog i svježeg zraka, motoriziranog regeneratora topline, filterima zraka.
B29: Tehničke karakteristike:
B30: Hlađenje: - stanje vanjskog zraka: 35°C - stanje unutarnjeg zraka DB/WB: 27/19°C - kapacitet: 62 kW - apsorbirana električna snaga: 20 kW - regulacija snage: 2 stupnja
B31: Grijanje: - stanje vanjskog zraka DB/WB: +7/6°C - stanje unutarnjeg zraka: 20°C - kapacitet (dizalica topline): 58 kW - apsorbirana električna snaga: 19 kW - kapacitet – grijanja (plinski grijač): 76 kW - regulacija snage (dizalica topline): 2 stupnja - regulacija snage (plinski grijač): 2 stupnja
B32: Unutarnji ventilator: - nominalni protok unutarnjeg zraka: 11.500 m³/h - dostupni vanjski statički tlak ventilatora pri nominalnom protoku: 400 Pa
B33: Elektro priključak: - 3 x 400 V + N / 50 Hz
B34: Buka: - nivo zvučnog tlaka na 10 m: 55.8 dB(A)
... B40: Napomena: - Rooftop ima vertikalne priključke za ventilacijske kanale s donje strane uređaja - Predvidjeti sate rada (16 sati) za potrebe sastavljanja ventilacijske sekcije s uređajem prema uputama proizvođača - Čelična potkonstrukcija za postavljanje rooftop-a obrađena je u izvedbenom arhitektonskom projektu
B41: kom | C41: 2 | E41: =IF((D41>0),SUM(C41*D41),"kn") -> kn
A42: 6.1.2. | B42: Puštanje u pogon uređaja iz prethodne stavke od strane ovlaštene oobe uz provjeru fukcionalnosti, provjera pozicija i ožičenja opreme, parametriranje regulacije prema potrebama sustava, ispitivanje svih radnih parametra uređaja uz ispunjavanje i izdavanje ispitnog lista i servisne kartice, te održavanja na hrvatskom jeziku. Tijekom puštanja u pogon asistirati inženjeru CNUS-a za potrebe integracija uređaja u CNUS.
B43: kompleta | C43: 2 | E43: =IF((D43>0),SUM(C43*D43),"kn") -> kn
A44: 6.1.3. | B44: Dobava i ugradnja jedrenih platna za elastični spoj roof-top-a sa tlačnim i odsisnim ventilacijskim kanalom. Dimenzija jedrenih platna su sljedeće: 887×840 mm - 1 kom. 887×544 mm - 1 kom.
B45: kompleta | C45: 2 | E45: =IF((D45>0),SUM(C45*D45),"kn") -> kn
