Workbook

Sheet naslovnica
A2: GRAĐEVINA: | C2: I. GIMNAZIJA U OSIJEKU
C3: k.č. 9121/23 k.o. Osijek
A5: INVESTITOR: | C5: OSJEČKO-BARANJSKA ŽUPANIJA
C6: Trg Ante Starčevića 2, 31000 Osijek
A8: PROJEKT: | C8: IZVEDBENI PROJEKT
A10: SADRŽAJ: | C10: TROŠKOVNIK RADOVA
A12: BROJ PROJEKTA: | C12: 18-12-IZP
A14: GLAVNI PROJEKTANT: | C14: Maja Stanić, dipl.ing.arh.
A16: PROJEKTANT: | C16: Vojko Stanić, dipl.ing.arh.
A18: SURADNICI: | C18: Martina Vivoda, mag.ing.arch.
C19: Kristina Žuvela, mag.ing.arch.
C20: Filip Ružić, mag.ing.arch.urb.
B23: SADRŽAJ TROŠKOVNIKA
B25: I. GRUPE RADOVA
B27: II. REKAPITULACIJA RADOVA
B29: III. OPĆI UVJETI UZ TROŠKOVNIK
B31: IV. TROŠKOVNICI PO GRUPAMA RADOVA
B33: 1 | C33: GRAĐEVINSKI RADOVI
B35: 2 | C35: OBRTNIČKI RADOVI
B37: 3 | C37: UREĐENJE OKOLIŠA PJEŠAČKIH POVRŠINA
B39: 4 | C39: ELEKTROINSTALACIJE
B41: 5 | C41: SUSTAV ZA DOJAVU POŽARA
B43: 6 | C43: STROJARSKE INSTALACIJE
B45: 7 | C45: HIDROINSTALACIJE
B47: 8 | C47: PROMETNE POVRŠINE I VANJSKI SPORTSKI TERENI
B49: 9 | C49: SPRINKLER INSTALACIJE

Sheet rekapitulacija
B2: I. | C2: REKAPITULACIJA RADOVA
B5: 1 | C5: GRAĐEVINSKI RADOVI | E5: ='1-Građevinski radovi'!E1130 -> 0
B7: 2 | C7: OBRTNIČKI RADOVI | E7: ='2-Obrtnički radovi'!E1886 -> 0
B9: 3 | C9: OKOLIŠ | E9: ='3-Okoliš '!E462 -> 0
B11: 4 | C11: ELEKTROINSTALACIJE | E11: ='4.Elektroinstalacije'!E986 -> 0
B13: 5 | C13: SUSTAV ZA DOJAVU POŽARA | E13: ='5. Sustav za dojavu požara'!E57 -> 0
B15: 6 | C15: STROJARSKE INSTALACIJE | E15: ='6-Strojarske instalacije'!E815 -> 0
B17: 7 | C17: HIDROINSTALACIJE | E17: ='7. Hidroinstalacije'!E731 -> 0
B19: 8 | C19: PROMETNE POVRŠINE I SPORTSKI TERENI | E19: ='8. Prometne površine'!E361 -> 0
B21: 9 | C21: SPRINKLER INSTALACIJE | E21: ='9-Sprinkler inst.'!E389 -> 0
C24: SVEUKUPNO RADOVI | E24: =SUM(E5:E21) -> 0
D26: 25% PDV | E26: =E24*0.25 -> 0
C28: SVEUKUPNO s pdv-om | E28: =SUM(E26+E24) -> 0

Sheet 1-Građevinski radovi
A1: BR. | B1: OPIS STAVKE JED.MJERA | C1: KOLIČINA | D1: JED. CIJENA bez PDV-a | E1: UKUPNA CIJENA bez PDV-a
A3: 1 | B3: GRAĐEVINSKI RADOVI
B5: OPĆI UVJETI UZ TROŠKOVNIK
B6: OPĆENITO
B7: Izvođaču se uz troškovnik radova stavljaju na uvid kompletni izvedbeni i glavni projekti svih struka koji su sastavni dio ponudbene dokumentacije. Upisom jedinične cijene pojedine stavke podrazumijeva se da je izvođač proučio cjelokupnu dokumentaciju i da je jediničnom cijenom obuhvaćeno sve navedeno troškovničkom stavkom i sve navedeno u nacrtima i tekstu izvedbenog i glavnog projekta.
B8: Ovi opći tehnički uvjeti se dopunjuju opisima stavaka troškovnika i posebnim tehničkim uvjetima za pojedine vrste radova. Sve što je navedeno u njima, a nije u pojedinačnom opisu stavke smatra se uključenim u jediničnu cijenu.
B9: JEDINIČNA CIJENA (odnosi se na sve vrste radova):
B10: Sve stavke troškovnika podrazumijevaju nabavu, isporuku, transport, montažu pomoću kvalificirane i stručne radne snage i adekvatne mehanizacije u skladu sa važećim propisima, standardima i projektnoj dokumentaciji, sve horizontalne i vertikalne transporte potrebnog specificiranog materijala na samoj lokaciji do mjesta ugradnje i primopredaju investitoru.
B11: Materijal
B12: Pod tim nazivom se podrazumijeva cijena materijala tj. dobavna cijena i to kako glavnog materijala, tako i pomoćnog, veznog materijala, podkonstrukcije i sl., a upotrijebljeni materijal, kojeg izvođač dobavlja i ugrađuje, mora odgovarati trenutno važećim standardima i za iste dostaviti važeće izjave o svojstvima (prihvatiti će se i sve potvrde o sukladnosti izdane od tijela za potvrđivanje osnovanim u državama članicama EU) i to najmanje 14 kalendarskih dana prije zadnjeg datuma moguće narudžbe koja neće ugroziti ugovorni rok.
B13: Proizvodi/dimenzije
B14: Dopuštena odstupanja tehničkih karakteristika ponuđenih proizvoda u odnosu na tehničke podatke u troškovniku iznose maksimalno 5%. Odnosi se na sve stavke troškovnika i za sve navedene parametre.
B15: Transportni troškovi
B16: U cijenu materijala uključena je i cijena transportnih troškova bez obzira na prijevozno sredstvo sa svim prijenosima, utovarima i istovarima, te uskladištenje i čuvanje na gradilištu od unošenja (prebacivanje, zaštita i sl.) do ugradnje. U jediničnu cijenu uključena je i izrada svih transportnih privremenih putova na gradilištu.
... B63: Izvođač je dužan pridržavati se u svemu propisanog Zakonom o gradnji (NN 153/13, 20/17, 39/19, 125/19).
A65: 1 | B65: GRAĐEVINSKI RADOVI
A67: 1.1. | B67: PRIPREMNI I ZAVRŠNI RADOVI
B68: OPĆI UVJETI
B69: Pripremnim radovima mora se prići s velikim oprezom, sa svim potrebnim osiguranjima i mjerama zaštite okoliša i štetnog utjecaja na susjedne objekte. Sve radove treba izvesti uz obveznu primjenu važećih propisa zaštite na radu za ovu vrstu radova.
B70: Izvođač je dužan tijekom cijelog izvođenja radova održavati gradilište - zgrade i okoliša čistim. Obavezno treba čistiti od blata i sl. kotače vozila koja izlaze sa gradilišta na javnu prometnicu, te obavezno osigurati čišćenje dijela prometnice uz ulaz u gradilište. Čišćenje se vrši po potrebi, izvan pojedinih radova, a uključuje i završno čišćenje pred predaju objekta.
B71: Izvođač je dužan tijekom cijelog izvođenja radova zaštiti postojeći drvored kestena koji se zadržava kao i statua (kip, križ) koji se nalazi na predtrgu. Izvedba zaštitne ograde oko cijele zone unutar koje se nalaze postojeće stablašice. Zaštitna ograda se formira od vertikalno postavljenih dasaka visine 1,5 m, koje se postavljaju u širini 1 m oko debla stablašica i međusobno povezuju i učvršćuju horizontalnom letvicom, dok se u kutovima kazeta postavljaju četiri stupa na koje se učvršćuju letvice i daske. Deblje žile korijenovog sustava oblažu se mješavinom humusno-tresetnog supstrata i zemlje i gusto omataju trakama od prirodnih vlakana (jute) širine cca 20 cm i fiksiraju. Cjelokupan korjenov sustav se dodatno pokriva širokim trakama prirodnih vlakana, koje se fiksiraju u tlu korištenjem kolčića. U slučaju da se ne može garantirati "sigurnost" statua od oštećenja predvidjeti demontažu i čuvanje, kao i ponovnu postavu na isto mjesto.
B72: Izvođač je dužan izraditi terminski plan i dostaviti isti nadzornom inženjeru na ovjeru najkasnije 3 tjedna nakon potpisa ugovora. 'Izvođač je za vrijeme izvođenja radova dužan s građevinskim otpadom nastalim obavljanjem radova postupati sukladno Odluci o odlaganju građevinskog otpada i zemlje od iskopa građevinskih radova ("Službeni glasnik" Grada Osijeka) i ishoditi Potvrdu sukladno članku 7. Odluke od nadležnog Upravnog odjela.
B73: Za vrijeme izvođenja radova potrebno je osigurati nužno nesmetano i sigurno odvijanje prometa vozila i pješaka. Izvođač je dužan ishoditi Suglasnost na kolni prilaz od nadležnog Upravnog odjela Grada Osijeka. Zahtjevu za suglasnost treba sadržavati i projekt privremene regulacije prometa za vrijeme izvođenja radova.
B74: Pripremni radovi obuhvaćaju i sve potrebne geodetske radnje od strane osobe ovlaštene za obavljanje poslova državne izmjere katastra nekretnina prema posebnom zakonu i u skladu sa geodetskim projektom, sva geodetska mjerenja kojima se podaci s projekta prenose na teren (vertikalno i horizontalno), sve obnavljanje i održavanje iskolčenih oznaka na terenu za vrijeme građenja, izradu Elaborata iskolčenja, stalno geodetsko praćenje izvedbe armiranobetonskih radova i radova na izradi čelične konstrukcije, te sve potrebne radnje za upis objekta u katastar. Nakon provedenog iskolčenja, izvođač je dužan dostaviti izjavu o provedenom iskolčenju u skladu sa geodetskim projektom koja je ovjerena od strane ovlaštenog geodete, bez posebne nadoplate. Izvođač radova dužan je za vrijeme građenja stalno održavati i osigurati sve repere i poligonske točke. Iskolčenje objekata treba neprestano nadzirati i po potrebi obnavljati o vlastitom trošku. Izvođač je sve vrijeme građenja dužan obnavljati izvedeno iskolčenje i sve oznake na terenu, bez obzira na uzroke štete.
B75: Geodetskom kontrolom utvrđuje se visinski i položajno početno stanje ili stanje izvedenog posla. Točnost mjerenja mora biti u skladu s geodetskim normama za pojedine vrste mjerenja i u skladu sa zahtjevima za kakvoću pojedinih radova prema ovim tehničkim uvjetima. Geodetski radovi pri građenju obuhvaćaju : a.iskolčenje trase i svih objekata u trasi i preko trase cesta; b.ovjerenu izjavu ovlaštenog geodete da je iskolčenje izvedeno u skladu sa geodetskim projektom c.sva geodetska mjerenja koja su u vezi s prijenosom podataka iz projekata na teren i obrnuto; d.održavanje iskolčenih oznaka na terenu u cijelom razdoblju od početka radova do predaje svih radova investitoru
A77: 1.1.1. | B77: ČIŠĆENJE PARCELE
B78: Čišćenje i raščišćavanje terena na površini izgradnje, a prije početka radova. Rad obuhvaća sječu šiblja i stabala, rezanje grana na dužine pogodne za prijevoz, vađenje korijenja te odnošenje šiblja, granja, trupaca i panjeva (predviđa se rušenje jednog stabla u drvoredu kestena uz Strossmayerovu ulicu.). Površine koje treba očistiti od grmlja i drveća određuje nadzorni inženjer prije početka rada. Čišćenje obuhvaća i uklanjanje svega nepotrebnog materijala zaostalog nakon tih radova. Izvođač mora rušiti stabla uz punu primjenu higijensko-tehničkih zaštitnih mjera i bez nanošenja štete susjednim objektima, posjedima uz trasu i imovini uopće. Obračun za komplet radova za površinu 12941m² sa utovarom, odvozom iistovarom na gradski deponiji.
B79: komplet | C79: 1 | E79: =IF((D79>0),SUM(C79*D79),"kn") -> kn
A80: 1.1.2. | B80: ISKOLČENJE GRAĐEVINE I TRASA
B81: Radovi obuhvaćaju sve potrebne geodetske radnje od strane osobe ovlaštene za obavljanje poslova državne izmjere katastra nekretnina prema posebnom zakonu i u skladu sa geodetskim projektom, sva geodetska mjerenja kojima se podaci s projekta prenose na teren (vertikalno i horizontalno), sve obnavljanje i održavanje iskolčenih oznaka na terenu za vrijeme građenja, izradu Elaborata iskolčenja, stalno geodetsko praćenje izvedbe armiranobetonskih radova i radova na izradi čelične konstrukcije, te sve potrebne radnje za upis objekta u katastar. Nakon provedenog iskolčenja, izvođač je dužan dostaviti izjavu o provedenom iskolčenju u skladu sa geodetskim projektom koja je ovjerena od strane ovlaštenog geodete, bez posebne nadoplate. Izvođač radova dužan je za vrijeme građenja stalno održavati i osigurati sve repere i poligonske točke. Iskolčenje objekata treba neprestano nadzirati i po potrebi obnavljati o vlastitom trošku.
B82: Izvođač je sve vrijeme građenja dužan obnavljati izvedeno iskolčenje i sve oznake na terenu, bez obzira na uzroke štete. Geodetskom kontrolom utvrđuje se visinski i položajno početno stanje ili stanje izvedenog posla. Točnost mjerenja mora biti u skladu s geodetskim normama za pojedine vrste mjerenja i u skladu sa zahtjevima za kakvoću pojedinih radova prema ovim tehničkim uvjetima. Geodetski radovi pri građenju obuhvaćaju : a.iskolčenje trase i svih objekata u trasi i preko trase cesta; b.ovjerenu izjavu ovlaštenog geodete da je iskolčenje izvedeno u skladu sa geodetskim projektom c.sva geodetska mjerenja koja su u vezi s prijenosom podataka iz projekata na teren i obrnuto; d.održavanje iskolčenih oznaka na terenu u cijelom razdoblju od početka radova do predaje svih radova investitoru
B83: U geodetsku situaciju uključiti snimanje svih novih i postojećih instalacija koje se pojave prilikom radova na prostoru gradilišta.
B84: U jed.cijenu uključiti geodetsko praćenje iskopa, geod.snimku i izračun volumena iskopa.
B85: Iskolčenje na području obuhvat zahvata - objekt gimnazije - 4080m².
B86: Iskolčenje na području obuhvat zahvata - uređenje okoliša, internih prometnica i sportskih terena - 12914m².
B87: Iskolčenje na području obuhvat zahvata - javne površine - 1000m².
B88: Stavka uključuje i izradu Geodetske situacije izvedenog stanja sa svim instalacijama s prijavom nadležnom Uredu za katastar uz ishođenje potvrde od strane DGU. Predaja investitoru u 3 primjerka tiskano i 1 primjerka na CDu. Geodetskom nadzoru izvođač radova dužan je pružiti sve detaljne informacije o provedenom poslu i po potrebni osigurati kontrolna mjerenja u njegovom prisustvu.
B89: komplet | C89: 1 | E89: =IF((D89>0),SUM(C89*D89),"kn") -> kn
A90: 1.1.3. | B90: PRIPREMA GRADILIŠTA
B91: Priprema gradilišta obuhvaća dopremu i instalaciju opreme za betoniranje, bušenje i injektiranje sidara kao i svu ostalu potrebnu opremu za izvođenje radova te po završenim radovima, raspremanje gradilišta, odvoz opreme i dovođenje lokacije u prvobitno stanje. U sklopu pripreme gradilišta uzima se u obzir i trošak organizacije gradilišta, kompletna izvedba pristupnih puteva i privremenih deponija materijala (mreža, sidara te drugih materijala i opreme). Obračun po kompletu.
B92: komplet | C92: 1 | E92: =IF((D92>0),SUM(C92*D92),"kn") -> kn
A93: 1.1.4. | B93: IZVEDBA PROBNOG POLJA
B94: U sklopu probnog polja je predviđena izvedba tri mlazno injektirana stupnjaka duljine 3,0 m pri različitim utroškom cementa po m' stupnjaka. Nakon izvedbe stupnjaka potrebno je iskopati okolni materijal, izmjeriti postignuti promjer stupnjaka te uzeti tri uzorka za ispitivanje sukladno navedenom u projektnoj dokumentaciji. Iskopani materijal je potrebno nasipati, a područje probnog polja poravnati, tj. vratiti u prvobitno stanje. Stavka obuhvaća sva potrebna sredstva, materijal i rad.
B95: komplet | C95: 1 | E95: =IF((D95>0),SUM(C95*D95),"kn") -> kn
A96: 1.1.5. | B96: ISPITIVANJE ZRAKOPROPUSNOSTI ZGRADE
B97: Ispitivanje zrakonepropusnosti i izdavanje atesta („blower door“ test). Metoda određivanja, prije tehničkog pregleda, u „rohbau“ fazi prije izvedbe završnih obloga. Prilikom ispitivanja, za razliku tlakova između unutarnjeg i vanjskog zraka od 50 Pa, izmjereni protok zraka, sveden na obujam unutarnjeg zraka, ne smije biti veći od vrijednosti n50 = 1,5 /h kod zgrada s mehaničkim uređajem za ventilaciju.
B98: Ispitivanje provesti prema zahtjevima iz projekta fizike zgrade. Ispitivanje i izdavanje atesta provodi za ispitivanje ovlaštena osoba.
B99: komplet | C99: 1 | E99: =IF((D99>0),SUM(C99*D99),"kn") -> kn
A100: 1.1.6. | B100: ENERGETSKI PREGLED I IZRADA IZVJEŠĆA O ENERGETSKOM PREGLEDU GRAĐEVINE I ENERGETSKOG CERTIFIKATA ZGRADE
B101: Energetski pregled i izradu izvješća te energetskog certifikata zgrade za složenu građevinu potrebno je provesti od strane za to ovlaštene osobe. Obračun za komplet pregled i izdavanje izvješća i certifikata.
B102: komplet | C102: 1 | E102: =IF((D102>0),SUM(C102*D102),"kn") -> kn
A103: 1.1.7. | B103: ISPITIVANJE ZVUČNE IZOLACIJE MJERODAVNIH GRAĐEVNIH DIJELOVA
B104: U učionicama treba dokazati da buka iz neproizvodnih izvora ne prelazi dopuštenu razinu buke navedenu u projektu. Nadzorni inženjer treba izbrati prostorije koje su nakon izgradnje najizloženije vanjskoj buci od prometa i buci od HVAC uređaja zgrade. Potrebno je izmjeriti zvučnu izolaciju zidova između učionica i dokazati da je zadovoljen uvjet prema projektu i priznatim tehničkim pravilima. Potrebno je izmjeriti zvučnu izolaciju od zračnog zvuka međukatnih građevnih dijelova između učionica i dokazati da je zadovoljen uvjeti prema projektu i priznatim tehničkim pravilima.
B105: Ispitivanje provesti prema zahtjevima iz projekta fizike zgrade. Ispitivanje i izdavanje atesta provodi za ispitivanje ovlaštena osoba.
B106: komplet | C106: 1 | E106: =IF((D106>0),SUM(C106*D106),"kn") -> kn
A108: =A67 -> 1.1. | B108: UKUPNO PRIPREMNI I ZAVRŠNI RADOVI | E108: =SUM(E77:E106) -> 0
A111: 1.2. | B111: ZEMLJANI RADOVI
B112: OPĆI UVJETI
B113: Provedenim istraživačkim radovima je utvrđena pojava podzemne vode u tri bušotine na 2,0-7,0 m od površine terena, odnosno na cca 82,80 m (bušotina B-4) do 83,35 m (bušotina B-2) nadmorske visine. Utvrđeno je da predmetnu lokaciju izgrađuju sedimenti aluvija (t1 - organogena glina i prah, prahoviti pijesak), lokalno i nabačaja (AF - prahovita glina s građevinskim otpadom i anorganska glina), a koji prema OGK (Magaš, 1986) prekrivaju pleistocenske terigene klastične taloge na neutvrđenim dubinama. Geotehničkim pregledom lokacije ustanovljeno je da je geotehnički profil na lokaciji sastavljen od četiri (4) geotehničke jedinice: Geotehničku jedinicu 1 čine naslage nabačaja. Nabačaj je na predmetnoj lokaciji prisutan u vidu nekontinuiranog pokrivača na južnoj polovici predmetnog obuhvata, kao rezultat nekontroliranog i dugogodišnjeg deponiranja građevnog materijala. Geotehničku jedinicu 2 čine naslage aluvijalne anorganske gline. Utvrđene su u površinskom horizontu aluvijalnih naslaga predmetne lokacije, na površini terena ili ispod naslaga nabačaja. Geotehničku jedinicu 3 čini horizont aluvijalne organogene gline i praha. Utvrđene su između površinskog horizonta aluvijalne anorganske gline i podinskih naslaga aluvijalnog prahovitog pijeska. Geotehničku jedinicu 4 čine naslage prahovitog pijeska. Utvrđene su u donjem - podinskom horizontu aluvijalnog pokrivača.
B114: Na osnovu izrađenog elaborata daju se slijedeće preporuke i smjernice za temeljenje građevine: - Geotehnički profil lokacije je neuniforman i sastoji se od geotehničkih jedinica niskih parametara čvrstoće i deformabilnosti. - Temeljenje građevine potrebno je izvesti sukladno projektu temeljenja - Ukoliko stanje na terenu nakon izvedenog iskopa ukazuje na bitna odstupanja od pretpostavljenog geotehničkog profila potrebno je kontaktirati projektanta, potpisnika geotehničkog elaborata
B115: Na osnovu izrađenog elaborata za potrebe temeljenja građevine daju se slijedeće smjernice : - Geotehnički profil lokacije je neuniforman i sastoji se od geotehničkih jedinica niskih parametara čvrstoće i deformabilnosti. - Temeljenje građevine potrebno je izvesti sukladno projektu temeljenja - Potrebno je izvršiti prijenos opterećenja građevine u dublje i povoljnije slojeve temeljnog tla s ciljem umanjenja diferencijalnih slijeganja građevine - Predviđena je izvedba poboljšanja temeljnog tla mlazno injektiranim stupnjacima duljine 10 i 12m - Predviđa se i uređenje temeljnog tla zamjenom materijala debljine 30 cm - Ukoliko stanje na terenu nakon izvedenog iskopa ukazuje na bitna odstupanja od pretpostavljenog geotehničkog profila potrebno je kontaktirati projektanta, potpisnika geotehničkog elaborata
B116: Za potrebe uređenja temeljnog tla za manje zidove, okoliš, promete i pješačke površine dajne su slijedeće preporuke: - Na području zahvata potrebno je izvesti zamjenu materijala u debljini od najmanje 0,50 m (humusni i površinski materijal). - Iskop postojećeg materijala vrši se zbog podložnosti ciklusima smrzavanja i odmrzavanja te ga je potrebno ukloniti. - Nakon iskopa potrebno je izravnati posteljicu za ugradnju kamenog materijala te izvesti zbijanje - Na dno iskopa je potrebno postaviti netkani geotekstil. Polaganjem geotekstila dolazi do odvajanja slojeva materijala bitno različitih karakteristika (granulometrijskog sastava kao i svojstava koja proizlaze iz toga) pri čemu se osigurava minimalna vodopropusnost kao i mehanizam filtriranja kojim se ograničava ispiranje sitnozrnatog materijala pri prolazu vode iz temeljnog tla u sloj od kamenog materijala. - Nakon polaganja geotekstila potrebno je ugraditi tampon od mehanički stabiliziranog drobljenog kamena granulacije 0-63 mm u dva sloja od 25,0 cm sa zbijanjem. Tampon se ugrađuje strojno te valja vibracijskim sredstvima - Zbijanjem tampona je potrebno postići minimalan modul stišljivosti od Ms=60,0 MN/m2 mjeren kružnom pločom Ø30 cm
B117: Pri izvođenju zatrpavanja po izvođenju temelja, materijal koji se koristi za zatrpavanje, obvezatno se nasipava u slojevima max debljine do 30 cm, uz zbijanje svakog sloja do statičkim proračunom ili troškovničkom stavkom predviđene zbijenosti. Zbijenost slojeva koji se zbijaju kontrolirati metodom kružne ploče sukladno svim važećim smjernicama i normama. Obračun količina iskopa i nasipa u ovom troškovniku vršen je za sve zemljane i šljunčane materijale u sraslom (odn., zbijenom) stanju, ukoliko u pripadajućoj stavki-opisu rada nije izrijekom predviđeno drugačije.
B118: Izvođač je dužan prije početka radova provesti sve pripremne radove da se izvođenje može nesmetano odvijati. Potrebno je proučiti sve tehnologije izvedbe pojedinih radova radi optimalne organizacije građenja, nabavke materijala, kalkulacije i sl.
B119: U jediničnu cijenu stavki obavezno uključiti sve utovare i odvoze na deponiju predviđenu za tu namjenu sukladno zakonskim propisima bez obzira na udaljenost, sva potrebna razupiranja, osiguranja iskopa od urušavanja, crpljenja vode, deponiranja materijala na gradilišnu deponiju, koeficijente rastresitosti (svi obračuni vršiti će se u sraslom stanju), takse za deponij, nabave i dopreme materijala, razastiranja, zbijanja, valjanja i slično i sve ostale osnovne i pomoćne radove, otežani rad među razupiračima, u skučenom prostoru, mokrom zemljištu i sve materijale do potpune funkcionalne gotovosti pojedine stavke - ako opisom stavke nije drugačije određeno. Nakon iskopa terena za temelje a prije izvedbe temelja obavezno izvršiti pregled iskopa od strane geomehaničara što se posebno ne obračunava a podaci o pregledu unose se u građevinski dnevnik.
B120: Za materijal koji će se ponovo upotrijebiti nadzorni inženjer će odrediti mjesto privremenog odlaganja na prostoru gradilišta. Materijali moraju biti odloženi na način da ne ometaju radove. Izvođač treba očistiti i čuvati materijal do njegove primopredaje ovlaštenoj tvrtki za uporabu i zbrinjavanje materijala, odnosno za daljnje korištenje. Izvođač je nakon zatrpavanja iskopa obavezan okolnu površinu dovesti u prijašnje stanje.
B121: Izvođač treba isplanirati i izvesti radove tako da spriječi oštećenja postojećih objekata, zaštiti ljude i objekte i da osigura sigurne radne uvjete. Radovi se trebaju izvoditi u skladu sa svim zdravstvenim i sigurnosnim propisima.
B122: Očekivana razina podzemne vode na cca 1,5m ispod kote dna iskopa (okvirno na 83,10 m.n.m). Tijekom izvođenja radova Izvođač mora u pripravnosti imati pumpe za crpljenje vode kapaciteta >20 l/s kako bi u slučaju većih dotoka podzemnih ili oborinskih voda u građevnu jamu mogao pravovremeno reagirati i održavati građevnu jamu suhom, cijenu eventualnog crpljenja uključiti u jediničnu cijenu iskopa.
B123: Tijekom izvođenja radova na iskopu građevine potrebna je stalna prisutnost nadzornog inženjera, čije je obaveza da u cijelosti osigura izvedbu sukladno sa smjernicama općih uvjeta i projekta. Izvođač je dužan u cijenama stavaka uključiti sva potrebna kontrolna ispitivanja kojima je dužan dokazati kvalitetu izvedenih radova sukladno svim uvjetima iz projektne dokumentacije. Izvođač je dužan ugovoriti uslugu ovlaštenog geomehaničara te cijenu uračunati u jedinične cijene stavaka.
B124: Iskope, nasipe i temeljenje izvesti sukladno stavkama troškovnika i nacrtima i opisima izvedbenog građevinskog projekta temeljenja i izvedbenog arhitektonskog projekta.
A125: 1.2.1. | B125: ISKOP HUMUSA
B126: Iskop humusa debljine sloja 30 - 50 cm. Rad obuhvaća površinski iskop humusa predviđene debljine i njegovo prebacivanje na privremenu deponiju i odlaganje na gradsku deponiju, a sukladno projektnoj dokumentaciji uređenja prometnih i sportskih površina. Humus se iskopava isključivo strojno, a ručno jedino tamo gdje to strojno ne bi mogli obaviti na zadovoljavajući način. Površine na kojima je nakon iskopa humusa predviđena izrada nasipa potrebno je odmah urediti i sabiti. Iskopani humus treba deponirati u blizini trase, tako da prilikom upotrebe pristup do njega bude neometan, odnosno višak humusa treba odvesti u stalnu deponiju prethodno predviđene lokacije i oblika. Nadzorni inženjer odobrava korištenje iskopanog materijala za izradu nasipa. Obračun se vrši po m³ iskopanog humusa u sraslom stanju
B127: iskop humusa d=50cm za obuhvat zahvata: interne prometne površine,
B128: m3 | C128: 1200 | E128: =IF((D128>0),SUM(C128*D128),"kn") -> kn
B129: iskop humusa d=50cm za obuhvat zahvata: javna prometnica
B130: m3 | C130: 150 | E130: =IF((D130>0),SUM(C130*D130),"kn") -> kn
B131: iskop humusa okoliša za obuhvat zahvata: sportski tereni te pješačke staze i zelene površine uz njih
B132: m3 | C132: 1600 | E132: =IF((D132>0),SUM(C132*D132),"kn") -> kn
A133: 1.2.2. | B133: ŠIROKI ISKOP I PROFILIRANJE TERENA
B134: Strojni široki iskop i profiliranje terena bez obzira na kategoriju materijala izvesti prema geometriji i nagibima iz projekta, s guranjem u stranu i utovarom u kamion te odlaganjem iskopanog materijala na gradsku deponiju. Visinske kote provjeriti u arhitektonskom izvedbenom projektu, projektu uređenja okoliša, projektu konstrukcije i projektu prometnih površina. Zahtijeva se postizanje točnosti iskopa od +/-3,0 cm na 1,0 m duljine. Tehnologiju izvedbe iskopa potrebno je prilagoditi stanju na terenu, a ovisno o vrsti tla/stijene u skladu s interaktivnim projektiranjem temeljenom na opservacijskoj metodi. Iskop se izvodi sukladno projektnoj dokumentaciji. Nadzorni inženjer odobrava eventualno korištenje dijela iskopanog materijala za izradu nasipa miješanim materijalnom. Tehnologiju iskopa potrebno je prilagoditi stanju na terenu. Ne dopušta se izvedba iskopa prije odobrenja od strane nadzornog inženjera upisom u građevinski dnevnik.
B135: U jed. cijenu uključiti izradu nanosne skele, održavanje nivoa podzemne vode tijekom izvedbe svih radova, zaštita stranica građevne jame od urušavanja, privremena ograda građevinske jame, održavanje čistoće vozila koja napuštaju gradilište, osiguranje i održavanje privremene deponije materijala koji služi za ponovnu ugradnju, odvajanje pogodnog materijala od iskopa na deponiju i usitnjavanje; planiranje i poravnanje dna iskopa; odvoz i odlaganje iskopanog materijala na gradski deponij. Obračun po m³ iskopanog materijala u sraslom stanju bez obzira na kategoriju.
B136: teren ispod/oko građevine
B137: m³ | C137: 14725 | E137: =IF((D137>0),SUM(C137*D137),"kn") -> kn
B138: teren okoliša za obuhvat zahvata: predtrg, trg, pješačka staza uz zapadni dio građevine, uz potporne zidove.
B139: m3 | C139: 3984 | E139: =IF((D139>0),SUM(C139*D139),"kn") -> kn
B140: predtrg (iskop 50cm)
B141: m3 | C141: 380 | E141: =IF((D141>0),SUM(C141*D141),"kn") -> kn
B142: teren okoliša za obuhvat zahvata: interne prometne površine, sportski tereni te pješačke staze i zelene površine uz njih
B143: m3 | C143: 3800 | E143: =IF((D143>0),SUM(C143*D143),"kn") -> kn
B144: teren okoliša za obuhvat zahvata: javna prometnica
B145: m3 | C145: 150 | E145: =IF((D145>0),SUM(C145*D145),"kn") -> kn
A146: 1.2.3. | B146: NASIPAVANJE MJEŠANIM MATERIJALOM ISPOD GRAĐEVINE
B147: Izvedba radnog platoa od miješanog materijala, a za potrebu izvedbu mlazno injektiranih stupnjaka te zasipavanje prostora između iskopa i izvedene građevine. Granulacija materijala treba biti takva da koeficijent nejednolikosti materijala U=d60/d10 bude veći od 9. Nasipni materijal ne smije se ugraditi na smrznutu podlogu. Isto tako, u nasip se ne smije ugrađivati snijeg, led ili smrznuti materijal. Maksimalna veličina zrna smije biti jednaka najviše polovici debljine sloja odnosno maksimalno 150,0 mm. Nasipni materijal nanosi se na uređeno temeljno tlo ili na već izrađeni sloj nasipa tek nakon što nadzorni inženjer preuzme temeljno tlo ili sloj već izrađenog nasipa. Kriteriji za ocjenu kakvoće ugrađenog materijala u slojeve nasipa navedeni su u građevinskom projektu temeljenja. Obračun po m³ ugrađenog i zbijenog materijala.
B148: m³ | C148: 700 | E148: =IF((D148>0),SUM(C148*D148),"kn") -> kn
A149: 1.2.4. | B149: IZVEDBA TAMPONSKOG SLOJA MATERIJALA ISPOD GRAĐEVINE
B150: Nakon izvedenog iskopa pristupa se ugradnji kamenog materijala (tamponski sloj) granulacije Ø0-63 mm, debljine 30,0 cm ispod temeljnih ploča dilatacije A, B i C. Zbijanje se vrši dok se mjerenjem ne utvrdi minimalni modul stišljivosti Ms=60,0 MN/m2. Ugrađeni sloj kamenog materijala koristi se i kao radni plato za potrebu izvedbe poboljšanja temeljnog tla šljunčanim stupnjacima na dilataciji A. Nakon izvedbe poboljšanja temeljnog tla šljunčanim stupnjacima potrebno je urediti površinu tamponskog sloja te izvršiti zbijanje dok se mjerenjem ne utvrdi minimalni modul stišljivosti Ms=60,0 MN/m². Stavka obuhvaća i sva ispitivanja zbijenosti prema zahtjevima iz projekta i obaveza je izvođača radova. Obračun po m³ ugrađenog i zbijenog materijala.
B151: m³ | C151: 1500 | E151: =IF((D151>0),SUM(C151*D151),"kn") -> kn
A152: 1.2.5. | B152: PROCJEDNI SLOJ ŠLJUNKA IZNAD DRENAŽNE CIJEVI
B153: Dobava, doprema i ugradba procjednog sloja šljunka 16-63 mm iznad izvedene drenažne cijevi oko zidova suterena do visine budućeg okoliša. Sloj odvojiti od okolnog tla ugradbom sloja geotekstila (geotekstil obračunat u posebnoj stavci).
B154: m³ | C154: 830 | E154: =IF((D154>0),SUM(C154*D154),"kn") -> kn
...

Sheet 2-Obrtnički radovi
A1: BR. | B1: OPIS STAVKE JED.MJERA | C1: KOLIČINA | D1: JED. CIJENA bez PDV-a | E1: UKUPNA CIJENA bez PDV-a
A3: 2 | B3: OBRTNIČKI RADOVI
B4: Napomena: Sve stavke uključuju sav rad i materijal (osnovni i pomoćni materijal te spojni i pričvrsni materijal, materijal za završne obrade) sve do potpune gotovosti i funkcionalnosti. U jediničnu cijenu stavki su uključeni svi horizontalni i vertikalni transporti po gradilištu te sva potrebna mehanizacija, radna skela i materijal za podupiranje tijekom ugradnje stavki (osim fasadne skele koja je obračunata u posebnoj stavci).
A6: 2.1. | B6: BRAVARSKI RADOVI
B7: OPĆI UVJETI
B8: Svi radovi moraju biti izrađeni u skladu sa zahtjevima važećih standarda i propisa navedenih u tekstu na početku ovih općih uvjeta.
B9: Također, svi bravarski radovi moraju se izvesti prema potvrđenim radioničkim nacrtima, opisu troškovnika i uputama projektanta i nadzornog inženjera.
B10: Vlastita konstruktivna rješenja i posebnost načina ugradnje, opšavne profile i predločeni okov prije ugovaranja ponuditelj će usuglasiti sa zahtjevima projektanta i nadzornog inženjera.
B11: Izvođač je dužan uzeti na gradilištu sve mjere otvora u koje se treba ugraditi bravarija te nakon toga pristupiti izradi iste. Također, prije početka izrade obavezno se moraju uskladiti mjere i količine na objektu s onima u projektima te izraditi radioničke nacrte koje mora ovjeriti projektant i nadzorni inženjer.
B12: Izvođač radova dužan je dobaviti i montirati te u cijenu ukalkulirati sav potreban okov za besprijekornu upotrebu pojedinog bravarskog elementa bez obzira da li je u pojedinim stavkama sve iskazano.
B13: Materijal
B14: Sav materijal koji se upotrebljava za izradu bravarskih radova mora odgovarati važećim standardima.
B15: Površinska obrada
B16: Antikorozivna zaštita čeličnih dijelova mora biti u skladu sa važećim propisima. Kompletna površinska obrada svih materijala mora biti u skladu sa važećim propisima i uputama proizvođača primijenjenog materijala (sredstva), a prema zahtjevu projekta.
B17: Sva čelična bravarija mora prije otpreme na gradilište biti pjeskarena i ličena prvim temeljnim slojem 2x ili pocinčana. Sva vanjska bravarija mora biti brtvena protiv prodora kiše i prašine.
B18: Za sve boje navedene u pojedinim stavkama prema RAL ton karti, prije završne obrade donosi se uzorak projektantu na ovjeru - vrijedi za sve navedene boje.
... B37: ČELIČNE I STAKLENE OGRADE
A39: 2.1.1. | B39: OSTAKLJENA OGRADA PODESTA DVORANE
B40: Izrada, doprema i montaža ostakljene ograde. Ograda se izrađuje sukladno DETALJU POZICIJA S01 i S02 - vidi izvedbeni projekt. Ograda se izrađuje od kaljenog laminiranog stakla 8+8mm (elementi dužine cca 130cm). Debljina folije PVB 1,52mm. Gornji rubovi stakla polirani. Mat brušeni inox rukohvat U oblika 3x2x3cm. Staklo se postavlja unutar čeličnog U profila 200x50x200mm i fiksira unutar istog specijalnim trajnoelastičnim kitom za staklo. Profil se prije postave stakla učvršćuje u ab podest (nevidljivi prihvat). Profil se završno obrađuje plastificiranjem u RAL 7044.
B41: Voditi računa o propisnom sidrenju i statici (propisano bočno opterećenje). Ukupna visina ograde od gotovog poda 100cm. Statičku provjeru ograde daje izvođač. Ista mora izdržati horizontalno opterećenje od min. 700 N/m. Obračun po m' ograde.
B42: m' | C42: 41 | E42: =IF((D42>0),SUM(C42*D42),"kn") -> kn
A43: 2.1.2. | B43: KLIZNA VRATA UNUTAR OGRADE PODESTA DVORANE
B44: Izrada, doprema i montaža kliznih staklenih vrata ograde podesta dvorane. Ograda se izrađuje sukladno DETALJU POZICIJA S01 i S02 - vidi izvedbeni projekt. Ograda se izrađuje od kaljenog laminiranog stakla 8+8mm (elementi dužine cca 120cm). Debljina folije PVB 1,52mm. Gornji rubovi stakla polirani. Mat brušeni inox rukohvat U oblika 3x2x3cm. Staklo se postavlja unutar čeličnog U profila 50x50x50mm i fiksira unutar istog specijalnim trajnoelastičnim kitom za staklo. Profil se postavlja unutar sustava klizne vodilice koja je ugrađena u AB ploču podesta . Vodilica dužine 240cm, u ravnini s vrhom ploče - PREDVIDJETI POSTAVU KALUPA U FAZI BETONIRANJA PODESTA. Uskladiti s detaljem vodilice. Profil se završno obrađuje plastificiranjem u RAL 7044.
B45: Voditi računa o propisnom sidrenju i statici (propisano bočno opterećenje). Ukupna visina ograde od gotovog poda 100cm. Statičku provjeru ograde daje izvođač. Ista mora izdržati horizontalno opterećenje od min. 700 N/m. Obračun po m' ograde.
B46: kom | C46: 6 | E46: =IF((D46>0),SUM(C46*D46),"kn") -> kn
A47: 2.1.3. | B47: OSTAKLJENA OGRADA
B48: Izrada, doprema i montaža ograde ostakljene ograde. Ograda se izrađuje sukladno detaljima u izvedbenom projektu. Ograda se izrađuje od kaljenog laminiranog stakla 8+8mm (elementi dužine cca 130-200cm, visine 110cm). Debljina folije PVB 1,52mm. Gornji rubovi stakla polirani. Mat brušeni inox rukohvat U oblika 3x2x3cm odnosno rukohvat od punog drveta, javor promjera 5cm. Staklo se postavlja unutar čeličnog U profila 120x50x120mm s dodatkom čelične pločice preko koje se fiksira u AB podnu ploču (slojevi poda prelaze preko pločice do profila) i fiksira unutar istog specijalnim trajnoelastičnim kitom za staklo. Profil se prije postave stakla učvršćuje u ab podest (nevidljivi prihvat). Profil se završno obrađuje plastificiranjem u boju RAL 7044.
B49: Voditi računa o propisnom sidrenju i statici (propisano bočno opterećenje). Ukupna visina ograde od gotovog poda 100cm. Statičku provjeru ograde daje izvođač. Ista mora izdržati horizontalno opterećenje od min. 700 N/m. Obračun po m' ograde.
B50: staklena ograda S02 - ispred stubišta dvorane
B51: - vidi izvedbeni projekt - list br. 2.5.6.6.
B52: m' | C52: 5.2 | E52: =IF((D52>0),SUM(C52*D52),"kn") -> kn
B53: staklena ograda S03 - pored dizala
B54: - vidi izvedbeni projekt - list br. 2.5.6.7.
B55: m' | C55: 2 | E55: =IF((D55>0),SUM(C55*D55),"kn") -> kn
B56: staklena ograda S05 - hodnik 1. kata (drveni rukohvat)
B57: - vidi izvedbeni projekt - list br. 2.5.6.9.
B58: m' | C58: 12 | E58: =IF((D58>0),SUM(C58*D58),"kn") -> kn
B59: staklena ograda S06 - hodnik 1. kata (drveni rukohvat)
B60: - vidi izvedbeni projekt - list br. 2.5.6.10.
B61: m' | C61: 5.2 | E61: =IF((D61>0),SUM(C61*D61),"kn") -> kn
A62: 2.1.4. | B62: OSTAKLJENA OGRADA TRIBINA
B63: Izrada, doprema i montaža ograde. Ograda se izrađuje sukladno DETALJU S04 - vidi izvedbeni projekt. Ograda se izrađuje od kaljenog laminiranog stakla 8+8mm (elementi dužine cca 130cm, visine 115cm). Debljina folije PVB 1,52mm. Gornji rubovi stakla polirani. Mat brušeni inox rukohvat U oblika 3x2x3cm. Staklo se postavlja unutar čeličnog U profila 200x50x200mm i fiksira unutar istog specijalnim trajnoelastičnim kitom za staklo. Profil se prije postave stakla učvršćuje u ab podest (nevidljivi prihvat). Profil se završno obrađuje plastificiranjem u RAL 7044.
B64: Voditi računa o propisnom sidrenju i statici (propisano bočno opterećenje). Ukupna visina ograde od gotovog poda 100cm. Statičku provjeru ograde daje izvođač. Ista mora izdržati horizontalno opterećenje od min. 700 N/m. Obračun po m' ograde.
B65: m' | C65: 6.5 | E65: =IF((D65>0),SUM(C65*D65),"kn") -> kn
A66: 2.1.5. | B66: ČELIČNA OGRADA STUBIŠTA
B67: Nabava čeličnog materijala, izrada i montaža sklopova i elemenata čelične konstrukcije unutarnje ograde stubišta. Ograda se izrađuje sukladno DETALJU S2, S3, S4, S5, S6, tehničkom opisu, te prema propisima za izradu i montažu čeličnih konstrukcija. Okvir ograde sastoji se od elemenata iz ravnih čeličnih profila 50/10mm I 50/20mm. Ispuna od vertikalno postavljenih čeličnih lamela 50/10 mm na razmaku do 14 cm. Ograda se pričvršćuje bočno u ab konstrukciju. Radovi “krojenja” čeličnih elemenata obavljaju se prema radioničkim nacrtima usklađenim (razrađenim) s izvedbenim projektom, odnosno u skladu s direktnim izmjerama na licu mjesta. Detalj spoja na ab konstrukciju razraditi u dogovoru s glavnim projektantom i projektantom konstrukcije. Antikorozivna zaštita čeličnih elemenata: Zaštitu protiv korozije izvesti temeljnim premazom i završnim lak premazom. Sve varove izvesti uredno, prije bojanja izbrusiti. Svi elementi čelične konstrukcije izvode se od standardnih toplo valjanih profila i limova, kvalitete čelika S235.
B68: Voditi računa o propisnom sidrenju i statici (propisano bočno opterećenje). Visina ograde od gotovog poda 100cm. Statičku provjeru ograde daje izvođač. Ista mora izdržati horizontalno opterećenje od min. 700 N/m. Obračun po m' ograde.
B69: U cijenu stavke uključiti izradu, dobavu i ugradnju ograde, završnu obradu, te uključiti sav potreban rad i materijal prema opisu u troškovniku, kao i sve dodatne radove i materijale potrebne da se izradi kompletna stavka kao oblikovna i funkcionalna cjelina, postav i pripasavanje, sav pomoćni materijal sa svom pripadajućom opremom, te pribavljanje svih potrebnih proračuna i atesta.
B70: ograda stubišta S2 (visina 134cm) RAL 1028
B71: - vidi izvedbeni projekt - list br. 2.5.6.1.
B72: m' | C72: 9.6 | E72: =IF((D72>0),SUM(C72*D72),"kn") -> kn
B73: ograda stubišta S3 (visina 134cm) RAL 1028
B74: - vidi izvedbeni projekt - list br. 2.5.6.2.
B75: m' | C75: 14.9 | E75: =IF((D75>0),SUM(C75*D75),"kn") -> kn
B76: ograda stubišta S4 (visina 134cm) RAL 1028, RAL 6000
B77: - vidi izvedbeni projekt - list br. 2.5.6.3.
B78: m' | C78: 23.7 | E78: =IF((D78>0),SUM(C78*D78),"kn") -> kn
B79: ograda stubišta S5 (visina 134cm) RAL 6000
B80: - vidi izvedbeni projekt - list br. 2.5.6.4.
B81: m' | C81: 11 | E81: =IF((D81>0),SUM(C81*D81),"kn") -> kn
B82: ograda stubišta S6 (visina 134cm) RAL 7044
B83: - vidi izvedbeni projekt - list br. 2.5.6.5.
B84: m' | C84: 4.3 | E84: =IF((D84>0),SUM(C84*D84),"kn") -> kn
A85: 2.1.6. | B85: ČELIČNI RUKOHVAT STUBIŠTA
B86: Nabava čeličnog materijala, izrada i montaža čeličnog rukohvata unutarnjeg stubišta. Rukohvat se izrađuje sukladno DETALJU S2, S3, S4, S5, S6, tehničkom opisu, te prema propisima za izradu i montažu čeličnih konstrukcija. Rukohvat izvesti prema nacrtima, tehničkom opisu, te prema propisima za izradu i montažu čeličnih konstrukcija. Rukohvat se pričvršćuje točkasto bočno u ab konstrukciju zida. montira se na visini od 100 cm bočno u ab zid. Izrađen od čeličnog profila 50/20mm. Radovi “krojenja” čeličnih elemenata obavljaju se prema radioničkim nacrtima usklađenim (razrađenim) s izvedbenim projektom, odnosno u skladu s direktnim izmjerama na licu mjesta. Detalj spoja na ab konstrukciju razraditi u dogovoru s glavnim projektantom i projektantom konstrukcije. Antikorozivna zaštita čeličnih elemenata: Zaštitu protiv korozije izvesti temeljnim premazom i završnim lak premazom. Sve varove izvesti uredno, prije bojanja izbrusiti. Svi elementi čelične konstrukcije izvode se od standardnih toplo valjanih profila i limova, kvalitete čelika S235.
B87: Voditi računa o propisnom sidrenju i statici (propisano bočno opterećenje). Visina rukohvata od gotovog poda na 90-100cm. Statičku provjeru ograde daje izvođač. Ista mora izdržati horizontalno opterećenje od min. 700 N/m. Obračun po m' rukohvata.
B88: rukohvat stubišta S2 RAL 7044
B89: - vidi izvedbeni projekt - list br. 2.5.6.1.
B90: m' | C90: 14.8 | E90: =IF((D90>0),SUM(C90*D90),"kn") -> kn
B91: rukohvat stubišta S3 RAL 7044
B92: - vidi izvedbeni projekt - list br. 2.5.6.2.
B93: m' | C93: 6.8 | E93: =IF((D93>0),SUM(C93*D93),"kn") -> kn
B94: rukohvat stubišta S4 RAL 7044
B95: - vidi izvedbeni projekt - list br. 2.5.6.3.
B96: m' | C96: 19 | E96: =IF((D96>0),SUM(C96*D96),"kn") -> kn
B97: rukohvat stubišta S5 RAL 7044
B98: - vidi izvedbeni projekt - list br. 2.5.6.4.
B99: m' | C99: 9 | E99: =IF((D99>0),SUM(C99*D99),"kn") -> kn
B100: rukohvat stubišta S5 RAL 7044
B101: - vidi izvedbeni projekt - list br. 2.5.6.5.
B102: m' | C102: 3.8 | E102: =IF((D102>0),SUM(C102*D102),"kn") -> kn
A103: 2.1.7. | B103: ČELIČNI RUKOHVAT GLAVNOG STUBIŠTA
B104: Nabava čeličnog materijala, izrada i montaža čeličnog rukohvata unutarnjeg glavnog stubišta oznake S1. Rukohvat se izrađuje sukladno DETALJU S1, tehničkom opisu, te prema propisima za izradu i montažu čeličnih konstrukcija. Rukohvat izvesti prema nacrtima, tehničkom opisu, te prema propisima za izradu i montažu čeličnih konstrukcija. Rukohvat se pričvršćuje točkasto bočno u čeličnu potkonstrukciju ograde. Montira se na visini od 100 cm, izrađen od čeličnog profila 50/20mm. Radovi “krojenja” čeličnih elemenata obavljaju se prema radioničkim nacrtima usklađenim (razrađenim) s izvedbenim projektom, odnosno u skladu s direktnim izmjerama na licu mjesta. Detalj spoja na čeličnu konstrukciju razraditi u dogovoru s glavnim projektantom i projektantom konstrukcije. Antikorozivna zaštita čeličnih elemenata: Zaštitu protiv korozije izvesti temeljnim premazom i završnim lak premazom. Sve varove izvesti uredno, prije bojanja izbrusiti. Svi elementi čelične konstrukcije izvode se od standardnih toplo valjanih profila i limova, kvalitete čelika S235.
B105: Voditi računa o propisnom sidrenju i statici (propisano bočno opterećenje). Visina rukohvata od gotovog poda na 90-100cm. Statičku provjeru ograde daje izvođač. Ista mora izdržati horizontalno opterećenje od min. 700 N/m. Obračun po m' rukohvata.
B106: rukohvat stubišta S1 RAL 6000
B107: - vidi izvedbeni projekt - list br. 2.4.29.
B108: m' | C108: 28 | E108: =IF((D108>0),SUM(C108*D108),"kn") -> kn
A109: 2.1.8. | B109: DEMONTAŽNA OGRADA KLIMA KOMORA NA KROVU
B110: Nabava materijala, izrada i montaža sklopova i elemenata čelične konstrukcije zaštitne ograda klima komora na krovu. Ograda služi kao vizualni zaklon klimakomora na krovu. Izrađuje se kao demontažna – od panela sa horizontalnim lamelama širine 45-85mm. Lamele su sa vanjske strane orijentirane prema gore na način da se vizualno sakriju klimakomore od pogleda iz razine tla. Visina ograde je 220cm, a visina panela sa lamelama 200cm. Paneli se učvršćuju na slobodnostojeću čeličnu potkonstrukciju koja se preko oslonaca postavlja direktno na krov. Oslonci moraju biti izvedeni od materijala predviđenog za ugradnju direktno na krovnu membranu. Potkonstrukcija se stabilizira betonskim elementima čija se količina ugrađuje sukladno proračunu opterećenja vjetra ovisno o odabranim lamelama. Ograda uključuje i izradu zaokretnih jednokrilnih vrata ukupne dimenzije (širine) krila 100mm visina kao i ograda - kom 2. Vrata sa mogućnošću zaključavanja. Svi metalni dijelovi vrućecinčani, a vidljivi dijelovi (paneli sa lamelama) bojani u RAL 7044. U cijeni stavke uključiti sve elemente ograde – paneli, lamele, potkonstrukcija, oslonci i betonski elementi.
B111: U cijenu stavke uključiti izradu, dobavu i ugradnju ograde, završnu obradu, te uključiti sav potreban rad i materijal prema opisu u troškovniku, kao i sve dodatne radove i materijale potrebne da se izradi kompletna stavka kao oblikovna i funkcionalna cjelina, postav i pripasavanje, sav pomoćni materijal sa svom pripadajućom opremom, te pribavljanje svih potrebnih proračuna i atesta. Obračun po m' izrađene, antikorozivno zaštićene i postavljene ograde.
B112: - vidi izvedbeni projekt - list br. 2.4.32.
B113: m | C113: 145 | E113: =IF((D113>0),SUM(C113*D113),"kn") -> kn
B115: PROTUPOŽARNA VRATA - PP
B116: Izrada, dobava i ugradnja protupožarnih čeličnih i aluminijskih vrata. Krilo je poravnato sa štokom u zatvorenom položaju, fuga 5 mm. Klasifikacija prema važećoj normi obuhvaća zaštitu od plamena i prolaza topline, klasa EI 30 ili EI 60; dimonepropusnost ispitanu pri 200ºC te sposobnost samozatvaranja (hidraulički zatvarač). Protupožarno jednostruko staklo je višeslojno, u potrebnoj klasi. U prostor između stakla i profila ugrađuje se ekspandirajući laminat koji u slučaju požara nabubri i zabrtvi taj dio konstrukcije. Brtvljenje između krila i štoka osigurano je pomoću 2 protupožarne trostrane brtve u klasi negorivosti. U seriju je moguća ugradnja različitih vrsta antipanik okova sukladno važećim normama, elektro-brave, kao i automatskog upravljanja.
B117: Dovratnik je izrađen od čeličnih profila, a vrata su puna, glatka, jednokrilna, zaokretna, izrađena od čeličnih profila s ispunom od čeličnog protupožarnog panela punjenog negorivom lameliranom kamenom vunom. Od okova u aluminijskoj ili inox mat izvedbi sadrže bravu, sistemsku kvaku, 2 3D podesiva panta koji se zavaruju na krilo te hidraulički zatvarač. Od sigurnosnih dodataka sadrže sigurnosni trn u krilu, ekspanzijsku traku koja se ugrađuje prema tehničkim uputstvima dobavljača sistema, teško zapaljivu brtvu krila, bimetalnu zaporku. Ugradnja u skladu s teh. uputama dobavljača sistema, važećim normama i propisima.
B118: Vrata moraju ograničiti stupanj prolaznosti dima kroz vrata. Vrata obavezno sadrže spuštajuću brtvu s donje strane krila, koja se zatvaranjem krila automatski spusti i zabrtvi prostor između krila i praga.
B119: Završna obrada dovratnika i vratnog krila plastificiranjem u RAL boji po izboru projektanta. Izvođač radova obavezan je prije početka završne plastifikacije podnijeti projektantima na uvid i odobrenje uzorke obojanih profila, što je uključeno u cijenu ove stavke.
B120: U cijenu stavke uključiti izradu, dobavu i ugradnju vrata, okova prema pojedinoj specifikaciji unutar stavke sa uključenim svim navedenim u predopisu iznad, dobavu dovratnika, slijepih dovratnika, ugradnju i završnu obradu, te uključiti sav potreban rad i materijal prema opisu u troškovniku, kao i sve dodatne radove i materijale potrebne da se izradi kompletna stavka kao oblikovna i funkcionalna cjelina, postav i pripasavanje, sav pomoćni materijal sa svom pripadajućom opremom te pribavljanje svih potrebnih atesta.
B121: Svaka stavka uključuje dobava i postava odbojnika u podu za svako vratno krilo, promjera 50mm, visine 37mm, od plemenitog mat čelika, s "puferom" od crne gume.
A122: 2.1.9. | B122: ČELIČNA PROTUPOŽARNA VRATA
...

Sheet 3-Okoliš 
A1: BR. | B1: OPIS STAVKE JED.MJERA | C1: KOLIČINA | D1: JED. CIJENA bez PDV-a | E1: UKUPNA CIJENA bez PDV-a
A3: 3 | B3: RADOVI UREĐENJA OKOLIŠA - TRG, PREDTRG, ŠETNICA UZ ZAPADNI DIO GRAĐEVINE (PJEŠAČKE POVRŠINE)
A5: 3.1. | B5: PRIPREMNI I ZEMLJANI RADOVI
B6: OPĆI UVJETI
B7: Sukladno geotehničkom elaboratu za potrebe uređenja temeljnog tla za manje zidove, okoliš, promete i pješačke površine dane su slijedeće preporuke: - Na području zahvata potrebno je izvesti zamjenu materijala u debljini od najmanje 0,50 m (humusni i površinski materijal). - Iskop postojećeg materijala vrši se zbog podložnosti ciklusima smrzavanja i odmrzavanja te ga je potrebno ukloniti. - Nakon iskopa potrebno je izravnati posteljicu za ugradnju kamenog materijala te izvesti zbijanje - Na dno iskopa je potrebno postaviti netkani geotekstil. Polaganjem geotekstila dolazi do odvajanja slojeva materijala bitno različitih karakteristika (granulometrijskog sastava kao i svojstava koja proizlaze iz toga) pri čemu se osigurava minimalna vodopropusnost kao i mehanizam filtriranja kojim se ograničava ispiranje sitnozrnatog materijala pri prolazu vode iz temeljnog tla u sloj od kamenog materijala. - Nakon polaganja geotekstila potrebno je ugraditi tampon od mehanički stabiliziranog drobljenog kamena granulacije 0-63 mm u dva sloja od 25,0 cm sa zbijanjem. Tampon se ugrađuje strojno te valja vibracijskim sredstvima - Zbijanjem tampona je potrebno postići minimalan modul stišljivosti od Ms=60,0 MN/m2 mjeren kružnom pločom Ø30 cm
B8: U cijeni svakog rada uključena sva potrebna sredstva za rad, režijski troškovi najma alata i prijevoznih sredstava, radne skele, sredstva za osiguranje ljudi, radnih sredstava i samog gradilišta. Pri izvođenju zatrpavanja po izvođenju temelja, materijal koji se koristi za zatrpavanje, obvezatno se nasipava u slojevima max debljine do 30 cm, uz zbijanje svakog sloja do statičkim proračunom ili troškovničkom stavkom predviđene zbijenosti. Zbijenost slojeva koji se zbijaju kontrolirati metodom kružne ploće. Obračun količina iskopa i nasipa u ovom troškovniku vršen je za sve zemljane i šljunčane materijale u sraslom (odn., zbijenom) stanju, ukoliko u pripadajučoj stavki-opisu rada nije izrijekom predviđeno drugačije.
B9: Izvođač radova je dužan izvršiti predradnje, pomoćne radnje te dobaviti i upotrijebiti pomoćne materijale i opremu kako bi se osigurala projektirana funkcionalnost i estetika građevine. Izvođač je dužan izraditi plan upravljanja otpadom i sav otpad zbrinuti prema važećim propisima. Izvođač radova se mora pridržavati važećih propisa zaštite na radu.
B10: U jediničnu cijenu stavki obavezno uključiti sve utovare i odvoze na deponiju predviđenu za tu namjenu sukladno zakonskim propisima bez obzira na udaljenost, sva potrebna razupiranja, osiguranja iskopa od urušavanja, crpljenja vode, deponiranja materijala na gradilišnu deponiju, koeficijente rastresitosti (svi obračuni vršiti će se u sraslom stanju), takse za deponij, nabave i dopreme materijala, razastiranja, zbijanja, valjanja i slično i sve ostale osnovne i pomoćne radove i materijale do potpune funkcionalne gotovosti pojedine stavke - ako opisom stavke nije drugačije određeno. Nakon iskopa terena za temelje a prije izvedbe temelja obavezno izvršiti pregled iskopa od strane geomehaničara što se posebno ne obračunava a podaci o pregledu unose se u građevinski dnevnik.
B11: Tijekom izvođenja radova na iskopu građevine potrebna je stalna prisutnost nadzornog inženjera, čije je obaveza da u cjelosti osigura izvedbu sukladno sa smjernicama općih uvjeta i projekta.Izvođač je dužan u cijenama stavaka uključiti sva potrebna kontrolna ispitivanja kojima je dužan dokazati kvalitetu izvedenih radova sukladno svim uvjetima iz projektne dokumentacije.Izvođač je dužan ugovoriti uslugu ovlaštenog geomehaničara te cijenu uračunati u jedinične cijene stavaka.
B12: Iskope, nasipe i temeljenje izvesti sukladno stavkama troškovnika i nacrtima i opisima unutar izvedbenih projekata.
A13: 3.1.1. | B13: UREĐENJE TEMELJNOG TLA MEHANIČKIM ZBIJANJEM
B14: Uređenje temeljnog tla mehaničkim zbijanjem - obuhvat zahvata: - predtrg, trg, pješačka staza uz zapadni dio građevine, ispod temelja potpornih zidova Rad obuhvaća prethodno čišćenje i planiranje, postizanje optimalne vlažnosti, vlaženjem ili rahljenjem i sušenjem, izravnavanje površine tla i zbijanje odgovarajućim sredstvima do tražene zbijenosti te sav rad, materijal i opremu koji su potrebni za potpuno dovršenje uključujući i ispitivanje i kontrolu kakvoće. Temeljno tlo treba zbiti tako da se postigne stupanj zbijenosti u odnosu na standardni Proctorov postupak min Sz ≥ 97%, odnosno modul stišljivosti metodom kružne ploče promjera 30 cm min Ms = 20 MN/m2. Obračun se vrši po m2 stvarno uređenog temeljnog tla.
B15: m2 | C15: 3293 | E15: =IF((D15>0),SUM(C15*D15),"kn") -> kn
B16: predtrg
B17: m2 | C17: 760 | E17: =IF((D17>0),SUM(C17*D17),"kn") -> kn
A18: 3.1.2. | B18: POSTAVA GEOTEKSTILA
B19: Uređenje slabonosivog temeljnog tla geotekstilom - obuhvat zahvata: predtrg, trg, pješačka staza uz zapadni dio građevine, ispod temelja potpornih zidova Rad obuhvaća nabavu, dopremu i ugradnju separacijskog geotekstila za odvajanje temeljnog tla i nosivog sloja od mehanički stabiliziranog zrnatog kamenog materijala. Jediničnom cijenom obuhvaćena je dobava materijala, svi radovi i prijevoz potrebni za ugradnju geoteksila. Karakteristike geotekstila: - masa: 300 g - vlačna čvrstoća min. 21 kN/m - vlačno istezanje >55% - otpornost na CBR proboj min. 3,5 kN - test dinamičkog proboja max. 10 mm - preklop 50 cm Obračun se vrši po m2 ugrađenog geoteksila.
B20: m2 | C20: 3293 | E20: =IF((D20>0),SUM(C20*D20),"kn") -> kn
B21: predtrg
B22: m2 | C22: 760 | E22: =IF((D22>0),SUM(C22*D22),"kn") -> kn
A23: 3.1.3. | B23: IZRADA NASIPA OD KAMENOG MATERIJALA
B24: Izrada nasipa (nosivog sloja) od mehanički stabiliziranog zrnatog kamenog materijala u debljini od d = 50 cm (dva sloja od po 25cm) - obuhvat zahvata: predtrg, trg, pješačka staza uz zapadni dio građevine, ispod temelja potpornih zidova Rad obuhvaća nabavu, dopremu i ugradnju zrnatog kamenog materijala 0/63 mm. U poprečnom smislu nasip uvijek mora imati pad od 4%. Svaki sloj mora se zbiti u punoj širini odgovarajućim sredstvima za zbijanje. Nasip treba zbiti tako da se postigne stupanj zbijenosti u odnosu na standardni Proctorov postupak min Sz ≥ 100%, odnosno modul stišljivosti metodom kružne ploče promjera 30 cm min Ms = 60 MN/m2. Izvedbu vremenski uskladiti s postavom mreže odvodnje i ostalih instalacijskih vodova. Jediničnom cijenom obuhvaćena je dobava materijala, svi radovi i prijevoz potrebni za izradu nasipa (nosivog sloja). Obračun se vrši po m3 ugrađenog i zbijenog nasipa.
B25: m3 | C25: 1785 | E25: =IF((D25>0),SUM(C25*D25),"kn") -> kn
B26: predtrg
B27: m3 | C27: 380 | E27: =IF((D27>0),SUM(C27*D27),"kn") -> kn
A28: 3.1.4. | B28: IZRADA NASIPA OD MIJEŠANOG MATERIJALA
B29: Izrada nasipa od miješanog materijala.Obuhvat zahvata: površine višeg nasipa, zapadni dio prema potpornim zidovima i ispod zelenila. NASIP SE IZVODI ODMAH NA POČETKU IZVOĐENJA RADOVA (potrebno je vrijeme da se isti stabilizira - faza izvođenja radova izvedbe građevine). Rad obuhvaća nabavu, dopremu i ugradnju mješanog materijala. Granulacija materijala treba biti takva da koeficijent nejednolikosti materijala U=d60/d10 bude veći od 9. Nasipni materijal ne smije se ugraditi na smrznutu podlogu. Isto tako, u nasip se ne smije ugrađivati snijeg, led ili smrznuti materijal. Maksimalna veličina zrna smije biti jednaka najviše polovici debljine sloja odnosno maksimalno 150,0 mm. Nasipni materijal nanosi se na uređeno temeljno tlo ili na već izrađeni sloj nasipa tek nakon što nadzorni inženjer preuzme temeljno tlo ili sloj već izrađenog nasipa. Kriteriji za ocjenu kakvoće ugrađenog materijala u slojeve nasipa navedeni su u građevinskom projektu temeljenja. Obračun po m³ ugrađenog i zbijenog materijala.
B30: m3 | C30: 2152 | E30: =IF((D30>0),SUM(C30*D30),"kn") -> kn
A31: 3.1.5. | B31: IZRADA NASIPA OD KAMENOG MATERIJALA
B32: Izrada nasipa od miješanog kamenog materijala. Obuhvat zahvata: - zatrpavanje uz potporne zidove uz zapadnu strane parcele NASIP SE IZVODI NAKON IZVEDBE OBJEKTA - u fazi izvedbe uređenja okoliša. Rad obuhvaća nabavu, dopremu i ugradnju kamenog materijala granulacije Ø0-63 mm. Rad obuhvaća nasipavnje, razastiranje, prema potrebi vlaženje ili sušenje, te planiranje materijala u nasipu prema dimenzijama i nagibima danim u projektu. U nasipu je potrebno koristiti kameni materijal iz iskopa. U poprečnom smislu nasip uvijek mora imati pad od 4%. Svaki sloj mora se zbiti u punoj širini odgovarajućim sredstvima za zbijanje. Obračun se vrši po m3 ugrađenog i zbijenog nasipa.
B33: m3 | C33: 474 | E33: =IF((D33>0),SUM(C33*D33),"kn") -> kn
A34: 3.1.6. | B34: IZRADA NOSIVOG SLOJA ISPOD POPLOČENJA PREF. AB PLOČAMA
B35: Izrada gornjeg nosivog sloja od mehanički stabiliziranog zrnatog kamenog materijala u debljini od d = 10-15 cm - obuhvat zahvata: pješačke površine - dio trga i ispod pješačke staze uz zapadni dio građevine (na kojima se nakon uređenja temeljnog tla izrađuje nasip od mješanog materijala) Rad obuhvaća nabavu, prijevoz i ugradnju zrnatog kamenog materijala 0/32 mm za potrebe izrade gornjeg nosivog sloja pješačkih površina koje se popločuju prefabricirnaim ab pločama i kockama. Modul stišljivosti Ms mjeren kružnom pločom promjera 30 cm treba biti minimalno 80 MN/m2. Stupanj zbijenosti Sz u odnosu na modificirani Proctor je min 100%. Jediničnom cijenom obuhvaćena je dobava materijala, svi radovi i prijevoz potrebni za izradu gornjeg nosivog sloja. Stavka obuhvaća sva ispitivanja zbijenosti zemljanih radova prema zahtjevima iz projekta i obaveza je izvođača radova. Obračun se vrši po m³ ugrađenog materijala u zbijenom stanju.
B36: m3 | C36: 210 | E36: =IF((D36>0),SUM(C36*D36),"kn") -> kn
A38: =A5 -> 3.1. | B38: UKUPNO PRIPREMNI I ZEMLJANI RADOVI | E38: =SUM(E15:E36) -> 0
A40: 3.2. | B40: ARMIRANO - BETONSKI RADOVI
B41: OPĆI UVJETI
B42: BETON / CEMENT / AGREGAT
B43: Čvrstoća betona određuje se razredom tlačne čvrstoće. Izvođač se mora strogo pridržavati razreda tlačne čvrstoće za pojedine konstrukcije prema statičkom proračunu.
B44: Beton spravljati isključivo strojnim putem. Beton se mora proizvoditi od prethodno ispitanih i tijekom vremena kontroliranih osnovnih materijala, u pogonima za proizvodnju betona, koji su funkcionalno projektirani, prethodno ispitani i kontrolirani u toku rada. Sastav betona mora biti projektiran računski i provjeren eksperimentalno u skladu sa postojećim tehničkim propisima i važećim standardima. Svojstva osnovnih materijala i ugrađenog betona moraju se dokazati laboratorijskim ispitivanjima koje će obaviti Izvođač radova putem organizacije registrirane za tu djelatnosti.
B45: Tekuću kontrolu osnovnih materijala i betona, koju obavlja Izvođač, kontrolira nadzorni inženjer. Za izradu betona upotrijebiti istu vrstu cementa i granulirani agregat. Pri betoniranju jedne cjelovite betonske ili AB konstrukcije upotrijebiti isključivo jednu vrstu cementa. Tehnička svojstva i drugi zahtjevi, te potvrđivanje sukladnosti mineralnog dodatka za beton, provodi se ovisno o vrsti mineralnog dodatka, prema važećem tehničkom propisu za betonske konstrukcije.
B46: Tehnička svojstva mineralnog dodatka betonu moraju ispuniti opće i posebne zahtjeve bitne za svojstva betona i ovisno o vrsti mineralnog dodatka moraju biti specificirana prema važećim normama. Za izradu betona predviđa se prirodno granulirani šljunak ili drobljeni agregat. Kameni agregat mora imati propisani granulometrijski sastav, mora biti dovoljno čvrst i postojan, ne smije sadržavati zemljanih i organskih sastojaka, niti drugih primjesa štetnih za beton i armaturu. Sve betonske konstrukcije izvesti prema izvedbenim projektima konstrukcije i propisima navedenim u istima.
B47: KONTROLNI POSTUPCI KOD UGRADNJE BETONA
B48: Prije ugradnje betona u oplati, odgovorna osoba izvođača i nadzorni inženjer moraju konstatirati ispravnost oplate i armature, te betonske mase, i to potvrditi upisom u građevinski dnevnik. Betoniranje prije ili bez ovog postupka ne smije se vršiti.
B49: Izvođač treba sukladno važećim normama prije početka ugradnje provjeriti da li je beton u skladu sa zahtjevima iz projekta betonske konstrukcije, te da li je tijekom transporta došlo do promjene njegovih svojstava koja bi bila od utjecaja na tehnička svojstva betonske konstrukcije.
B50: Kontrolni postupak utvrđivanja svojstava svježeg betona provodi se na uzorcima koji se uzimaju neposredno prije ugradnje betona u betonsku konstrukciju u skladu sa važećim zahtjevima i normama navedenim u izvedbenim projektima, a najmanje pregledom svake otpremnice i vizualnom kontrolom konzistencije kod svake dopreme (svakog vozila) te, kod opravdane sumnje ispitivanjem konzistencije istim postupkom kojim je ispitana u proizvodnji.
B51: Izvođač treba izraditi plan uzimanja uzoraka, za pojedine vrste betona, na osnovi operativnog plana radova u suglasnosti sa nadzornim inženjerom. Ispitivanje očvrsnulog betona će se provoditi na uzorcima uzetim tijekom izvođenja radova, a u skladu sa važećim normama. Uzorci su oblika kocke 15x15x15 cm ili valjka ɸ15/30 cm. Rezultati ispitivanja će se evidentirati redoslijedom kako su uzimani i grupirati u grupe betona koje su definirane u programu uzimanja kontrolnih betonskih uzoraka.
B52: Kod izvođenja betonskih radova treba voditi računa o tome kakve su atmosferske prilike, tj. ako je temperatura visoka prije betoniranja politi podlogu, odnosno tlo i eventualno oplatu kako ne bi došlo do upijanja vode iz betona. S ugradnjom betona može se započeti tek kada je oplata i armatura definitivno postavljena i učvršćena.
... B73: BETONI XC2 C30/37 Temelji, potporni zidovi, izloženi elementi XC1 C30/37 Svi ostali neizloženi betoni
A74: 3.2.1. | B74: PODLOŽNI BETON
B75: Betoniranje podložnog betona ispod temelja razredom tlačne čvrstoće C12/15 u sloju debljine 10cm. Podloga vodoravna širine temelja. Poravnavanje površine podložnog betona sa točnošću ±0,5 cm. Obračun po m³ betonske podloge ispod temelja.
B76: m³ | C76: 48 | E76: =IF((D76>0),SUM(C76*D76),"kn") -> kn
A77: 3.2.2. | B77: TEMELJNE TRAKE POTPORNH ZIDOVA
B78: Dobava, doprema i ugradnja betona armiranobetonskih temeljnih traka potpornih zidova širine 120-270cm, dubine 30 - 60cm, betonom klase C30/37, XC2, 2500 kg/m³, u potrebnoj oplati koja se obračunava ovom stavkom. U beton dodati dodatke za vodonepropusnost i plastičnost u propisanoj količini - vodocementni faktor v/cmax=0,65, minimalna količina cementa 260kg/m³. Prekide kod betoniranja izvesti trakama za dilatiranje odnosno prema uputama projektanta konstrukcije, a što se upisuje u građevinski dnevnik. Prilikom ugradnje beton vibrirati, a zatim pravilno njegovati. Obračun po m³ betona i m² oplate.
B79: beton C30/37, XC2
B80: m³ | C80: 226.5 | E80: =IF((D80>0),SUM(C80*D80),"kn") -> kn
B81: glatka oplata
B82: m² | C82: 254 | E82: =IF((D82>0),SUM(C82*D82),"kn") -> kn
A83: 3.2.3. | B83: AB POTPORNI ZIDOVI
B84: Dobava, doprema i ugradnja betona armiranobetonskih potpornih zidova d=30cm razredom tlačne čvrstoće C30/37, klase izloženosti XC2, u kompletnoj dvostranoj glatkoj oplati koja se obračunava ovom stavkom. U jediničnu cijenu stavke uključiti izradu, montažu i demontažu raznih umetaka (kalupa) za otvore, oplatu otvora i prodora u zidovima. U beton dodati dodatke za plastičnost u propisanoj količini. Ab zidovi ostaju u natur obradi - koristiti glatku, čistu oplatu. Betoniranje se izvodi uz propisano vibriranje. Obračun po m³ betona i m² oplate.
B85: beton C30/37, XC2
B86: m³ | C86: 237 | E86: =IF((D86>0),SUM(C86*D86),"kn") -> kn
B87: oplata
B88: m² | C88: 1548 | E88: =IF((D88>0),SUM(C88*D88),"kn") -> kn
A89: 3.2.4. | B89: AB STUBIŠTA/TRIBINE
B90: Dobava, doprema i ugradnja betona armiranobetonskih stubišta - tribina u oplati, betonom klase C30/37,klase izloženosti XC2, u kompletnoj glatkoj oplati koja se obračunava ovom stavkom. Armiranobetonski elementi tribina i stepenica izvode se prema nacrtima u izvedbenom arhitektonskom projektu - i završno se oblažu prefabriciranim ab elementima - debljine 10-15cm kao završnom oblogom - vidi nacrte. Betoniranje se izvodi uz propisano vibriranje. Izvesti u dogovoru s projektantom i izvođačem prefabriciranih betonskih obloga. Obračun po m³ betona i m² oplate.
B91: beton C30/37, XC2
B92: m³ | C92: 136 | E92: =IF((D92>0),SUM(C92*D92),"kn") -> kn
B93: glatka oplata
B94: m² | C94: 283 | E94: =IF((D94>0),SUM(C94*D94),"kn") -> kn
A95: 3.2.5. | B95: AB PLOČA - PODEST ZA KANTE ZA ODLAGANJE OTPADA
B96: Dobava, doprema i ugradnja betona armiranobetonske ploče-podesta u oplati, betonom klase C30/37,klase izloženosti XC2, u kompletnoj glatkoj oplati koja se obračunava ovom stavkom. Armiranobetonski elementi izvode se prema nacrtima u izvedbenom arhitektonskom projektu Betoniranje se izvodi uz propisano vibriranje. Obračun po m³ betona i m² oplate.
B97: beton C30/37, XC2
B98: m³ | C98: 3.4 | E98: =IF((D98>0),SUM(C98*D98),"kn") -> kn
B99: glatka oplata
B100: m² | C100: 3 | E100: =IF((D100>0),SUM(C100*D100),"kn") -> kn
A101: 3.2.5. | B101: AB TEMELJI STUPOVA OGRADE, KOŠEVA ZA SMEĆE, STALKA ZA BICIKLE
B102: Dobava, doprema i ugradnja betona armiranobetonskih temelja stupova panelne ograde, koševa za smeće, stalaka za bicikle i sl. potrebnih dimenzija, betonom klase C30/37, XC2, u potrebnoj oplati i armaturi koja se obračunava ovom stavkom. Obračun po komadu temelja s potrebnim betonom, oplatom i potrebnom armaturom.
B103: temelji stupova ograde 30x30x50cm
B104: kom | C104: 66 | E104: =IF((D104>0),SUM(C104*D104),"kn") -> kn
B105: temelji stupova ograde 50x50x80cm
B106: kom | C106: 24 | E106: =IF((D106>0),SUM(C106*D106),"kn") -> kn
B107: temelji stupova koševa za smeće 110x40cm
B108: kom | C108: 11 | E108: =IF((D108>0),SUM(C108*D108),"kn") -> kn
B109: temelji stalka za bicikle - ploča 90x30cm, dubine do 20cm (spoj u temeljnu traku, odnosno betonsku ploču)
B110: kom | C110: 84 | E110: =IF((D110>0),SUM(C110*D110),"kn") -> kn
A111: 3.2.6. | B111: BETONIRANJA MANJIH PRESJEKA
B112: Betoniranje raznih manjih presjeka betonom C 25/30 u glatkoj oplati sa podupiranjem, a za potrebe postave pojedinih elemenata. Ugradba ručna. Točnu poziciju prodora uskladiti s nacrtima instalacija i izvedenim prodorima Obračun za komplet radova sa svim potrebnim materijalom (oplata, armatura, njega i sl.) i radom.
B113: m³ | C113: 10 | E113: =IF((D113>0),SUM(C113*D113),"kn") -> kn
B115: ARMIRAČKI RADOVI
B116: OPĆI UVJETI
B117: Potvrđivanje sukladnosti armature proizvedene prema tehničkoj specifikaciji provodi se prema odredbama i specifikaciji navedenoj u izvedbenim projektima odnosno prema svim odgovarajućim važećim normama. Svaki proizvod treba biti jasno označen i prepoznatljiv. Ako ne postoje pravovaljani tvornički rezultati ispitivanja proizvodne šarže, iz koje je primljena pošiljka čelika za armiranje, Izvođač mora prije ugradnje čelika izvršiti kontrolna ispitivanja čelika. Za armaturni čelik Izvođač je dužan priložiti izjave o svojstvima.
B118: UGRADNJA ARMATURE
B119: Površina armature mora biti očišćena od slobodne hrđe i tvari koje mogu štetno djelovati na čelik, beton ili vezu između njih. Armatura će se na gradilište dovesti u savijenom stanju, a bit će rezana i savijena u armiračkom pogonu ili će se savijati na gradilištu prema nacrtima armature. Čelik za armiranje betona treba rezati i savijati prema projektnim specifikacijama. Pri tome : - savijanje treba izvoditi hladno jednolikom brzinom, - savijanje čelika pri temp. ispod -5 °C, ako je dopušteno projektnim specifikacijama, treba izvoditi uz poduzimanje odgovarajućih posebnih mjera osiguranja,
B120: Šipke čelične armature, zavarene mreže i predgotovljeni armaturni koševi ne smiju se oštetiti tijekom prijevoza, skladištenja, rukovanja i postavljanja u projektiranu poziciju. Prije postavljanja armature, mora se ista očistiti od prljavštine, masnoće i ljusaka od korozije. Ispod armature koja se postavlja na tlo potrebno je izvesti sloj za izravnanje. Prilikom ugradnje armature u betonske elemente obavezno je točno pozicioniranje prema statičkom proračunu, poštujući propisani zaštitini sloj armature za pojedini element.
B121: JEDINIČNA CIJENA
B122: Osim iznad navedenog jedinična cijena armiračkih radova uključuje još i slijedeće radove: a.pregled armature prije savijanja sa čišćenjem i sortiranjem b.sječenje, ravnanje i savijanje armature na gradilištu sa transportom do mjesta ugradnje ili savijanje u centralnoj armiračnici, transport do gradilišta, te horizontalni i vertikalni transport već gotovog savijenog čelika do mjesta ugradnje c. postavljanje i vezanje armature točno prema armaturnim nacrtima, sa podmetanjem podložaka, kako bi se osigurala potrebna udaljenost između armature i oplate. d. sve vrste podložaka, distancera i jahača koje je nužno ugraditi kako bi se ostvarili projektirani uvjeti konstrukcije e. pregled armature od strane izvođača, statičara i nadzornog inženjera prije početka betoniranja
B123: U poglavlju 2 izvedbenog projekta dan je iskaz i specifikacija uz slijedeće napomene (sve mora biti uključeno u jediničnu cijeu): - prikazana količina je neto ugrađena količina armature, - u iskazu nisu uključeni distanceri, jahači i drugi pomoćni elementi, - svi trnovi / ankeri koji se troškovnički obrađuju po komadu, - mase šipki u iskazu su prema nominalnom presjeku Masa šipki i mreža može se korigirati sukladno službenim tehničkim karakteristikama konkretno izabranog proizvoda (šipke, mreže). Prije narudžbe armature provjeriti količine prema nacrtima.
A124: 3.2.8. | B124: ARMATURA
B125: Izrada, doprema, ćišćenje, ispravljanje, sječenje, savijanje i postavljanje i vezivanje armature (glavna, pomoćna, jahači, podlošci i sl.) za a.b. konstrukcije od betonskog čelika B 500B. Armatura se veže paljenom žicom, iznimno varenjem. Distanceri PVC u dovoljnom broju. Prije betoniranja armaturu mora pregledati nadzorni inženjer. Mjerodavna je detaljna specifikacija prema izvedbenoj tehničkoj dokumentaciji - plan armiranja - u istoj su navedene neto količine ugrađene armature. Obračun po kg neto ugrađene armature uključeno sa svim potrebnim radnjama i elementima da se armatura dovede u projektom traženi položaj.
...

Sheet 4.Elektroinstalacije
A1: BR. | B1: OPIS STAVKE JED.MJERA | C1: KOLIČINA | D1: JED. CIJENA bez PDV-a | E1: UKUPNA CIJENA bez PDV-a
A3: 4 | B3: ELEKTROTEHNIČKI RADOVI
B5: OPĆI PROJEKTNI UVJETI
B6: Sve radove potrebno je izvesti u potpunosti prema projektu, troškovniku, svim važećim tehničkim propisima, normama, uputama proizvođača opreme i pravilima struke. Dinamika izvođenja radova mora se prilagoditi roku za završetak radova.
B7: U jediničnim cijenama svih stavki troškovnika, prilikom izrade ponude moraju biti obuhvaćeni ukupni troškovi materijala, opreme i rada za potpuno dovršenje cjelokupnog posla uključujući: nabavu i transport na gradilište, spajanje i montažu opreme prema priloženoj tehničkoj dokumentaciji s ugradnjom kvalitetnog elektroinstalacijskog materijala pomoću kvalificirane i stručne radne snage u skladu s važećim tehničkim propisima i pravilima struke, izradu prateće radioničke dokumentacije, građevinsku pripomoć u vidu izrade i zatvaranja šliceva za polaganje kabela, izrade niša s ugradnjom i obzidavanjem razvodnih ploča i svih ostalih građevinskih radova koji se odnose na elektroinstalaterske radove, izuzev ako je to izričito stavkom troškovnika traženo i nuđeno, puštanje sustava u rad, kao i ostali radovi koji nisu posebno iskazani specifikacijama, a potrebni su za potpunu i urednu izvedbu projektiranih instalacija, njihovu funkcionalnost, pogonsku gotovost i primopredaju korisniku (uputstva za rukovanje, izrada natpisnih pločica, pribavljanje potrebne dokumentacije za tehnički pregled i sl.), prateća čišćenja prostora tijekom izvođenja radova, svi potrebni prijenosi, utovari i istovari, uskladištenje i čuvanje.
B8: Svi radovi moraju se izvoditi sa stručno osposobljenom radnom snagom za svaku vrstu radova.
B9: U slučaju da izvođač radova izvede pojedine radove čiji kvalitet ne zadovoljava kvalitet predviđen projektom, dužan je o svom trošku iste radove ukloniti i ponovno izvesti onako kako je predviđeno projektom.
B10: Svu štetu koju Izvođač nanese nemarom okolnim prostorima, zgradama, predmetima, infrastrukturi i okolišu, dužan je popraviti i dovesti u prvobitno stanje i to o svom trošku. Izvođač je odgovoran za izvedene radove do primopredaje radova i u slučaju bilo kakve štete ili kvara dužan je o svom trošku to otkloniti.
B11: Izvođači su dužni prije podnošenja ponude temeljito pregledati projektnu dokumentaciju i procijeniti sve činjenice koje utječu na cijenu, kvalitetu i rok završetka radova, budući se naknadni prigovori i zahtjevi za povećanje cijene radi nepoznavanja ili nedovoljnog poznavanja građevine i projektne dokumentacije neće razmatrati.
B12: Prije početka radova izvođač radova dužan je u skladu s važećim propisima označiti i osigurati gradilište.
B13: Sve stavke troškovnika moraju su količinski kontrolirati prije narudžbe.
B14: Dopuštena odstupanja tehničkih karakteristika ponuđenih proizvoda u odnosu na tehničke podatke u troškovniku iznose maksimalno 5%. Odnosi se na sve stavke troškovnika, za sve navedene parametre.
B15: ELEKTROINSTALACIJA
B17: Kod podžbuknog polaganja kabela stavkama je obuhvaćeno dubljenje žlijeba i otvora za razvodne kutije u zidu, zatvaranje otvora, proboj zidova i ostala građevinska pripomoć.
... B29: U istu kutiju ne smiju se postavljati elementi instalacija jake i slabe struje.
A31: 4.1. | B31: ENERGETSKI PRIKLJUČAK I GLAVNI RAZVOD
A33: 4.1.1. | B33: Svi potrebni kontakti s nadležnim službama HEP-a, prijava instalacije, ormarić za gradilišni priključak, ishodovanje dokumentacije za gradilišni priključak.Izrada gradilišnog priključka nije predmet nuđenja i ugovara se nakon dogovora s HEP-om o mjestu priključenja i načinu izvedbe priključka.
B34: komplet | C34: 1 | E34: =IF((D34>0),SUM(C34*D34),"kn") -> kn
A35: 4.1.2. | B35: Glavna razvodna ploča - razdjelnik oznake GRP. Sastavljena je od tipskih polja u zaštiti IP55, ukupnih dimenzija 4700x2000x400mm. GRP je sastavljena od slijedećih elemenata:
B36: POLJE 1 - PRIKLJUČNO POLJE * ormar samostojeće izvedbe dimenzija 800x2000x400mm s postoljem visine 100mm i vratima, stupanj zaštite IP55 - kom 1 * tropolni niskonaponski prekidač 800A , 50kA opremljen elektronskom zaštitnom jedinicom 320-1600A i okidačem za daljinski isklop - kom 1 * multimetar za direktno kabelsko spajanje na glavni prekidač- kom 1 * tropolni niskonaponski prekidač 160A , 50kA opremljen termo magnetskom jedinicom TM100 - kom 2 * strujni mjerni transformator 500/5A - kom 1 * prenaponska zaštita klase I/B, 50kA, 3p - kom 1 * automatski prekidač C40A, 1p, 20kA kom 3 * rastalni osigurač tip STI 25/4A, 1p- kom 1 * sabirnice N i PE
B37: POLJE 2 - RAZVODNO POLJE MREŽE 1 * ormar samostojeće izvedbe dimenzija 800x2000x400mm s postoljem visine 100mm i vratima, stupanj zaštite IP55 - kom 1 * tropolni niskonaponski prekidač 400A , 36kA opremljen elektronskom zaštitnom jedinicom 160-400A- kom 1 * tropolni niskonaponski prekidač 100A , 25kA opremljen termo magnetskom jedinicom TM100- kom 4 * tropolni niskonaponski prekidač 100A , 25kA opremljen termo magnetskom jedinicom TM80- kom 3 * tropolni niskonaponski prekidač 100A , 25kA opremljen termo magnetskom jedinicom TM50 - kom 1 * sabirnice N i PE * kabelsko polje širine 300mm s postoljem za montažu između polja 2 i 3 - kom 1
B38: POLJE 3 - RAZVODNO POLJE MREŽE 2 * ormar samostojeće izvedbe dimenzija 800x2000x400mm s postoljem visine 100mm i vratima, stupanj zaštite IP55- kom 1 * tropolni niskonaponski prekidač 400A , 36kA opremljen elektronskom zaštitnom jedinicom 160-400A - kom 1 * tropolni niskonaponski prekidač 100A , 25kA opremljen termo magnetskom jedinicom TM100 - kom 3 * tropolni niskonaponski prekidač 100A , 25kA opremljen termo magnetskom jedinicom TM63 - kom 3 * sabirnice N i PE
B39: POLJE 4 - KOMPENZACIJA JALOVE ENERGIJE * ormar samostojeće izvedbe dimenzija 600x2000x400mm s postoljem visine 100mm i vratima, stupanj zaštite IP55 - kom 1 * Uređaj za automatsku kompenzaciju jalove energije snage 100kVAr, 2x25+2x50 kVAr, komplet s podešavanjem, spajanjem i puštanjem u rad.
B40: POLJE 5 - POLJE VLASTITE POTROŠNJE - GRP-VP * ormar samostojeće izvedbe dimenzija 800x2000x400mm s postoljem visine 100mm i vratima, stupanj zaštite IP55 - kom 1 * rastavna sklopka 0-1, 100A, 3p - kom 1 * prenaponska zaštita 20kA, 1p - kom 4 * automatski prekidač C20A, 1p, 10kA - kom 4 * trofazni relej za nadzor faza s podesivim naponskim područjem- kom 1 * instalacijski sklopnik 20A, 230V, 2NO - kom 3 * pomoćni sklopnik 10A, 230V, 1NO+1NC - kom 3 * izborna preklopka 1-0-2, 20A, 2p - kom 3 * prekidač s diferencijalnom zaštitom B32A / 30mA, 4p - kom 1 * prekidač s diferencijalnom zaštitom C16A / 30mA, 2p - kom 1 * prekidač s diferencijalnom zaštitom B16A / 30mA, 2p - kom 15 * prekidač s diferencijalnom zaštitom C10A / 30mA, 2p - kom 3 * prekidač s diferencijalnom zaštitom B10A / 30mA, 2p - kom 8 * prekidač s diferencijalnom zaštitom B6A / 30mA, 2p - kom 1 * automatski prekidač B4A, 1p, 10kA - kom 3 * automatski prekidač B6A, 1p, 10kA - kom 6 * automatski prekidač B6A, 3p, 10kA - kom 1 * automatski prekidač C16A, 1p, 10kA - kom 4 * automatski prekidač C10A, 1p, 10kA - kom 12 * sabirnice, stezaljke, natpisne pločice i ožičenje
B41: POLJE 6 - SIGURNOSNI ORMAR * ormar samostojeće izvedbe dimenzija 600x2000x400mm s postoljem visine 100mm i vratima, stupanj zaštite IP55 - kom 1 * sustav za izmjenu napajanja sastavljen od dva niskonaponska kompaktna zaštitna prekidača 160A, 4p s IVE, ACP, UA kontrolerom, motornim pogonom, pomoćnim kontaktima, fiksne izvedbe, u mehaničkoj i električkoj blokadi, sve do potpune funkcije sustava - kom 1 * teretna sklopka 160A, 3p - kom 1 * tropolna osiguračka pruga 160A s NH ulošcima osigurača - kom 4 * sabirnice N i PE * u ormar se smještaju osigurači za napajanje vlastite potrošnje agregata koje isporučuje i spaja isporučitelj agregata za rezervno napajanje * vrata ormara moraju biti obojana u crvenu boju * između polja 5 i 6 postavlja se čelični lim za požarno odvajanje * ulazi kabela u ormar moraju biti protupožarno brtvljeni * na vrata ormara postaviti natpis - "napajanje sigurnosnih potrošača - isključenje napajanja može izvršiti samo ovlaštena osoba"
B42: sva potrebna montažna i spojna oprema za ugradnju specificirane opreme u ormare do pune funkcionalnosti, sabirnice, igličaste sabirnice, redne stezaljke, sabirnice N i PE, spojni vodovi, plastične kanalice, natpisne pločice, kompletan spojni i montažni pribor, izrada tropolne i struje sheme prema jednopolnoj shemi iz projekta, izrada radioničke dokumentacije izjave u sukladnosti i sva potrebna dokumentacija za tehnički pregled građevine
B43: komplet | C43: 1 | E43: =IF((D43>0),SUM(C43*D43),"kn") -> kn
A44: 4.1.3. | B44: Razvodna ploča oznake RP-SUT1 - suteren. Ploča je samostojeće izvedbe dimenzija 1200x2000x400mm. Izrađena od lima, komplet s postoljem visine 100mm, vratima i bravom. U ploču je ugrađena slijedeća oprema: * rastavna sklopka 0-1, 160A, 3p - kom 1 * prenaponska zaštita 20kA, 1p - kom 4 * automatski prekidač C20A, 1p, 10kA- kom 4 * trofazni relej za nadzor faza s podesivim naponskim područjem - kom 1 * pomoćni sklopnik 10A, 230V, 1NO+1NC - kom 1 * preklopka 0-1, 20A, 1p - kom 1 * signalna lampica zelena 230V - kom 2 * signalna lampica crvena 230V - kom 2 * transformator 230/24V, 63VA - kom 1 * prekidač s diferencijalnom zaštitom C16A / 300mA, 4p - kom 13 * prekidač s diferencijalnom zaštitom B16A / 30mA, 2p - kom 25 * prekidač s diferencijalnom zaštitom C10A / 30mA, 2p - kom 5 * prekidač s diferencijalnom zaštitom B10A / 30mA, 2p - kom 25 * prekidač s diferencijalnom zaštitom B6A / 30mA, 2p - kom 1 * automatski prekidač B4A, 1p, 10kA - kom 2 * automatski prekidač B6A, 1p, 10kA - kom 3 * automatski prekidač B6A, 2p, 10kA - kom 3 * automatski prekidač B6A, 3p, 10kA - kom 1 * automatski prekidač C10A, 1p, 10kA - kom 1 * sabirnice, stezaljke, natpisne pločice i ožičenje
B45: komplet | C45: 1 | E45: =IF((D45>0),SUM(C45*D45),"kn") -> kn
A46: 4.1.4. | B46: Razvodna ploča oznake RP-P1 - prizemlje. Ploča je samostojeće izvedbe dimenzija 1200x2000x400mm. Izrađena od lima, komplet s postoljem visine 100mm, vratima i bravom. U ploču je ugrađena slijedeća oprema: * rastavna sklopka 0-1, 100A, 3p - kom 1 * prenaponska zaštita 20kA, 1p - kom 4 * automatski prekidač C20A, 1p, 10kA - kom 4 * trofazni relej za nadzor faza s podesivim naponskim područjem - kom 1 * prekidač s diferencijalnom zaštitom B16A / 30mA, 2p - kom 15 * prekidač s diferencijalnom zaštitom C10A / 30mA, 2p - kom 2 * prekidač s diferencijalnom zaštitom B10A / 30mA, 2p - kom 20 * prekidač s diferencijalnom zaštitom B6A / 30mA, 2p - kom 3 * automatski prekidač B6A, 1p, 10kA - kom 3 * automatski prekidač B6A, 3p, 10kA - kom 1 * sabirnice, stezaljke, natpisne pločice i ožičenje
B47: komplet | C47: 1 | E47: =IF((D47>0),SUM(C47*D47),"kn") -> kn
A48: 4.1.5. | B48: Razvodna ploča oznake RP-P2 - prizemlje. Ploča je samostojeće izvedbe dimenzija 1200x2000x400mm. Izrađena od lima, komplet s postoljem visine 100mm, vratima i bravom. U ploču je ugrađena slijedeća oprema: * rastavna sklopka 0-1, 100A, 3p - kom 1 * prenaponska zaštita 20kA, 1p - kom 4 * automatski prekidač C20A, 1p, 10kA - kom 4 * trofazni relej za nadzor faza s podesivim naponskim područjem - kom 1 * prekidač s diferencijalnom zaštitom B16A / 30mA, 2p - kom 20 * prekidač s diferencijalnom zaštitom C10A / 30mA, 2p - kom 6 * prekidač s diferencijalnom zaštitom B10A / 30mA, 2p - kom 20 * prekidač s diferencijalnom zaštitom B6A / 30mA, 2p - kom 2 * automatski prekidač B6A, 1p, 10kA - kom 4 * automatski prekidač B6A, 3p, 10kA - kom 1 * sabirnice, stezaljke, natpisne pločice i ožičenje
B49: komplet | C49: 1 | E49: =IF((D49>0),SUM(C49*D49),"kn") -> kn
A50: 4.1.6. | B50: Razvodna ploča oznake RP-P3 - prizemlje. Ploča je samostojeće izvedbe dimenzija 600x2000x300mm. Izrađena od lima, komplet s postoljem visine 100mm, vratima i bravom. U ploču je ugrađena slijedeća oprema: * rastavna sklopka 0-1, 63A, 3p - kom 1 * prenaponska zaštita 20kA, 1p - kom 4 * automatski prekidač C20A, 1p, 10kA - kom 4 * trofazni relej za nadzor faza s podesivim naponskim područjem - kom 1 * prekidač s diferencijalnom zaštitom B16A / 30mA, 2p - kom 6 * prekidač s diferencijalnom zaštitom C10A / 30mA, 2p - kom 1 * prekidač s diferencijalnom zaštitom B10A / 30mA, 2p - kom 6 * prekidač s diferencijalnom zaštitom B6A / 30mA, 2p - kom 1 * automatski prekidač B6A, 1p, 10kA - kom 2 * automatski prekidač B6A, 3p, 10kA - kom 1 * sabirnice, stezaljke, natpisne pločice i ožičenje
B51: komplet | C51: 1 | E51: =IF((D51>0),SUM(C51*D51),"kn") -> kn
A52: 4.1.7. | B52: Razvodna ploča oznake RP-K1 - kat. Ploča je samostojeće izvedbe dimenzija 1200x2000x400mm. Izrađena od lima, komplet s postoljem visine 100mm, vratima i bravom. U ploču je ugrađena slijedeća oprema: * rastavna sklopka 0-1, 160A, 3p - kom 1 * prenaponska zaštita 20kA, 1p - kom 4 * automatski prekidač C20A, 1p, 10kA - kom 4 * trofazni relej za nadzor faza s podesivim naponskim područjem - kom 1 * prekidač s diferencijalnom zaštitom B16A / 30mA, 2p - kom 20 * prekidač s diferencijalnom zaštitom C10A / 30mA, 2p - kom 6 * prekidač s diferencijalnom zaštitom B10A / 30mA, 2p - kom 27 * prekidač s diferencijalnom zaštitom B6A / 30mA, 2p - kom 3 * automatski prekidač B6A, 1p, 10kA - kom 2 * automatski prekidač B6A, 3p, 10kA - kom 1 * sabirnice, stezaljke, natpisne pločice i ožičenje
B53: komplet | C53: 1 | E53: =IF((D53>0),SUM(C53*D53),"kn") -> kn
A54: 4.1.8. | B54: Razvodna ploča oznake RP-K2 - kat. Ploča je samostojeće izvedbe dimenzija 1200x2000x400mm. Izrađena od lima, komplet s postoljem visine 100mm, vratima i bravom. U ploču je ugrađena slijedeća oprema: * rastavna sklopka 0-1, 160A, 3p - kom 1 * prenaponska zaštita 20kA, 1p - kom 4 * automatski prekidač C20A, 1p, 10kA - kom 4 * trofazni relej za nadzor faza s podesivim naponskim područjem - kom 1 * prekidač s diferencijalnom zaštitom B16A / 30mA, 2p - kom 40 * prekidač s diferencijalnom zaštitom C10A / 30mA, 2p - kom 6 * prekidač s diferencijalnom zaštitom B10A / 30mA, 2p - kom 30 * prekidač s diferencijalnom zaštitom B6A / 30mA, 2p - kom 1 * automatski prekidač B6A, 1p, 10kA - kom 4 * automatski prekidač B6A, 3p, 10kA - kom 1 * sabirnice, stezaljke, natpisne pločice i ožičenje
B55: komplet | C55: 1 | E55: =IF((D55>0),SUM(C55*D55),"kn") -> kn
A56: 4.1.9. | B56: Razvodna ploča oznake RP-VENT - ventilacija krov. Samostojeće izvedbe IP65, dimenzija 1000x1250x320mm, komplet s tipskim podnožjem ili tipskim temeljem, vratima i bravom. U ormar su ugrađeni slijedeći elementi: * teretna sklopka 0-1 100A, 3p - kom 1 * instalacijski sklopnik 20A, 230V, 2NO - kom 7 * pomoćni sklopnik 10A, 230V, 1NO+1NC - kom 8 * izborna preklopka 1-0-2, 20A, 2p - kom 7 * preklopka 0-1, 20A, 1p - kom 2 * signalna lampica zelena 230V - kom 14 * signalna lampica crvena 230V - kom 14 * transformator 230/24V, 63VA - kom 1 * kombinirani zaštitni prekidač B40A/30mA, 4p - kom 1 * priključnica 16A, 230V, IP55 - montirana u ormaru - kom 3 * priključnica 32A, 400V, IP55 industrijska - bočno na ormaru - kom 1 * automatski prekidač B32A, 3p - kom 1 * automatski prekidač C25A, 3p - kom 3 * automatski prekidač C20A, 3p - kom 4 * automatski prekidač C10A, 1p - kom 10 * automatski prekidač B6A, 1p - kom 3 * automatski prekidač B4A, 1p - kom 24 * temostat-higrostat - kom 1 * grijač snage 100W - kom 1 * ventilator vanjski IP54 (230x230 mm) - kom 1 * zaštitna rešetka za ventilator IP65 (230x230 mm) - kom 1 * zaštitna rešetka za ulaz zraka (230x230 mm)- kom 1 * prostor za montažu opreme za upravljanje * sabirnice, stezaljke, natpisne pločice i ožičenje
B57: komplet | C57: 1 | E57: =IF((D57>0),SUM(C57*D57),"kn") -> kn
A58: 4.1.10. | B58: Razvodna ploča oznake RP-SS - sprinkler stanica. Ploča je nadgradne modularne izvedbe 54 modula IP55. U ploču je ugrađena slijedeća oprema: * rastavna sklopka 0-1, 63A, 3p - kom 1 * trofazni relej za nadzor faza s podesivim naponskim područjem - kom 1 * prekidač s diferencijalnom zaštitom C16A / 30mA, 4p - kom 1 * prekidač s diferencijalnom zaštitom C16A / 30mA, 2p - kom 2 * automatski prekidač B6A, 3p, 10kA - kom 1 * automatski prekidač C10A, 1p, 10kA - kom 4 * automatski prekidač C16A, 1p, 10kA - kom 4 * sabirnice, stezaljke, natpisne pločice i ožičenje
B59: komplet | C59: 1 | E59: =IF((D59>0),SUM(C59*D59),"kn") -> kn
B60: Kabeli za napajanje iz TS položeni u kabelskoj kanalizaciji.
A61: 4.1.11. | B61: XP00-A 4x185 - oznaka kabela N
B62: m' | C62: 420 | E62: =IF((D62>0),SUM(C62*D62),"kn") -> kn
B63: Glavni vodovi položeni najvećim dijelom na nosačima kabela u spuštenom stropu.
A64: 4.1.12. | B64: FG16OR 5x25 - oznaka kabela M1 RP-SUT1
B65: m' | C65: 60 | E65: =IF((D65>0),SUM(C65*D65),"kn") -> kn
A66: 4.1.13. | B66: FG16OR 5x16 - oznaka kabela M2 RP-P1
B67: m' | C67: 70 | E67: =IF((D67>0),SUM(C67*D67),"kn") -> kn
A68: 4.1.14. | B68: FG16OR 5x25 - oznaka kabela M3 RP-P2
B69: m' | C69: 100 | E69: =IF((D69>0),SUM(C69*D69),"kn") -> kn
A70: 4.1.15. | B70: FG16OR 5x10 - oznaka kabela M4 RP-P3
B71: m' | C71: 20 | E71: =IF((D71>0),SUM(C71*D71),"kn") -> kn
A72: 4.1.16. | B72: FG16OR 5x25 - oznaka kabela M5 RP-K1
B73: m' | C73: 80 | E73: =IF((D73>0),SUM(C73*D73),"kn") -> kn
A74: 4.1.17. | B74: FG16OR 5x35 - oznaka kabela M6 RP-K2
B75: m' | C75: 130 | E75: =IF((D75>0),SUM(C75*D75),"kn") -> kn
A76: 4.1.18. | B76: 5 x FG16OR 1x120 - oznaka kabela M7 RP-DT
B77: m' | C77: 60 | E77: =IF((D77>0),SUM(C77*D77),"kn") -> kn
A78: 4.1.19. | B78: FG16OR 5x25 - oznaka kabela M8 RP-RT1
B79: m' | C79: 70 | E79: =IF((D79>0),SUM(C79*D79),"kn") -> kn
A80: 4.1.20. | B80: FG16OR 5x25 - oznaka kabela M9 RP-RT2
B81: m' | C81: 70 | E81: =IF((D81>0),SUM(C81*D81),"kn") -> kn
A82: 4.1.21. | B82: FG16OR 5x25 - oznaka kabela M10 RP-KOT
B83: m' | C83: 40 | E83: =IF((D83>0),SUM(C83*D83),"kn") -> kn
A84: 4.1.22. | B84: FG16OR 5x25 - oznaka kabela M10-1 RP-KOT1 (CNUS)
B85: m' | C85: 30 | E85: =IF((D85>0),SUM(C85*D85),"kn") -> kn
A86: 4.1.23. | B86: FG16OR 5x25 - oznaka kabela M11 RP-VENT
B87: m' | C87: 80 | E87: =IF((D87>0),SUM(C87*D87),"kn") -> kn
A88: 4.1.24. | B88: FG16OR 5x16 - oznaka kabela M12 RP-ST
B89: m' | C89: 40 | E89: =IF((D89>0),SUM(C89*D89),"kn") -> kn
A90: 4.1.25. | B90: FG16OR 5x16 - oznaka kabela M13 GRP-VP
B91: m' | C91: 10 | E91: =IF((D91>0),SUM(C91*D91),"kn") -> kn
A92: 4.1.26. | B92: 5 x FG16OR 1x120 - oznaka kabela M14 RP-KOMP
B93: m' | C93: 10 | E93: =IF((D93>0),SUM(C93*D93),"kn") -> kn
A94: 4.1.27. | B94: NHXH E90 5x50 - oznaka kabela S-01 RP-SIG
B95: m' | C95: 20 | E95: =IF((D95>0),SUM(C95*D95),"kn") -> kn
A96: 4.1.28. | B96: NHXH E90 5x50 - oznaka kabela S-02 RP-SIG Kabel se polaže na priboru E90, uključen u cijenu.
B97: m' | C97: 100 | E97: =IF((D97>0),SUM(C97*D97),"kn") -> kn
A98: 4.1.29. | B98: NHXH E90 5x25 - oznaka kabela S-1 RP-SC Kabel se polaže na priboru E90, uključen u cijenu.
B99: m' | C99: 50 | E99: =IF((D99>0),SUM(C99*D99),"kn") -> kn
A100: 4.1.30. | B100: NHXH E90 5x10 - oznaka kabela S-2 RP-D Kabel se polaže na priboru E90, uključen u cijenu.
B101: m' | C101: 100 | E101: =IF((D101>0),SUM(C101*D101),"kn") -> kn
A102: 4.1.31. | B102: NHXH E90 5x10 - oznaka kabela S-3 RP-SS Kabel se polaže na priboru E90, uključen u cijenu.
B103: m' | C103: 50 | E103: =IF((D103>0),SUM(C103*D103),"kn") -> kn
B104: Nosači kabela od pocinčanog čelika za polaganje kabela "jake" struje. U cijeni nosača uključeni su nosači za zid i strop, montažni i spojni pribor.
A105: 4.1.32. | B105: kabelske ljestve 600x110
B106: m' | C106: 30 | E106: =IF((D106>0),SUM(C106*D106),"kn") -> kn
A107: 4.1.33. | B107: 400x60
B108: m' | C108: 30 | E108: =IF((D108>0),SUM(C108*D108),"kn") -> kn
A109: 4.1.34. | B109: 300x60
B110: m' | C110: 100 | E110: =IF((D110>0),SUM(C110*D110),"kn") -> kn
A111: 4.1.35. | B111: 200x60
B112: m' | C112: 400 | E112: =IF((D112>0),SUM(C112*D112),"kn") -> kn
A113: 4.1.36. | B113: 100x60
B114: m' | C114: 400 | E114: =IF((D114>0),SUM(C114*D114),"kn") -> kn
A115: 4.1.37. | B115: Tipkalo za isključenje napajanja u slučaju požara.
B116: kom | C116: 4 | E116: =IF((D116>0),SUM(C116*D116),"kn") -> kn
...

Sheet 5. Sustav za dojavu požara
A1: BR. | B1: OPIS STAVKE JED.MJERA | C1: KOLIČINA | D1: JED. CIJENA bez PDV-a | E1: UKUPNA CIJENA bez PDV-a
A3: 5 | B3: SUSTAV ZA DOJAVU POŽARA
B5: OPĆI PROJEKTNI UVJETI
B6: Sve radove potrebno je izvesti u potpunosti prema projektu, troškovniku, svim važećim tehničkim propisima, normama, uputama proizvođača opreme i pravilima struke. Dinamika izvođenja radova mora se prilagoditi roku za završetak radova.
B7: 'U jediničnim cijenama svih stavki troškovnika, prilikom izrade ponude moraju biti obuhvaćeni ukupni troškovi materijala, opreme i rada za potpuno dovršenje cjelokupnog posla uključujući: nabavu i transport na gradilište, spajanje i montažu opreme prema priloženoj tehničkoj dokumentaciji s ugradnjom kvalitetnog elektroinstalacijskog materijala pomoću kvalificirane i stručne radne snage u skladu s važećim tehničkim propisima i pravilima struke, izradu prateće radioničke dokumentacije, građevinsku pripomoć u vidu izrade i zatvaranja šliceva za polaganje kabela, izrade niša s ugradnjom i obzidavanjem razvodnih ploča i svih ostalih građevinskih radova koji se odnose na elektroinstalaterske radove, izuzev ako je to izričito stavkom troškovnika traženo i nuđeno, puštanje sustava u rad, kao i ostali radovi koji nisu posebno iskazani specifikacijama, a potrebni su za potpunu i urednu izvedbu projektiranih instalacija, njihovu funkcionalnost, pogonsku gotovost i primopredaju korisniku (uputstva za rukovanje, izrada natpisnih pločica, pribavljanje potrebne dokumentacije za tehnički pregled i sl.), prateća čišćenja prostora tijekom izvođenja radova, svi potrebni prijenosi, utovari i istovari, uskladištenje i čuvanje.
B8: U slučaju da izvođač radova izvede pojedine radove čiji kvalitet ne zadovoljava kvalitet predviđen projektom, dužan je o svom trošku iste radove ukloniti i ponovno izvesti onako kako je predviđeno projektom.
B9: Svu štetu koju izvođač nanese nemarom okolnim prostorima, zgradama, predmetima, infrastrukturi i okolišu, dužan je popraviti i dovesti u prvobitno stanje i to o svom trošku. Izvođač je odgovoran za izvedene radove do primopredaje radova i u slučaju bilo kakve štete ili kvara dužan je o svom trošku to otkloniti.
B10: Izvođači su dužni prije podnošenja ponude temeljito pregledati projektnu dokumentaciju i procijeniti sve činjenice koje utječu na cijenu, kvalitetu i rok završetka radova, budući se naknadni prigovori i zahtjevi za povećanje cijene radi nepoznavanja ili nedovoljnog poznavanja građevine i projektne dokumentacije neće razmatrati.
B11: Prije početka radova izvođač radova dužan je u skladu s važećim propisima označiti i osigurati gradilište.
B12: Sve stavke troškovnika moraju su količinski kontrolirati prije narudžbe.
B13: Dopuštena odstupanja tehničkih karakteristika ponuđenih proizvoda u odnosu na tehničke podatke u troškovniku iznose maksimalno 5%. Odnosi se na sve stavke troškovnika, za sve navedene parametre.
B15: ELEKTROINSTALACIJA
B17: Kod podžbuknog polaganja kabela stavkama je obuhvaćeno dubljenje žlijeba i otvora za razvodne kutije u zidu, zatvaranje otvora, proboj zidova i ostala građevinska pripomoć.
B18: Kod izvođenja el.instalacije u montažnim pregradnim zidovima i stropovima (gips, drvo,metal) instalaciju izvoditi obavezno u samogasivim savitljivim PVC instalacijskim cijevima, a koristiti posebne montažne i razvodne kutije za montažu u pregrade.
A20: 5.1. | B20: SUSTAV ZA DOJAVU POŽARA
A22: 5.1.1 | B22: Analogno adresabilna vatrodojavna centrala za 4 analogno adresabilne petlje, komplet s akumulatorima 2x17Ah/12V, softwareom i programiranjem. IP komunikator.Vatrootporni ormar otpornosti 60 minuta za smještaj centrale.
B23: komplet | C23: 1 | E23: =IF((D23>0),SUM(C23*D23),"kn") -> kn
A24: 5.1.2. | B24: Izdvojeni signalno upravljački display.
B25: kom | C25: 2 | E25: =IF((D25>0),SUM(C25*D25),"kn") -> kn
A26: 5.1.3. | B26: Optički analogno adresabilni javljač požara, komplet s podnožjem.
B27: kom | C27: 250 | E27: =IF((D27>0),SUM(C27*D27),"kn") -> kn
A28: 5.1.4. | B28: Ručni analogno adresabilni javljač požara.
B29: kom | C29: 25 | E29: =IF((D29>0),SUM(C29*D29),"kn") -> kn
A30: 5.1.5. | B30: Ulazno/izlazni analogno adresabilni modul s kutijom za montažu.
B31: kom | C31: 65 | E31: =IF((D31>0),SUM(C31*D31),"kn") -> kn
A32: 5.1.6. | B32: Paralelni indikator za javljače u spuštenom stropu.
B33: kom | C33: 65 | E33: =IF((D33>0),SUM(C33*D33),"kn") -> kn
A34: 5.1.7. | B34: Vatrodojavna aktivna infracrvena barijera dometa 5-40m s refleksnim zrcalom, motorom za samopodešavanje i dodatnim kontrolerom.
B35: kom | C35: 7 | E35: =IF((D35>0),SUM(C35*D35),"kn") -> kn
A36: 5.1.8. | B36: Zener barijera za spajanje 2 zone u Ex izvedbi na vatrodojavnu centralu.
B37: kom | C37: 1 | E37: =IF((D37>0),SUM(C37*D37),"kn") -> kn
A38: 5.1.9. | B38: Relejni adapter za prijenos stanja zone požarnog sustava u Ex prostoru.
B39: kom | C39: 2 | E39: =IF((D39>0),SUM(C39*D39),"kn") -> kn
A40: 5.1.10. | B40: Optički javljač požara u Ex izvedbi, komplet s podnožjem.
B41: kom | C41: 1 | E41: =IF((D41>0),SUM(C41*D41),"kn") -> kn
A42: 5.1.11. | B42: Ručni javljač požara u Ex izvedbi.
B43: kom | C43: 1 | E43: =IF((D43>0),SUM(C43*D43),"kn") -> kn
A44: 5.1.12. | B44: Dodatno napajanje za IC barijere. IP44, RS232/485, 3 relejna kontakta, baterija 2x12V/24Ah, komplet s kućištem 390x350x140mm.
B45: komplet | C45: 1 | E45: =IF((D45>0),SUM(C45*D45),"kn") -> kn
A46: 5.1.13. | B46: Dobava i polaganje bezhalogenog vatrodojavnog instalacijskog kabela JEB-H(St)H FE180 E30 1x2x0,8, očuvanje funkcije u požaru 30 minuta. Kabel se polaže u PVC i PNT instalacijskim cijevima unutar spuštenog stropa i nadžbukno. U cijenu kabela uključena je PVC ili PNT instalacijska cijev crvene boje.
B47: m | C47: 7000 | E47: =IF((D47>0),SUM(C47*D47),"kn") -> kn
A48: 5.1.14. | B48: Dobava i polaganje bezhalogenog vatrodojavnog instalacijskog kabela JEB-H(St)H FE180 E30 4x2x0,8, očuvanje funkcije u požaru 30 minuta. Kabel se polaže u PVC instalacijskim cijevima unutar spuštenog stropa i podžbukno. U cijenu kabela uključena je PVC instalacijska cijev.
B49: m | C49: 100 | E49: =IF((D49>0),SUM(C49*D49),"kn") -> kn
A50: 5.1.15. | B50: Dobava i polaganje instalacijskog kabela za Ex zone JEB-H(St)H FE180 E30 1x2x0,8, očuvanje funkcije u požaru 30 minuta, plavi plašt. Kabel se polaže u PVC i PNT instalacijskim cijevima unutar spuštenog stropa i nadžbukno. U cijenu kabela uključena je PVC ili PNT instalacijska cijev crvene boje.
B51: m | C51: 100 | E51: =IF((D51>0),SUM(C51*D51),"kn") -> kn
A52: 5.1.16. | B52: Puštanje sustava u rad. Programiranje centrale. Obuka korisnika. Knjiga održavanja, plan uzbunjivanja.
B53: komplet | C53: 1 | E53: =IF((D53>0),SUM(C53*D53),"kn") -> kn
A54: 5.1.17. | B54: Ispitivanje i atestiranje instalacije. Izrada projekta izvedenog stanja.
B55: komplet | C55: 1 | E55: =IF((D55>0),SUM(C55*D55),"kn") -> kn
A57: 5.1. | B57: UKUPNO SUSTAV ZA DOJAVU POŽARA | E57: =SUM(E22:E55) -> 0

Sheet 6-Strojarske instalacije
A1: BR. | B1: OPIS STAVKE JED.MJERA | C1: KOLIČINA | D1: JED. CIJENA bez PDV-a | E1: UKUPNA CIJENA bez PDV-a
A3: 6 | B3: RADOVI STROJARSKIH INSTALACIJA GRIJANJA, HLAĐENJA I VENTILACIJE
B5: OPĆE NAPOMENE
B6: U jediničnim cijenama svih navedenih stavki specifikacija, prilikom izrade ponude (nuđenje izvedbe instalacija) moraju biti sadržani i obuhvaćeni ukupni troškovi opreme i uređaja, ukupni troškovi materijala i rada za potpuno dovršenje cjelokupnog posla uključujući:
B7: ‒ izradu potrebne prateće radioničke dokumentacije, ‒ prateća ispitivanja (tlačne, funkcionalne probe i sl.) s izradom pismenog izvješća, ‒ puštanje u probni pogon, ‒ podešavanje radnih parametara, ‒ puštanje u funkcijski-trajni rad, ‒ izradu primopredajne dokumentacije, ‒ izradu projekta izvedenog stanja,
B8: kao i ostale radove koji nisu posebno iskazani specifikacijama, a potrebni su za potpunu i urednu izvedbu projektiranih instalacija, njihovu funkcionalnost, pogonsku gotovost i primopredaju korisniku kao npr. uputstva za rukovanje i održavanje, izradu natpisnih pločica i oznaka, pribavljanje potrebne dokumentacije za uporabnu dozvolu i sl.
B9: Izvođači su obvezni prije podnošenja ponude temeljito pregledati projektnu dokumentaciju, te procjeniti relevantne činjenice koje utječu na cijenu, kvalitetu i rok završetka radova.
B10: Prateća čišćenja prostora tijekom izvedbe radova, kao i obuka osoblja korisnika u rukovanju instalacijom do konačne - službene primopredaje investitoru odnosno krajnjem korisniku, moraju biti uključena u ponudbenu cijenu.
B11: U troškovima opreme i uređaja, podrazumijeva se njihova nabavna cijena, transpotrni troškovi, svi potrebni prijenosi, utovari i istovari, uskladištenje i čuvanje, sve fco. montirano, prema projektnoj dokumentaciji, odnosno u skladu s predmetnim općim napomenama.
B12: U troškovima materijala, podrazumijeva se nabavna cijena kako primarnog, tako i kompletnog pomoćnog spojnog - potrošnog materijala, uključivo sa svim potrebnim prijenosima, utovarima i istovarima, uskladištenjem i čuvanjem.
B13: Za sve izvedene radove, ugrađene materijale i opremu, potrebno je u skladu s propisima pribaviti dokaze o kakvoći (atestna dokumentacija i sl.), koji se bez posebne naknade daju na uvid nadzornom inženjeru, a prilikom primopredaje građevine uručuju investitoru, odnosno krajnjem korisniku.
B14: U ponudbenim cijenama mora biti obuhvaćen sav rad, uporaba lakih pokretnih skela, sva potrebna podupiranja, sav unutrašnji transport te potrebna zaštita izvedenih radova.
B15: Jedinična cijena svake stavke uključuje radnu snagu potrebnu za izvedbu, organizaciju na gradilištu, režije i sve ostalo potrebno za izvedbu funkcionalne stavke.
B16: Za eventualne štete uzrokovane neodgovornim ili nestručnim radom odgovara izvođač radova, te ih je obvezan nadoknaditi investitoru.
B17: Dopuštena odstupanja tehničkih karakteristika ponuđenih proizvoda u odnosu na tehničke podatke u troškovniku iznose maksimalno 5%. Odnosi se na sve stavke troškovnika, za sve navedene parametre. Za sve definirane RAL boje potrebno je prije konačne narudžbe i lakiranja dostaviti uzorak na odobrenje projektantu.
A19: 6.1. | B19: INSTALACIJA GRIJANJA, HLAĐENJA i VENTILACIJE SPORTSKE DVORANE
A21: 6.1.1. | B21: Dobava i ugradnja krovne kompaktne jedinice, “Roof-top” uređaja za potrebe grijanja, hlađenja i ventilacije sportske dvorane. Uređaj je opremljen izvorom toplinske/rashladne energije u izvedbi dizalice topline za potrebe grijanja/hlađenja te plinskom sekcijom za potrebe grijanja pri nižim vanjskim temperaturama zraka. Za potrebe ventilacije prostora odnosno izmjene zraka uređaj je opremljen ventilacijskom sekcijom s visokoučinkovitim regeneratorom topline za potrebe iskorištavanja topline iz otpadnog zraka.
B22: Opis uređaja:
B23: Uređaj priprema topli/hladni zrak uz udio svježeg zraka za potrebe grijanja/hlađenja/ventilacije prostora sportske dvorane te putem ventilacijskih kanala distribuira pripremljeni zrak u prostor. Uređaj je namijenjen za vanjsku ugradnju na ravni krov. Prostor oko isparivača rashladnog kruga, te dobavnog zraka izoliran je toplinskom i zvučnom izolacijom koja je prekrivena aluminijskim limom otpornim na požar. Postolje uređaja sačinjeno je od fiksnih čeličnim profila s bočnim otvorima radi lakšeg transporta uređaja dizalicom. Dobavni ventilatori zraka opremljeni su pogonskim remenima i podesivim promjerom remenice na motoru za potrebe regulacije protoka zraka. Uređaj je opremljen perivim filterima klase G4 s preko 90% učinkovitosti. Rashladni krug opremljen je s dva spiralna kompresora u tandem verziji radi veće sigurnosti pogona, veće efikasnosti sustava pri parcijalnim opterećenjima, te mogućnosti rada do visoke vanjske temperature zraka od 52°C u režimu hlađenja. S ugrađenim brojačem sati rada svakog pojedinog kompresora, sustav podjednako koristi oba kompresora. Kompresori su montirani na fleksibilnim podloškama radi spriječavanja prijenosa vibracija na građevinu, te smanjenju buke.
B24: Plinski plamenik je opremljen podesivim elektromagnetskim ventilom, visokonaponskim transformatorom i svom ostalom opremom za automatski i siguran rad. Odvod dimnih plinova direktno u atmosferu bez potrebe za dimnjakom. Ventilacijska sekcija za potrebe ventilacije prostora odnosno izmjene zraka opremljena je s tlačnim i odsisnim ventilatorima, motoriziranim regulacijskim žaluzinama, visokoučinkovitim regeneratorom topline za potrebe iskorištavanja topline iz otpadnog zraka te perivim filterima klase G4 s preko 90% učinkovitosti.
B25: Glavne komponente uređaja:
B26: - tandem spiralni kompresori koji omogućavaju rad jedinice u djelomičnom opterećenju sa većom iskoristivosti i radom do vanjske temperature od 52°C u režimu hlađenja - izmjenjivači topline izvedeni iz alumunijskih lamela i bakrenih cijevi sa antikorozivnim zaštitnim premazom - priključci za VT i NT manometre - visokoučinkovit atmosferski plinski plamenik s elektronskim paljenjem - aksijalni ventilatori kondezatora sa niskom razinom buke i zaštitnom rešetkom - unutarnji centrifugalni ventilator pojačane izvedbe - soft start modul za sporo ukopčavanje unutarnjeg ventilatora (do 5.5 kW) - perivi filteri klase G4 u metalnom okviru - detektor zaprljanosti filtera sa komunikacijskom karticom - fiksni okvir za montažu na ravni krov, visine 400 mm izrađen od pocinčanih čeličnih profila - programabilnim zidni regulator - zidni prostorni osjetnik temperature za daljinsko očitanje sobne temperature - komunikacijska kartica Modbus - zaštitna mreža kondenzatora - komplet sapnica za prirodni plin "- ventilacijska sekcija odnosno regenerator zraka koji iskorištava (osjetnu i latentnu) toplinu iz otpadnog zraka te je prenosi na svježi zrak.
B27: Sastoji se od: tlačnog i odsisnog centrifugalnog ventilatora, osjetnika kvalitete unutarnjeg zraka, motoriziranih regulacijskih žaluzina za potrebe miješanja optočnog i svježeg zraka, motoriziranog regeneratora topline, filterima zraka.
B29: Tehničke karakteristike:
B30: Hlađenje: - stanje vanjskog zraka: 35°C - stanje unutarnjeg zraka DB/WB: 27/19°C - kapacitet: 62 kW - apsorbirana električna snaga: 20 kW - regulacija snage: 2 stupnja
B31: Grijanje: - stanje vanjskog zraka DB/WB: +7/6°C - stanje unutarnjeg zraka: 20°C - kapacitet (dizalica topline): 58 kW - apsorbirana električna snaga: 19 kW - kapacitet – grijanja (plinski grijač): 76 kW - regulacija snage (dizalica topline): 2 stupnja - regulacija snage (plinski grijač): 2 stupnja
B32: Unutarnji ventilator: - nominalni protok unutarnjeg zraka: 11.500 m³/h - dostupni vanjski statički tlak ventilatora pri nominalnom protoku: 400 Pa
B33: Elektro priključak: - 3 x 400 V + N / 50 Hz
B34: Buka: - nivo zvučnog tlaka na 10 m: 55.8 dB(A)
... B40: Napomena: - Rooftop ima vertikalne priključke za ventilacijske kanale s donje strane uređaja - Predvidjeti sate rada (16 sati) za potrebe sastavljanja ventilacijske sekcije s uređajem prema uputama proizvođača - Čelična potkonstrukcija za postavljanje rooftop-a obrađena je u izvedbenom arhitektonskom projektu
B41: kom | C41: 2 | E41: =IF((D41>0),SUM(C41*D41),"kn") -> kn
A42: 6.1.2. | B42: Puštanje u pogon uređaja iz prethodne stavke od strane ovlaštene oobe uz provjeru fukcionalnosti, provjera pozicija i ožičenja opreme, parametriranje regulacije prema potrebama sustava, ispitivanje svih radnih parametra uređaja uz ispunjavanje i izdavanje ispitnog lista i servisne kartice, te održavanja na hrvatskom jeziku. Tijekom puštanja u pogon asistirati inženjeru CNUS-a za potrebe integracija uređaja u CNUS.
B43: kompleta | C43: 2 | E43: =IF((D43>0),SUM(C43*D43),"kn") -> kn
A44: 6.1.3. | B44: Dobava i ugradnja jedrenih platna za elastični spoj roof-top-a sa tlačnim i odsisnim ventilacijskim kanalom. Dimenzija jedrenih platna su sljedeće: 887×840 mm - 1 kom. 887×544 mm - 1 kom.
B45: kompleta | C45: 2 | E45: =IF((D45>0),SUM(C45*D45),"kn") -> kn
A46: 6.1.4. | B46: Izrada i ugradnja ventilacijskih kanala pravokutnog poprečnog presjeka iz pocinčanog lima, kompletno sa svim potrebnim koljenima, suženjima, račvama, te spojnim i brtvenim materijalom. Debljina lima ovisno o dimenziji kanala za tlakove do 500 Pa u nastavku: Veća stranica kanala (mm) Debljina lima (mm) do 500 0,60 od 501 do 1.000 0,80 od 1.001 do 2.000 1,00
B47: kg | C47: 1450 | E47: =IF((D47>0),SUM(C47*D47),"kn") -> kn
A48: 6.1.5. | B48: Izrada i ugradnja ventilacijskih kanala iz pocinčanog lima, kompletno sa svim potrebnim koljenima, suženjima, račvama, te spojnim i brtvenim materijalom. Kanali su okruglog presjeka i izvedeni u “SPIRO” tehnici sa tvornički izrađenim cijevima i fazonskim komadima. Debljina lima ovisno o dimenziji kanala za tlakove do 500 Pa u nastavku: Promjer kanala (mm) Debljina lima (mm) do 500 0,60 od 501 do 1.000 0,80 od 1.001 do 1.400 1,00
B49: kg | C49: 2600 | E49: =IF((D49>0),SUM(C49*D49),"kn") -> kn
A50: 6.1.6. | B50: Dobava i ugradnja samoljepljive toplinske izolacije s parnom branom debljine 13 mm, vatrootpornosti B-s3-d0, za potrebe oblaganja tlačnog i odsisnog ventilacijskog kanala roof-top-a s vanjske strane kanala. Kompletno sa pripadajućim materijalom za njenu ugradnju npr. ljepilo i sl.
B51: m2 | C51: 400 | E51: =IF((D51>0),SUM(C51*D51),"kn") -> kn
A52: 6.1.7. | B52: Dobava boje za crnu toplinsku izolaciju i bojanje tlačnih ventilacijskih kanala u sportskoj dvorani kružnog poprečnog presjeka. Potrošnja boje iznosi cca. 2,5 l/m2. Boja za bojanje toplinske izolacije RAL 7044. Prije konačne narudžbe i bojanja uzorak dostaviti na odobrenje projektantu.
B53: m2 | C53: 310 | E53: =IF((D53>0),SUM(C53*D53),"kn") -> kn
A54: 6.1.8. | B54: Dobava i ugradnja zvučno apsorbirajućeg sloja, debljine 25 mm, za potrebe oblaganja unutrašnje strane kvadradnih tlačnih i odsisnih ventilacijskih kanala neposredno uz roof-top uređaj, kompletno sa pripadajućim materijalom za ugradnju npr. ljepilo i sl. Tehnička karakteristika zvučne izolacije: - αS = 0,35 pri 250 Hz
B55: m2 | C55: 30 | E55: =IF((D55>0),SUM(C55*D55),"kn") -> kn
A56: 6.1.9. | B56: Dobava i ugradnja aluminijskog plašta za potrebe zaštite izoliranih ventilacijskih kanala na otvorenom.
B57: m2 | C57: 150 | E57: =IF((D57>0),SUM(C57*D57),"kn") -> kn
A58: 6.1.10. | B58: Dobava i ugradnja stropnih distributera promjera Φ400 mm sa podesivim krilcima, predviđenog za dobavu zraka na visinama od 4 do 10 m, namijenjenog za ugradnju unutar sportske dvorane. Mogućnost vertikalnog, kosog i horizontalnog vrtložnog istrujavanja zraka. Promjena kuta istrujavanja zraka odvija se elektromotorno, pomoću pogona 230 V. Distributer je izrađen iz čeličnog lima, standardno plastificiran u RAL 7044. Predviđena visina ugradnje stropnog distributera iznosi 8 m. Stropni distributer je slijedećih tehničkih karakteristika: - nominalni protok zraka: 1435 m3/h - pad tlaka pri nominalnom protoku: 20 Pa - nivo zvučne snage pri nominalnom protoku: 38 dB(A) - temperatura istrujavanog zraka zimi: 35°C - temperatura istrujavanog zraka ljeti: 16°C
B59: kom | C59: 16 | E59: =IF((D59>0),SUM(C59*D59),"kn") -> kn
A60: 6.1.11. | B60: Dobava i ugradnja modulirajućeg pogona za kontinuiranu regulaciju kuta krilaca stropnog distributera unutar sportske dvorane slijedećih tehničkih karakteristika: - nominalni napon: AC 230V - nominalni moment pogona: 5 Nm - napon regulacije: DC 0-10 V Dozvoljena odstupanja ponuđenog proizvoda +-5%.
B61: kom | C61: 16 | E61: =IF((D61>0),SUM(C61*D61),"kn") -> kn
A62: 6.1.12. | B62: Dobava i ugradnja nadžbuknog regulatora za kontinuiranu regulaciju kuta krilaca stropnih distributera unutar sportske dvorane slijedećih tehničkih karakteristika:
B64: - izlazna snaga: za minimalno 8 pogona
B65: kom | C65: 2 | E65: =IF((D65>0),SUM(C65*D65),"kn") -> kn
A66: 6.1.13. | B66: Dobava i ugradnja odsisne ventilacijske rešetke dimenzija 80×300 cm izrađene od pocičanog čeličnog lima sa minimalnom efektivnom površinom od 60% s obzirom na površinu rešetke. Boja RAL 7044.
B67: kom | C67: 2 | E67: =IF((D67>0),SUM(C67*D67),"kn") -> kn
A68: 6.1.14. | B68: Dobava i ugradnja čeličnih profila za spajanje i ovješenje elemenata ventilacijskih kanala.
B69: kg | C69: 200 | E69: =IF((D69>0),SUM(C69*D69),"kn") -> kn
B70: PODNO GRIJANJE
A71: 6.1.15. | B71: Dobava i ugradnja PE-X cijevi za podno grijanje promjera 20×2,0 mm, stabilnih na visoke temperature, otpornih na koroziju i kemikalije, nepropustvljiva za kisik, ekstrudirana bez naprezanja materijala, stabilizirajuća.
B72: m | C72: 6600 | E72: =IF((D72>0),SUM(C72*D72),"kn") -> kn
A73: 6.1.16. | B73: Dobava i ugradnja ploče za postavljanje i pozicioniranje cjevovoda za podno grijanje sa integriranom toplinskom i zvučnom izolacijom ukupne debljine 31 mm. (Toplinska i zvučna izolacija 11 mm + visina čepova 20 mm).
B74: m2 | C74: 1400 | E74: =IF((D74>0),SUM(C74*D74),"kn") -> kn
A75: 6.1.17. | B75: Dobava i ugradnja rubne samoljepljive dilatacione trake izrađena iz polietilena; visina 150 a debljina 8 mm.
B76: m | C76: 1500 | E76: =IF((D76>0),SUM(C76*D76),"kn") -> kn
A77: 6.1.18. | B77: Dobava i ugradnja dilatacijske letvice za prolaze kroz vrata i za osiguranje odvajanja površine estriha izrađenog od PP s trakom dilatacijske polietilenske pjene.
B78: m | C78: 20 | E78: =IF((D78>0),SUM(C78*D78),"kn") -> kn
A79: 6.1.19. | B79: Dobava i ugradnja razdjelnika/sabirnika za krugove podnog grijanja. Komplet se sastoji od primarne strane: 2 kom holendera 1" 2 kom čepova 1" 2 kom kuglasta slavina 3/4" Polaz: 10 kom integriranih niklovanih regulatora protoka, vidljiva skala, 0-5 l/min 10 kom niklovanih spojnica ¾'' s eurokonusom 1 kom niklovana ispusna slavina ½'', zaokretna 1 kom niklovani odzračni ventil ½'', zaokretni 2 kom unutarnjeg navoja 1'' na primarnoj strani Povrat: 10 kom integriranih termostatskih ventila (opcija ugradnje termoelektričnog pogona, M30x1,5), hod ventila 2,9 mm 10 kom niklovanih spojnica ¾'' s eurokonusom 1 kom niklovana ispusna slavina ½'', zaokretna 1 kom niklovani odzračni ventil ½'', zaokretni 2 kom unutarnjeg navoja 1'' na primarnoj strani
B80: kom | C80: 6 | E80: =IF((D80>0),SUM(C80*D80),"kn") -> kn
A81: 6.1.20. | B81: Dobava i ugradnja ugradbenog zidnog ormarića predviđenog za podžbuknu montažu i koristi se za smještaj razdjelnika sustava podnog grijanja. Ormarić je širine 900 mm, te se može demontirati i regulirati po dubini od 110 - 140 mm, te po visini od 0 - 70 mm.
B82: kom | C82: 3 | E82: =IF((D82>0),SUM(C82*D82),"kn") -> kn
A83: 6.1.21. | B83: Dobava i ugradnja nadžbuknog zidnog ormarića koji se koriste za smještaj razdjelnika sustava podnog grijanja. Ormarić je širine 900 mm, te se može demontirati i regulirati po dubini od 110 - 140 mm, te po visini od 0 - 70 mm.
B84: kom | C84: 3 | E84: =IF((D84>0),SUM(C84*D84),"kn") -> kn
A85: 6.1.22. | B85: Dobava i ugradnja kompresionih spojnica za spoj cjevovoda podnog grijanja (cijev PEX-a 20×2 mm) na sabirnik i razdjelnik.
B86: kom | C86: 120 | E86: =IF((D86>0),SUM(C86*D86),"kn") -> kn
A87: 6.1.23. | B87: Dobava i ugradnja termopogona za ventile 230 V s adapterom M30×1.5 mm.
B88: kom | C88: 60 | E88: =IF((D88>0),SUM(C88*D88),"kn") -> kn
A89: 6.1.24. | B89: Dobava i ugradnja regulatora za spajanje termostata s termoelektričnim pogonima. To je centralna priključna jedinica u regulaciji površinskog temperiranja prostorije u sustavu grijanja. Tehničke karakteristike: Min. broj termoelektričnih pogona: 10 Napon:230 V 50 Hz
B90: kom | C90: 6 | E90: =IF((D90>0),SUM(C90*D90),"kn") -> kn
A91: 6.1.25. | B91: Dobava i ugradnja zidnog nadžbuknog digitalnog termostata za regulaciju sustava podnog grijanja. Termostati su opremljeni programabilnim tjednim programom rada, te imaju mogućnost spajanja vanjskog osjetnika temperature (prostorni osjetnik). U cijenu potrebno uključiti i prostorni osjetnik temperature. Termostat mora imati mogućnosti spajanja na centralni nadzorno-upravljački sustav pomoću MOD-bus komunikacije. Predviđena je djelomična ugradnja termostata u podžbuknu kutijicu 60×60 mm (ugradnja predviđena u sklopu elektroinstalacija). Okvirne dimenzije termostata su 13×10×3 cm.
B92: kom | C92: 2 | E92: =IF((D92>0),SUM(C92*D92),"kn") -> kn
A93: 6.1.26. | B93: Dobava aditiva za estrih na cementnoj osnovi, homogenizira i poboljšava kvalitetu materijala i time povećava toplinsku provodljivost poda. Potrošnja aditiva pri debljini od 45 mm iznad cijevi (nadsloj) je otprilike 0,2 l/m². Vrijeme sazrijevanja estriha je 21 dan. Aditiv ugrađuje izvođač estriha.
B94: l | C94: 280 | E94: =IF((D94>0),SUM(C94*D94),"kn") -> kn
A96: 6.1. | B96: UKUPNO INSTALACIJA SPORTSKE DVORANE | E96: =SUM(E41:E94) -> 0
A98: 6.2. | B98: INSTALACIJA GRIJANJA, HLAĐENJA i VENTILACIJE ŠKOLE
B99: IZVOR ENERGIJE
A100: 6.2.1. | B100: Dobava i ugradnja visokoučinkovite dizalice topline u izvedbi zrak-voda sa spiralnim kompresorima sa mogućnošću parcijalnog iskorištavanja otpadne topline u režimu hlađenja za potrebe pripreme potrošne tople vode (cca. 20%). Uređaj je predviđen za rad u režimu hlađenja (7/12°C) i maksimalne temperature u režimu grijanja do 55°C. Dizalica topline je namijenjena za vanjsku ugradnju, tvornički ispitana i prednapunjena s radnom tvari R410A.
B101: Uređaj je sljedećih tehničkih karakteristika: - rashladni učin: 283,5 kW (7/12°C pri temp. vanjskog zraka 35°C) - toplinski učin: 315,0 kW (45/40°C pri temp. vanjskog zraka 7°C) - COP: 3,25 - SCOP: 3,44 - EER: 2,66 - ESSER: 3,71 - nominalna ulazna snaga: 100,2 kW (400/3/50) - rashladno sredstvo: R410A - broj rashladnih krugova: 2 - tip kompresora: spiralni - broj kompresora: 4 - tip ventilatora: aksijalni (VSD pogon) - razine opterećenja: 23/50/73/100% - nivo zvučnog tlaka (10 m): 54 dB(A) - radno područje u režimu grijanja: -18 do +20 °C - dimenzije (v×š×d): max 265×220×460 cm
B102: U cijenu je uključeno: pumpni sklop kruga grijanja / hlađenja (dvostruka crpka (radna+rezervna), hvatač nečistoća, mehanički kontrolnik protoka, ekspanzijska posuda, sigurnosni ventil), pločasti rekuperator otpadne topline, punjenje freonom, gumene antivibracijske podloške, daljinska komanda (on/off, prebacivanje ljeto/zima, zbirni alarm), MODBus protokol za povezivanje uređaja na CNUS, pričvrsni pribor i sve ono što proizvođač predviđa za potpunu funkcionalnost sistema.
B103: 'Napomena: - U arhitektonskom projektu predviđeni su AB oslonci za postavljanje uređaja
B104: kompleta | C104: 1 | E104: =IF((D104>0),SUM(C104*D104),"kn") -> kn
A105: 6.2.2. | B105: Puštanje uređaja u pogon od strane ovlaštene osobe uz provjeru fukcionalnosti, provjera pozicija i ožičenja opreme, parametriranje regulacije prema potrebama sustava, ispitivanje svih radnih parametra uređaja uz ispunjavanje i izdavanje ispitnog lista i servisne kartice, izdavanje garancije i uputa za rad, te održavanja na hrvatskom jeziku. Tijekom puštanja u pogon asistirati inženjeru CNUS-a za potrebe integracija uređaja u CNUS.
B106: kompleta | C106: 1 | E106: =IF((D106>0),SUM(C106*D106),"kn") -> kn
A107: 6.2.3. | B107: Dobava i ugradnja inox fleksibilnih cijevi NO 125 dužine 30 cm za spoj cjevovoda dizalice topline prema inercijskom spremniku.
B108: kompleta | C108: 2 | E108: =IF((D108>0),SUM(C108*D108),"kn") -> kn
A109: 6.2.4. | B109: Dobava i ugradnja inox fleksibilnih cijevi NO 50 dužine 30 cm za spoj cjevovoda rekuperatora otpadne topline dizalice topline prema spremniku potrošne tople vode.
B110: kompleta | C110: 2 | E110: =IF((D110>0),SUM(C110*D110),"kn") -> kn
A111: 6.2.5. | B111: Dobava i ugradnja kaskade s dva podna plinska kondenzacijska kotla za potrebe grijanja. Stavka uključuje kotlovsku regulaciju vođenu vremenskim prilikama i plamenike za zemni plin.
B112: Tehničke karakteristike kaskade kotlova: - toplinski učin: 62-622 kW (50/30°C) - toplinski učin: 57-570 kW (80/60°C) - dimezije kaskade (v×š×d): 1277×1855×1793 mm
B113: Jedan kotao unutar kaskade ima slijedeće tehničke karakteristike: - toplinski učin: 62-311 kW (50/30°C) - toplinski učin: 57-285 kW (80/60°C) - dozvoljeni pretlak u krugu grijanja: 6 bar - elektro priključak: 230/1/50 - iskoristivost sustava (40/30°C): do 98% (Hs) / do109% (Hi) - dimenzije (v×š×d): 1277×910×1793 mm
...

Sheet 7. Hidroinstalacije
A1: BR. | B1: OPIS STAVKE JED.MJERA | C1: KOLIČINA | D1: JED. CIJENA bez PDV-a | E1: UKUPNA CIJENA bez PDV-a
A3: 7. | B3: HIDROINSTALATERSKI RADOVI
B5: OPĆI TEHNIČKI UVJETI
B6: Sve odredbe ovih uvjeta smatraju se sastavnim dijelom opisa svake stavke ovog troškovnika. Sve radove potrebno je izvesti u potpunosti prema projektu, troškovniku, svim važećim tehničkim propisima, normama, uputama proizvođača opreme i pravilima struke.
B7: Opći uvjeti radova odnose se na sve stavke radova te grupe, osim ako u opisu stavke nije drugačije opisano. Ukoliko materijal u pojedinim stavkama nije naznačen ili dovoljno jasno preciziran u pogledu kvalitete, izvođač je dužan upotrijebiti prvoklasan materijal.
B8: Prije unošenja cijena ponuditelj je dužan da se detaljno upozna sa projektnom dokumentacijom radi dobivanja potpunog uvida o veličini i vrsti glavnih i pripremnih radova.
B9: Svi radovi obuhvaćeni ovim troškovnikom moraju se ponuditi, ugovoriti i izvesti u svemu po općim i pojedinačnim opisima iz troškovnika, po nacrtima, detaljima, statičkom računu.
B10: U jediničnu cijenu betonskih i armiranobetonskih radova potrebno je uključiti sav potreban materijal i rad pri dobavi, izradi i ugradnji betona. Potrebno je predvidjeti sve transporte, zaštitu (njega svježeg betona) betonskih i AB konstrukcija od atmosferskih utjecaja, ugradba pomoću vibratora, korištenje skele i sl. U jediničnu cijenu oplate uračunati sav potreban materijal, izradu, postavljanje, skidanje i čišćenje oplate, sva potrebna ukrućenja i radnu skelu.
B11: 'Izvođač je dužan obaviti pripremu radova za postavljanje instalacija na način da je omogućena tekuća kontrola mjera i nagiba, a dokaze o ispravnosti dostaviti nadzornom inženjeru na uvid i ovjeru. Montaža i rad na instalaciji moraju biti kvalitetni, vođeni i izrađeni od stručnih osoba, a prema propisima i pravilima struke.
B12: Svi radovi obuhvaćeni troškovnikom predviđeni su kao potpuno gotovi, sa svim potrebnim pripremnim i završnim radovima.
B13: Jediničnom cijenom za svaki rad predviđen ovim troškovnikom obuhvaćeno je: a) tehnička priprema b) potpuno dovršenje sa svim predradnjama, transportom i ostalim radnim operacijama c) sav rad, alat, materijal, amortizacija i svi ostali troškovi koji se odnose na ovaj objekt d) troškovi i takse privremenih priključaka potrebnih instalacija e) sve potrebne pokretne i nepokretne radne, transportne i pomoćne skele, sa izradom, postavljanjem, skidanjem i odvozom. Isto važi za privremene pomoćne objekte ( kancelarije, priručna skladišta i sl.) te normalni rastur i otpatke materijala. f) iskolčenje prema potrebnoj situaciji sa određivanjem stalnih točaka, te geodetsko praćenje tokom cijelog izvođenja g) čišćenje i održavanje objekta koji je u gradnji i gradilišta za svo vrijeme gradnje h) osiguranje neometanog prolaza i prometa vozilima i) sve higijensko tehničke zaštitne mjere za sve zaposlene radnike j) sva potrebna ispitivanja u svrhu dokazivanja kvalitete i funkcije k) izrada nacrta izvedenog stanja i predaja atestne i druge dokumentacije kojom se dokazuje svojstva ugrađene opreme i gotovih proizvoda l) sve direktne i indirektne troškove nastale zahtjevom za ispunjavanje propisanih i ovim projektom zahtjevanih normi i Program osiguranja i kontrola kvalitete
B14: Izvođač je dužan obaviti ispitivanja instalacija odvodnje na funkcionalnost, odnosno na nepropusnost, uz predhodno čišćenje i kompletiranje novo izvedene instalacije odvodnje. Ispitivanje vrši isključivo ustanova ovlaštena za obavljanje te vrste poslova i izdavanje odgovarajućeg uvjerenja o obavljenom ispitivanju sukladno
B15: Prije stavljanja instalacije na upotrebu potrebno je dobaviti pozitivni nalaz od ovlaštene ustanove prema Pravilniku o parametrima sukladnosti, metodama analize, monitoringu i planovima sigurnosti vode za ljudsku potrošnju te načinu vođenja registra pravnih osoba koje obavljaju djelatnost javne vodoopskrbe (NN125/17, NN 39/2020). U slučaju dobijanja negativnog nalaza potrebno je otkloniti uzroke odnosno izvršiti ponovnu dezinfekciju do dobijanja pozitivnog nalaza. Nakon uspješno obavljenih ispitivanja vrši se čišćenje, izolacija i antikorozivna zaštita na mjestima gdje je predviđeno, odnosno na zahtjev nadzornog inženjera, uklanjanje preostalog materijala i odvoz istog.
B16: Sve obaveze i izdatke, te troškove po odredbama ovih uvjeta dužan je izvođač ukalkulirati u ponuđene jedinične cijene za sve radove na objektu i ne može zahtjevati da se ti radovi posebno naplaćuju.
B17: Dopuštena odstupanja tehničkih karakteristika ponuđenih proizvoda u odnosu na tehničke podatke u troškovniku iznose maksimalno 5%. Odnosi se na sve stavke troškovnika, za sve navedene parametre.
A19: 7.1. | B19: SANITARNI VODOVOD
A20: 7.1.1. | B20: Nabava, doprema i montaža horizontalnih i vertikalnih vodova od PP-R cijevi za hladnu i toplu vodu te cirkulaciju, s potrebnim spojnim materijalom i izolacijom. Cijevi se za stropnu konstrukciju pričvršćuju obujmicama, a na zidnim i podnim površinama se ugrađuju u prethodno pripremljene šliceve ili se pričvršćuju na zid obujmicama. U jediničnu cijenu je uključen sav potreban rad i materijal. Obračun se vrši po m' izvedene instalacije.
B21: - DN 15 PP-R (ø20)
B22: m' | C22: 1096 | E22: =IF((D22>0),SUM(C22*D22),"kn") -> kn
B23: - DN 20 PP-R (ø25)
B24: m' | C24: 322 | E24: =IF((D24>0),SUM(C24*D24),"kn") -> kn
B25: - DN 25 PP-R (ø32)
B26: m' | C26: 269 | E26: =IF((D26>0),SUM(C26*D26),"kn") -> kn
B27: - DN 32 PP-R (ø40)
B28: m' | C28: 64 | E28: =IF((D28>0),SUM(C28*D28),"kn") -> kn
B29: - DN 40 PP-R (ø50)
B30: m' | C30: 18 | E30: =IF((D30>0),SUM(C30*D30),"kn") -> kn
A31: 7.1.2. | B31: Nabava, doprema i ugradnja vodovodnih PEHD (polietilen) cijevi, sa spajanjem sučeonim elektrospojnicama ili mesinganim spojnicama. Stavka obuhvaća i spojnice, fazonskih komade, vijake, brtve i armaturu, potrebnih za izvođenje cjelokupne vodovodne instalacije do pune gotovosti. Cijevi su za radni tlak od PN 16 bara. U jediničnu cijenu je uključen sav potreban rad i materijal. Obračun se vrši po m' izvedene instalacije.
B32: - DN 15 PEHD (ø20)
B33: m' | C33: 13 | E33: =IF((D33>0),SUM(C33*D33),"kn") -> kn
B34: - DN 20 PEHD (ø25)
B35: m' | C35: 922 | E35: =IF((D35>0),SUM(C35*D35),"kn") -> kn
B36: - DN 25 PEHD (ø32)
B37: m' | C37: 164 | E37: =IF((D37>0),SUM(C37*D37),"kn") -> kn
B38: - DN 40 PEHD (ø50)
B39: m' | C39: 65 | E39: =IF((D39>0),SUM(C39*D39),"kn") -> kn
A40: 7.1.2. | B40: Nabava, doprema i montaža podžbuknih ventila sa metalnom kromiranom kapom i metalnom kromiranom rozetom. Ugrađuje se uz sanitarne uređaje te na dovod za pojedine sanitarne čvorove. Obračun po komadu.
B41: - DN 15
B42: kom | C42: 32 | E42: =IF((D42>0),SUM(C42*D42),"kn") -> kn
B43: - DN 20
B44: kom | C44: 17 | E44: =IF((D44>0),SUM(C44*D44),"kn") -> kn
A45: 7.1.3. | B45: Nabava, doprema i montaža propusnog kuglastog ventila. Ugrađuje se na priključke uz spremnik tople vode u tehničkim prostorijama.
B46: - DN 15
B47: kom | C47: 6 | E47: =IF((D47>0),SUM(C47*D47),"kn") -> kn
B48: - DN 20
B49: kom | C49: 4 | E49: =IF((D49>0),SUM(C49*D49),"kn") -> kn
B50: - DN 25
B51: kom | C51: 2 | E51: =IF((D51>0),SUM(C51*D51),"kn") -> kn
B52: - DN 32
B53: kom | C53: 4 | E53: =IF((D53>0),SUM(C53*D53),"kn") -> kn
B54: - DN 40
B55: kom | C55: 1 | E55: =IF((D55>0),SUM(C55*D55),"kn") -> kn
A56: 7.1.4. | B56: Nabava, doprema i montaža kutnog ventila od kromiranog metala. Ugrađuje se uz sudopere i umivaonike. Obračun po komadu.
B57: - 1/2'' - 3/8''
B58: kom | C58: 27 | E58: =IF((D58>0),SUM(C58*D58),"kn") -> kn
A59: 7.1.5. | B59: Tlačna proba instalacije razvoda tople i hladne vode, te dovoda cirkulacije tople vode prema važećim tehničkim propisima na probni tlak od 12 bar-a uz obavezno prisutstvo nadzornog inženjera. Obračun po m' ispitane instalacije.
B60: m' | C60: 2933 | E60: =IF((D60>0),SUM(C60*D60),"kn") -> kn
A61: 7.1.6. | B61: Dezinfekcija i ispiranje montiranog i ispitanog cjevovoda. Provođenje dezinfekcije se vrši prema tehničkom opisu, odnosno po uputi nadležnog sanitarnog inspektora koji prisustvuje postupku, odobrava dezificijens, te izdaje atest po provedenom zapisniku. Obračun po m' obrađene instalacije.
B62: m' | C62: 2933 | E62: =IF((D62>0),SUM(C62*D62),"kn") -> kn
A63: 7.1.7. | B63: Zidarska izrada podnih i zidnih šliceva, te izrade prodora nosivih zidova i ploče. U jediničnoj cijeni i redovno svakodnevno uklanjanje otpadnog materijala nastalog štemanjem šliceva. Obračun po m' izvedenog šlica / komadu prodora.
B64: - prodor ø40
B65: kom | C65: 146 | E65: =IF((D65>0),SUM(C65*D65),"kn") -> kn
B66: - prodor ø75
B67: kom | C67: 28 | E67: =IF((D67>0),SUM(C67*D67),"kn") -> kn
B68: - šlic dim. 8 x 15
B69: m' | C69: 132 | E69: =IF((D69>0),SUM(C69*D69),"kn") -> kn
A70: 7.1.8. | B70: Nabava, doprema i ugradnja PP vrtne kutije- ventilskog okna 400 x 400 mm sa zelenim poklopcen, za smještaj EM ventila za navodnjavanje. Obračun po komadu.
B71: kom | C71: 14 | E71: =IF((D71>0),SUM(C71*D71),"kn") -> kn
B72: PREDTRG
B73: kom | C73: 1 | E73: =IF((D73>0),SUM(C73*D73),"kn") -> kn
A74: 7.1.9. | B74: Nabava, doprema i ugradnja EM ventila 24V (namijenjeni za strujne programatore). Stavka uključuje ugradnju ventila u ventilsko okno, te priključak na cjevovod i programator. U cijenu je uključeno i kompletno kabliranje u tlu za potrebe spoja na programator (prosječno 70 m' po ventilu). Obračun po komadu.
B75: kom | C75: 17 | E75: =IF((D75>0),SUM(C75*D75),"kn") -> kn
B76: PREDTRG
B77: kom | C77: 1 | E77: =IF((D77>0),SUM(C77*D77),"kn") -> kn
A78: 7.1.10. | B78: Nabava, doprema i ugradnja modularnog programatora 230V za unutarnju ugradnju za navodnjavanje sa senzorom za kišu. Minimalan broj EM ventila koji se mogu spojiti na programator je 8. Stavka uključuje i priključak na izvoir EL. energije te kompletnu ugradnju do pune gotovosti prema uputama proizvođača. Obračun po komadu.
B79: kom | C79: 3 | E79: =IF((D79>0),SUM(C79*D79),"kn") -> kn
A80: 7.1.11. | B80: Nabava, doprema i ugradnja rasprskivača podesivog dometa polumjera 4 m s podesivim kutom rasprskivača 90 - 360 °. Stavka uključuje i spajanje na cjevovod. Obračun po komadu.
B81: kom | C81: 264 | E81: =IF((D81>0),SUM(C81*D81),"kn") -> kn
B82: PREDTRG
B83: kom | C83: 3 | E83: =IF((D83>0),SUM(C83*D83),"kn") -> kn
A84: 7.1.12. | B84: Nabava, doprema i ugradnja cijevi za navodnjavanje kap po kap za podzemnu ugradnju. Cijevi je potrebno pričvrstiti klinovima svakih 2 m. Obračun se vrši po m' izvedene instalacije.
B85: m' | C85: 920 | E85: =IF((D85>0),SUM(C85*D85),"kn") -> kn
A86: 7.1.13. | B86: Testiranje i programiranje sustava za navodnjavanje i puštanje u pogon. Sustav je potrebno programirati na način da se navodnjavanje obavlja izvan radnog vremena škole, te je potrebno uskladiti sve elektromagnetne ventile kako bi se izbjegao istovremeno navodnjavanje s više od 2 ventila. Stavka uključuje i uputstva za uporabu kao i projekt izvedenog stanja sustava navodnjavanja. Obračun za komplet radova.
B87: komplet | C87: 1 | E87: =IF((D87>0),SUM(C87*D87),"kn") -> kn
A88: 7.1.14. | B88: Uklanjanje i zbrinjavanje postojećeg cjevovoda od lijevanog željeza promjera 700 mm. Cjevovod je potrebno demontirati i zbrinuti u skladu sa važećom zakonskom regulativom. Stavka uključuje demontažu, rezanje na dimenzije pogodne za transport, odvoz i zbrinjavanje na deponiju. Obračun se vrši po m' izvedene instalacije.
B89: m' | C89: 170 | E89: =IF((D89>0),SUM(C89*D89),"kn") -> kn
B90: PREDTRG
B91: m' | C91: 13 | E91: =IF((D91>0),SUM(C91*D91),"kn") -> kn
A93: 7.1. | B93: UKUPNO SANITARNI VODOVOD | E93: =SUM(E21:E91) -> 0
A96: 7.2. | B96: HIDRANTSKA MREŽA
A97: 7.2.1. | B97: Nabava, doprema i ugradnja vodovodnih PEHD (polietilen) cijevi, sa spajanjem sučeonim elektrospojnicama ili mesinganim spojnicama. Stavka obuhvaća i spojnice, fazonskih komade, vijake, brtve i armaturu, potrebnih za izvođenje cjelokupne vodovodne instalacije do pune gotovosti. Cijevi su za radni tlak od PN 16 bara. U jediničnu cijenu je uključen sav potreban rad i materijal. Obračun se vrši po m' izvedene instalacije.
B98: Obračun se vrši po m' izvedene instalacije.
B99: - cijevi PEHD ø63 PN 16
B100: m' | C100: 107 | E100: =IF((D100>0),SUM(C100*D100),"kn") -> kn
B101: - cijevi PEHD ø75 PN 16
B102: m' | C102: 69 | E102: =IF((D102>0),SUM(C102*D102),"kn") -> kn
B103: - cijevi PEHD ø125 PN 16
B104: m' | C104: 222 | E104: =IF((D104>0),SUM(C104*D104),"kn") -> kn
B105: - cijevi PEHD ø160 PN 16
B106: m' | C106: 121 | E106: =IF((D106>0),SUM(C106*D106),"kn") -> kn
...

Sheet 8. Prometne površine
A1: BR. | B1: OPIS STAVKE JED.MJERA | C1: KOLIČINA | D1: JED. CIJENA bez PDV-a | E1: UKUPNA CIJENA bez PDV-a
A3: 8. | B3: PROMETNE POVRŠINE I VANJSKI SPORTSKI TERENI
B5: OPĆI TEHNIČKI UVJETI
B6: Sve odredbe ovih uvjeta smatraju se sastavnim dijelom opisa svake stavke ovog troškovnika.
B7: Ukoliko materijal u pojedinim stavkama nije naznačen ili dovoljno jasno preciziran u pogledu kvalitete, izvođač je dužan upotrijebiti prvoklasan materijal.
B8: Prije unošenja cijena ponuditelj je dužan detaljno se upoznati s projektnom dokumentacijom radi dobivanja potpunog uvida o veličini i vrsti radova.
B9: 'Svi radovi obuhvaćeni ovim troškovnikom moraju se ponuditi, ugovoriti i izvesti u svemu po općim i pojedinačnim opisima iz troškovnika, po nacrtima i detaljima.
B10: Svi radovi obuhvaćeni troškovnikom predviđeni su kao potpuno gotovi, sa svim potrebnim pripremnim i završnim radovima.
B11: Jediničnom cijenom za svaki rad predviđen ovim troškovnikom obuhvaćeno je: a) tehnička priprema b) potpuno dovršenje sa svim predradnjama, transportom i ostalim radnim operacijama c) sav rad, alat, materijal, amortizacija i svi ostali troškovi koji se odnose na ovaj objekt d) troškovi i takse privremenih priključaka potrebnih instalacija e) sve potrebne pokretne i nepokretne radne, transportne i pomoćne skele, s izradom, postavljanjem, skidanjem i odvozom. Isto važi za privremene pomoćne objekte (kancelarije, priručna skladišta i sl.) f) iskolčenje prema potrebnoj situaciji s određivanjem stalnih točaka, te geodetsko praćenje tokom cijelog izvođenja g) čišćenje i održavanje objekta koji je u gradnji i gradilišta za svo vrijeme gradnje h) osiguranje neometanog prolaza i prometa vozilima i) sve higijensko tehničke zaštitne mjere za sve zaposlene radnike j) sva potrebna ispitivanja u svrhu dokazivanja kvalitete i funkcije k)predaja atestne i druge dokumentacije kojom se dokazuje svojstva ugrađene opreme i gotovih proizvoda l) sve direktne i indirektne troškove nastale zahtjevom za ispunjavanje propisanih i ovim projektom zahtjevanih normi i Programa osiguranja i kontrole kvalitete
B12: Sve obaveze i izdatke, te troškove po odredbama ovih uvjeta izvođač je dužan ukalkulirati u ponuđene jedinične cijene za sve radove na objektu i ne može zahtjevati da se ti radovi posebno naplaćuju.
B13: Radovi na budućoj javnoj prometnici (uređenje parkirališne površine) predviđeni su u skladu s projektom buduće prometnice „Izgradnja produžetka Kanižlićeve ulice do kampusa škole nogometa NK Osijek“ i građevinskom dozvolom, uz pretpostavku da će prometnica biti izgrađena prije početka radova obuhvaćenih ovim projektom.
A15: 8.1. | B15: PRIPREMNI RADOVI
A16: 8.1.1. | B16: Strojno rezanje asfalta na uklopima bez obzira na debljinu. (O.T.U. 1-03.2) - obuhvat zahvata: interne prometne površine Obračun se vrši po m'.
B17: m' | C17: 24 | E17: =IF((D17>0),SUM(C17*D17),"kn") -> kn
A18: 8.1.2. | B18: Strojno rezanje asfalta na uklopima bez obzira na debljinu. (O.T.U. 1-03.2) - obuhvat zahvata: javna prometnica Obračun se vrši po m'.
B19: m' | C19: 60 | E19: =IF((D19>0),SUM(C19*D19),"kn") -> kn
A20: 8.1.3. | B20: Uklanjanje postojećih asfaltnih slojeva (O.T.U. 1-03.2) - obuhvat zahvata: interne prometne površine Rad obuhvaća skidanje starog asfalta u cjelokupnoj debljini (cca 12 cm) te utovar i odvoz otpadnog materijala na odlagalište. Deponiranje materijala se vrši prema odredbi nadzornog inženjera za stalne deponije, a u skladu s prostorno-ekološkim uvjetima. Obračun se vrši po m2 uklonjene asfaltne površine.
B21: m2 | C21: 12 | E21: =IF((D21>0),SUM(C21*D21),"kn") -> kn
A22: 8.1.4. | B22: Uklanjanje postojećih asfaltnih slojeva (O.T.U. 1-03.2) - obuhvat zahvata: javna prometnica Rad obuhvaća skidanje starog asfalta u cjelokupnoj debljini (cca 12 cm) te utovar i odvoz otpadnog materijala na odlagalište. Deponiranje materijala se vrši prema odredbi nadzornog inženjera za stalne deponije, a u skladu s prostorno-ekološkim uvjetima. Obračun se vrši po m2 uklonjene asfaltne površine.
B23: m2 | C23: 220 | E23: =IF((D23>0),SUM(C23*D23),"kn") -> kn
A24: 8.1.5. | B24: Uklanjanje rubnjaka (O.T.U. 1-03.2) - obuhvat zahvata: interne prometne površine Rad obuhvaća iskop postojećih rubnjaka, utovar, prijevoz i odlaganje materijala na odlagalište. Deponiranje materijala vrši se prema odredbi nadzornog inženjera za stalne deponije, a u skladu s prostorno-ekološkim uvjetima. Obračun se vrši po m'.
B25: m' | C25: 24 | E25: =IF((D25>0),SUM(C25*D25),"kn") -> kn
A26: 8.1.6. | B26: Uklanjanje rubnjaka (O.T.U. 1-03.2) - obuhvat zahvata: javna prometnica Rad obuhvaća iskop postojećih cestovnih i parkovnih rubnjaka, utovar, prijevoz i odlaganje materijala na odlagalište. Deponiranje materijala vrši se prema odredbi nadzornog inženjera za stalne deponije, a u skladu s prostorno-ekološkim uvjetima. Obračun se vrši po m'.
B27: - uklanjanje cestovnog rubnjaka
B28: m' | C28: 52 | E28: =C28*D28 -> 0
B29: - uklanjanje parkovnog rubnjaka
B30: m' | C30: 190 | E30: =IF((D30>0),SUM(C30*D30),"kn") -> kn
A31: 8.1.7. | B31: Lokacija i zaštita postojećih komunalnih instalacija (O.T.U. 1-03.5) - obuhvat zahvata: javna prometnica Rad obuhvaća ručni iskop rova za pronalaženje i zaštitu komunalnih instalacija i ostalih priključaka, kao što su vodovod, kanalizacija, plinovod i drugo, koji tijekom gradnje zbog primjerice prolaza teških i velikih vozila mogu biti ugrožene. Obračun se vrši po satu rada potrebnom za pronalaženje i zaštitu instalacija.
B32: sati | C32: 32 | E32: =IF((D32>0),SUM(C32*D32),"kn") -> kn
A34: 8.1. | B34: UKUPNO PRIPREMNI RADOVI | E34: =SUM(E17:E32) -> 0
A37: 8.2. | B37: ZEMLJANI RADOVI
A38: 8.2.1. | B38: Uređenje temeljnog tla mehaničkim zbijanjem (O.T.U. 2-08.1) - obuhvat zahvata: interne prometne površine i sportski tereni te pješačke staze uz njih Rad obuhvaća prethodno čišćenje i planiranje, postizanje optimalne vlažnosti, vlaženjem ili rahljenjem i sušenjem, izravnavanje površine tla i zbijanje odgovarajućim sredstvima do tražene zbijenosti te sav rad, materijal i opremu koji su potrebni za potpuno dovršenje uključujući i ispitivanje i kontrolu kakvoće. Temeljno tlo treba zbiti tako da se postigne stupanj zbijenosti u odnosu na standardni Proctorov postupak min Sz ≥ 97%, odnosno modul stišljivosti metodom kružne ploče promjera 30 cm min Ms = 20 MN/m2. Obračun se vrši po m2 stvarno uređenog temeljnog tla.
B39: m2 | C39: 7270 | E39: =IF((D39>0),SUM(C39*D39),"kn") -> kn
A40: 8.2.2. | B40: Uređenje slabonosivog temeljnog tla geotekstilom (O.T.U. 2-08.4) - obuhvat zahvata: interne prometne površine i sportski tereni te pješačke staze uz njih Rad obuhvaća nabavu, dopremu i ugradnju separacijskog geotekstila za odvajanje temeljnog tla i nosivog sloja od mehanički stabiliziranog zrnatog kamenog materijala. Jediničnom cijenom obuhvaćena je dobava materijala, svi radovi i prijevoz potrebni za ugradnju geoteksila. Karakteristike geotekstila: - masa: 300 g - vlačna čvrstoća min. 21 kN/m - vlačno istezanje >55% - otpornost na CBR proboj min. 3,5 kN - test dinamičkog proboja max. 10 mm - preklop 50 cm Obračun se vrši po m2 ugrađenog geotekstila.
B41: m2 | C41: 7270 | E41: =IF((D41>0),SUM(C41*D41),"kn") -> kn
A42: 8.2.3. | B42: Izrada nasipa (nosivog sloja) od mehanički stabiliziranog zrnatog kamenog materijala u debljini od d = 30 cm (O.T.U. 2-09.3, O.T.U. 5-01) - obuhvat zahvata: interne prometne površine Rad obuhvaća nabavu, dopremu i ugradnju zrnatog kamenog materijala 0/63 mm. U poprečnom smislu nasip uvijek mora imati pad od 4%. Svaki sloj mora se zbiti u punoj širini odgovarajućim sredstvima za zbijanje. Nasip treba zbiti tako da se postigne stupanj zbijenosti u odnosu na standardni Proctorov postupak min Sz ≥ 100%, odnosno modul stišljivosti metodom kružne ploče promjera 30 cm min Ms = 50 MN/m2. Jediničnom cijenom obuhvaćena je dobava materijala, svi radovi i prijevoz potrebni za izradu nasipa (nosivog sloja). Obračun se vrši po m3 ugrađenog i zbijenog nasipa.
B43: m3 | C43: 720 | E43: =IF((D43>0),SUM(C43*D43),"kn") -> kn
A44: 8.2.4. | B44: Izrada nasipa (nosivog sloja) od mehanički stabiliziranog zrnatog kamenog materijala u debljini od d = 30 cm (O.T.U. 2-09.3, O.T.U. 5-01) - obuhvat zahvata: sportski tereni i pješačke staze uz sportske terene i interne prometne površine Rad obuhvaća nabavu, dopremu i ugradnju zrnatog kamenog materijala 0/63 mm. U poprečnom smislu nasip uvijek mora imati pad od 4%. Svaki sloj mora se zbiti u punoj širini odgovarajućim sredstvima za zbijanje. Nasip treba zbiti tako da se postigne stupanj zbijenosti u odnosu na standardni Proctorov postupak min Sz ≥ 100%, odnosno modul stišljivosti metodom kružne ploče promjera 30 cm min Ms = 40 MN/m2. Jediničnom cijenom obuhvaćena je dobava materijala, svi radovi i prijevoz potrebni za izradu nasipa (nosivog sloja). Obračun se vrši po m3 ugrađenog i zbijenog nasipa.
B45: m3 | C45: 1550 | E45: =IF((D45>0),SUM(C45*D45),"kn") -> kn
A46: 8.2.5. | B46: Izrada nasipa od kamenog materijala (O.T.U. 2-09.3) - obuhvat zahvata: interne prometne površine Rad obuhvaća nasipavnje, razastiranje, prema potrebi vlaženje ili sušenje, te planiranje materijala u nasipu prema dimenzijama i nagibima danim u projektu, kao i zbijanje prema zahtjevima iz O.T.U. U nasipu je potrebno koristiti kameni materijal iz iskopa. U poprečnom smislu nasip uvijek mora imati pad od 4%. Svaki sloj mora se zbiti u punoj širini odgovarajućim sredstvima za zbijanje. Nasip treba zbiti tako da se postigne stupanj zbijenosti u odnosu na standardni Proctorov postupak min Sz ≥ 100%, odnosno modul stišljivosti metodom kružne ploče promjera 30 cm min Ms = 60 MN/m2. Obračun se vrši po m3 ugrađenog i zbijenog nasipa.
B47: m3 | C47: 1230 | E47: =IF((D47>0),SUM(C47*D47),"kn") -> kn
A48: 8.2.6. | B48: Izrada nasipa od kamenog materijala (O.T.U. 2-09.3) - obuhvat zahvata: sportski tereni i pješačke staze uz sportske terene i interne prometne površine Rad obuhvaća nasipavnje, razastiranje, prema potrebi vlaženje ili sušenje, te planiranje materijala u nasipu prema dimenzijama i nagibima danim u projektu, kao i zbijanje prema zahtjevima iz O.T.U. U nasipu je potrebno koristiti kameni materijal iz iskopa. U poprečnom smislu nasip uvijek mora imati pad od 4%. Svaki sloj mora se zbiti u punoj širini odgovarajućim sredstvima za zbijanje. Nasip treba zbiti tako da se postigne stupanj zbijenosti u odnosu na standardni Proctorov postupak min Sz ≥ 100%, odnosno modul stišljivosti metodom kružne ploče promjera 30 cm min Ms = 40 MN/m2. Obračun se vrši po m3 ugrađenog i zbijenog nasipa.
B49: m3 | C49: 850 | E49: =IF((D49>0),SUM(C49*D49),"kn") -> kn
A50: 8.2.7. | B50: Izrada posteljice od kamenih materijala (O.T.U. 2-10.3) - obuhvat zahvata: interne prometne površine Pod kamenim materijalima podrazumijevaju se materijali dobiveni iskopom pomoću miniranja, kamene drobine i šljunci (materijali iskopne kategorije "A" i dio materijala iskopne kategorije "C"). Radovi na uređenju posteljice podrazumijevaju uređenje završnog sloja kamenog nasipa. Obuhvaćaju nasipavanje i razastiranje izravnavajućeg sloja od čistog sitnijeg kamenog materijala, njegovo planiranje, vlaženje i zbijanje do tražene zbijenosti. Materijal za izradu posteljice od kamenih materijala treba zadovoljavati ove uvjete: - koeficijent nejednakosti U = d60/d10 mora biti veći od 9 - maksimalna veličina zrna je 60 mm (10% zrna do 70 mm) Posteljicu treba zbiti tako da se postigne stupanj zbijenosti u odnosu na standardni Proctorov postupak min Sz ≥ 100%, odnosno modul stišljivosti metodom kružne ploče promjera 30 cm min Ms = 60 MN/m2. Obračun se vrši po m2 potpuno uređene i zbijene posteljice.
B51: m2 | C51: 1880 | E51: =IF((D51>0),SUM(C51*D51),"kn") -> kn
A52: 8.2.8. | B52: Izrada posteljice od kamenih materijala (O.T.U. 2-10.3) - obuhvat zahvata: javna prometnica Pod kamenim materijalima podrazumijevaju se materijali dobiveni iskopom pomoću miniranja, kamene drobine i šljunci (materijali iskopne kategorije "A" i dio materijala iskopne kategorije "C"). Radovi na uređenju posteljice podrazumijevaju uređenje završnog sloja kamenog nasipa. Obuhvaćaju nasipavanje i razastiranje izravnavajućeg sloja od čistog sitnijeg kamenog materijala, njegovo planiranje, vlaženje i zbijanje do tražene zbijenosti. Materijal za izradu posteljice od kamenih materijala treba zadovoljavati ove uvjete: - koeficijent nejednakosti U = d60/d10 mora biti veći od 9 - maksimalna veličina zrna je 60 mm (10% zrna do 70 mm) Posteljicu treba zbiti tako da se postigne stupanj zbijenosti u odnosu na standardni Proctorov postupak min Sz ≥ 100%, odnosno modul stišljivosti metodom kružne ploče promjera 30 cm min Ms = 60 MN/m2. Obračun se vrši po m2 potpuno uređene i zbijene posteljice.
B53: m2 | C53: 490 | E53: =IF((D53>0),SUM(C53*D53),"kn") -> kn
A54: 8.2.9. | B54: Izrada posteljice od kamenih materijala (O.T.U. 2-10.3) - obuhvat zahvata: sportski tereni i pješačke staze uz sportske terene i interne prometne površine Pod kamenim materijalima podrazumijevaju se materijali dobiveni iskopom pomoću miniranja, kamene drobine i šljunci (materijali iskopne kategorije "A" i dio materijala iskopne kategorije "C"). Radovi na uređenju posteljice podrazumijevaju uređenje završnog sloja kamenog nasipa. Obuhvaćaju nasipavanje i razastiranje izravnavajućeg sloja od čistog sitnijeg kamenog materijala, njegovo planiranje, vlaženje i zbijanje do tražene zbijenosti. Materijal za izradu posteljice od kamenih materijala treba zadovoljavati ove uvjete: - koeficijent nejednakosti U = d60/d10 mora biti veći od 9 - maksimalna veličina zrna je 60 mm (10% zrna do 70 mm) Posteljicu treba zbiti tako da se postigne stupanj zbijenosti u odnosu na standardni Proctorov postupak min Sz ≥ 100%, odnosno modul stišljivosti metodom kružne ploče promjera 30 cm min Ms = 40 MN/m2. Obračun se vrši po m2 potpuno uređene i zbijene posteljice.
B55: m2 | C55: 3950 | E55: =IF((D55>0),SUM(C55*D55),"kn") -> kn
A56: 8.2.10. | B56: Izrada humusiranih i zatravljenih površina (O.T.U. 2-16.2) - obuhvat zahvata: javna prometnica Rad obuhvaća nasipavanje humusnog materijala debljine sloja 15 cm i sijanje travnate vegetacije. Upotrebljava se aktivni humusni materijal bez primjese grana, korijenja i drugih materijala koji nisu pogodni za razvoj vegetacije. Površinu humusa treba isplanirati s točnošću ±2 cm i uvaljati lakim statičkim valjkom u jednom prijelazu. Po uređenom humusnom sloju sije se trava. Nakon izrade humusnog sloja i travnate vegetacije, površine se moraju njegovati do konačnog rasta, a ako je potrebno pokositi 1 - 2 puta. U jediničnoj cijeni uračunat je sav materijal, prijevoz i rad za potpunu izradu humuziranih i zatravljenih površina. Obračun se vrši po m2 potpuno uređene zatravljene površine.
B57: m2 | C57: 450 | E57: =IF((D57>0),SUM(C57*D57),"kn") -> kn
A59: 8.2. | B59: UKUPNO ZEMLJANI RADOVI | E59: =SUM(E39:E57) -> 0
A62: 8.3. | B62: KOLNIČKA KONSTRUKCIJA, KONSTRUKCIJA NOGOSTUPA I SPORTSKIH TERENA - ASFALT
A63: 8.3.1. | B63: Izrada nosivog sloja kolničke konstrukcije od mehanički stabiliziranog zrnatog kamenog materijala (O.T.U. 5-01) u debljini od d = 35 cm - obuhvat zahvata: interne prometne površine Rad obuhvaća nabavu, dopremu i ugradnju zrnatog kamenog materijala 0/63 mm u nosivi sloj kolničke konstrukcije. Modul stišljivosti Ms mjeren kružnom pločom promjera 30 cm treba biti minimalno 100 MN/m2. Stupanj zbijenosti Sz u odnosu na modificirani Proctor je min 100%. Jediničnom cijenom obuhvaćena je dobava materijala, svi radovi i prijevoz potrebni za izradu nosivog sloja. Obračun se vrši po m3 ugrađenog materijala u zbijenom stanju.
B64: m3 | C64: 655 | E64: =IF((D64>0),SUM(C64*D64),"kn") -> kn
A65: 8.3.2. | B65: Izrada nosivog sloja kolničke konstrukcije od mehanički stabiliziranog zrnatog kamenog materijala (O.T.U. 5-01) u debljini od d = 45 cm - obuhvat zahvata: javna prometnica Rad obuhvaća nabavu, dopremu i ugradnju zrnatog kamenog materijala 0/63 mm u nosivi sloj kolničke konstrukcije. Modul stišljivosti Ms mjeren kružnom pločom promjera 30 cm treba biti minimalno 100 MN/m2. Stupanj zbijenosti Sz u odnosu na modificirani Proctor je min 100%. Jediničnom cijenom obuhvaćena je dobava materijala, svi radovi i prijevoz potrebni za izradu nosivog sloja. Obračun se vrši po m3 ugrađenog materijala u zbijenom stanju.
B66: m3 | C66: 130 | E66: =IF((D66>0),SUM(C66*D66),"kn") -> kn
A67: 8.3.3. | B67: Izrada nosivog sloja konstrukcije nogostupa od mehanički stabiliziranog zrnatog kamenog materijala (O.T.U. 5-01) u debljini od d = 25 cm - obuhvat zahvata: javna prometnica Rad obuhvaća nabavu, prijevoz i ugradnju zrnatog kamenog materijala 0/63 mm u nosivi sloj kolničke konstrukcije. Modul stišljivosti Ms mjeren kružnom pločom promjera 30 cm treba biti minimalno 40 MN/m2. Stupanj zbijenosti Sz u odnosu na modificirani Proctor je min 100%. Jediničnom cijenom obuhvaćena je dobava materijala, svi radovi i prijevoz potrebni za izradu nosivog sloja. Obračun se vrši po m3 ugrađenog materijala u zbijenom stanju.
B68: m3 | C68: 50 | E68: =IF((D68>0),SUM(C68*D68),"kn") -> kn
A69: 8.3.4. | B69: Izrada nosivog sloja konstrukcije od mehanički stabiliziranog zrnatog kamenog materijala (O.T.U. 5-01) u debljini od d = 25 cm - donji sloj - obuhvat zahvata: sportski tereni Rad obuhvaća nabavu, prijevoz i ugradnju zrnatog kamenog materijala 0/63 mm u nosivi sloj konstrukcije sportskih terena. Modul stišljivosti Ms mjeren kružnom pločom promjera 30 cm treba biti minimalno 60 MN/m2. Stupanj zbijenosti Sz u odnosu na modificirani Proctor je min 100%. Jediničnom cijenom obuhvaćena je dobava materijala, svi radovi i prijevoz potrebni za izradu nosivog sloja. Obračun se vrši po m3 ugrađenog materijala u zbijenom stanju.
B70: m3 | C70: 900 | E70: =IF((D70>0),SUM(C70*D70),"kn") -> kn
A71: 8.3.5. | B71: Izrada nosivog sloja konstrukcije od mehanički stabiliziranog zrnatog kamenog materijala (O.T.U. 5-01) u debljini od d = 15 cm - gornji sloj - obuhvat zahvata: sportski tereni Rad obuhvaća nabavu, prijevoz i ugradnju zrnatog kamenog materijala 0/32 mm u nosivi sloj konstrukcije sportskih terena. Modul stišljivosti Ms mjeren kružnom pločom promjera 30 cm treba biti minimalno 80 MN/m2. Stupanj zbijenosti Sz u odnosu na modificirani Proctor je min 100%. Jediničnom cijenom obuhvaćena je dobava materijala, svi radovi i prijevoz potrebni za izradu nosivog sloja. Obračun se vrši po m3 ugrađenog materijala u zbijenom stanju.
B72: m3 | C72: 540 | E72: =IF((D72>0),SUM(C72*D72),"kn") -> kn
A73: 8.3.6. | B73: Izrada nosivog sloja konstrukcije nogostupa od cementno stabiliziranog zrnatog kamenog materijala (O.T.U. 5-02) u debljini od d = 15 cm - obuhvat zahvata: javna prometnica Rad obuhvaća nabavu, prijevoz i ugradnju cementno stabiliziranog zrnatog kamenog materijala 0/32 mm u nosivi sloj konstrukcije nogostupa. Tlačna čvrstoća stabilizacijske mješavine nakon 28 dana treba biti od 2,5 do 6,0 MN/m2. Stupanj zbijenosti Sz u odnosu na modificirani Proctor je min 98%. Jediničnom cijenom obuhvaćena je dobava materijala, svi radovi i prijevoz potrebni za izradu nosivog sloja. Obračun se vrši po m2 gornje površine stvarno položenog i ugrađenog nosivog sloja sukladno projektu.
B74: m3 | C74: 25 | E74: =IF((D74>0),SUM(C74*D74),"kn") -> kn
A75: 8.3.7. | B75: Izrada nosivog sloja kolničke konstukcije od bitumeniziranog kamenog materijala AC 22 base 50/70 AG6 M2 debljine d = 6 cm (O.T.U. 5-04) - obuhvat zahvata: interne prometne površine Rad obuhvaća nabavu, prijevoz, polaganje i zbijanje materijala, uključujući opremu i sve potrebno za dovršenje rada. Obračun se vrši po m2 gornje površine stvarno položenog i ugrađenog nosivog sloja sukladno projektu.
B76: m2 | C76: 1760 | E76: =IF((D76>0),SUM(C76*D76),"kn") -> kn
A77: 8.3.8. | B77: Izrada nosivog sloja kolničke konstukcije od bitumeniziranog kamenog materijala AC 32 base 50/70 AG6 M2 debljine d = 8 cm (O.T.U. 5-04) - obuhvat zahvata: javna prometnica Rad obuhvaća nabavu, prijevoz, polaganje i zbijanje materijala, uključujući opremu i sve potrebno za dovršenje rada. Obračun se vrši po m2 gornje površine stvarno položenog i ugrađenog nosivog sloja sukladno projektu.
B78: m2 | C78: 275 | E78: =IF((D78>0),SUM(C78*D78),"kn") -> kn
A79: 8.3.9. | B79: Izrada nosivog sloja konstrukcije od bitumeniziranog kamenog materijala AC 16 base 50/70 AG6 M2 debljine d = 5 cm (O.T.U. 5-04) - obuhvat zahvata: sportski tereni Rad obuhvaća nabavu, prijevoz, polaganje i zbijanje materijala, uključujući opremu i sve potrebno za dovršenje rada. Obračun se vrši po m2 gornje površine stvarno položenog i ugrađenog nosivog sloja sukladno projektu.
B80: m2 | C80: 3610 | E80: =IF((D80>0),SUM(C80*D80),"kn") -> kn
A81: 8.3.10. | B81: Prskanje kolnika kationskom bitumenskom emulzijom radi međusobnog sljepljivanja asfaltnih slojeva (O.T.U. 6-01) - obuhvat zahvata: interne prometne površine i sportski tereni Prskanje se provodi isključivo motornim prskalicama. Ručno prskanje nije dopušteno, izuzev na mjestima koja nisu dostupna motornoj prskalici uz suglasnost nadzornog inženjera. Prije početka prskanja bitumenskom emulzijom, površina mora biti čista i suha. U cijeni su sadržani svi troškovi nabave materijala, prijevoz, oprema i sve ostalo što je potrebno za izvođenje radova. Obračun se vrši po m2 poprskane površine.
B82: m2 | C82: 5370 | E82: =IF((D82>0),SUM(C82*D82),"kn") -> kn
A83: 8.3.11. | B83: Prskanje kolnika kationskom bitumenskom emulzijom radi međusobnog sljepljivanja asfaltnih slojeva (O.T.U. 6-01) - obuhvat zahvata: javna prometnica Prskanje se provodi isključivo motornim prskalicama. Ručno prskanje nije dopušteno, izuzev na mjestima koja nisu dostupna motornoj prskalici uz suglasnost nadzornog inženjera. Prije početka prskanja bitumenskom emulzijom, površina mora biti čista i suha. U cijeni su sadržani svi troškovi nabave materijala, prijevoz, oprema i sve ostalo što je potrebno za izvođenje radova. Obračun se vrši po m2 poprskane površine.
B84: m2 | C84: 275 | E84: =IF((D84>0),SUM(C84*D84),"kn") -> kn
A85: 8.3.12. | B85: Izrada habajućeg sloja kolničke konstrukcije od asfaltbetona AC 11 surf 50/70 AG3 M3 debljine d = 4 cm (O.T.U. 6-03) - obuhvat zahvata: interne prometne površine Rad obuhvaća nabavu, prijevoz, polaganje i zbijanje materijala, uključujući opremu i sve što je potrebno za dovršenje rada. Obračun se vrši po m2 gornje površine stvarno položenog i ugrađenog habajućeg sloja sukladno projektu.
B86: m2 | C86: 1760 | E86: =IF((D86>0),SUM(C86*D86),"kn") -> kn
A87: 8.3.13. | B87: Izrada habajućeg sloja kolničke konstrukcije od asfaltbetona AC 11 surf 50/70 AG3 M3 debljine d = 4 cm (O.T.U. 6-03) - obuhvat zahvata: javna prometnica Rad obuhvaća nabavu, prijevoz, polaganje i zbijanje materijala, uključujući opremu i sve što je potrebno za dovršenje rada. Obračun se vrši po m2 gornje površine stvarno položenog i ugrađenog habajućeg sloja sukladno projektu.
B88: m2 | C88: 275 | E88: =IF((D88>0),SUM(C88*D88),"kn") -> kn
A89: 8.3.14. | B89: Izrada habajućeg sloja konstrukcije nogostupa od asfaltbetona AC 8 surf 50/70 AG4 M4 debljine d = 4 cm (O.T.U. 6-03) - obuhvat zahvata: javna prometnica Rad obuhvaća nabavu, prijevoz, polaganje i zbijanje materijala, uključujući opremu i sve što je potrebno za dovršenje rada. Obračun se vrši po m2 gornje površine stvarno položenog i ugrađenog habajućeg sloja sukladno projektu.
B90: m2 | C90: 170 | E90: =IF((D90>0),SUM(C90*D90),"kn") -> kn
A91: 8.3.15. | B91: Izrada habajućeg sloja konstrukcije od asfaltbetona AC8 surf 50/70 AG4 M4 debljine d = 4 cm (O.T.U. 6-03) - obuhvat zahvata: sportski tereni Rad obuhvaća nabavu, dopremu, polaganje i zbijanje materijala, uključujući opremu i sve što je potrebno za dovršenje rada. Obračun se vrši po m2 gornje površine stvarno položenog i ugrađenog asfaltbetona.
B92: m2 | C92: 5370 | E92: =IF((D92>0),SUM(C92*D92),"kn") -> kn
A93: 8.3.16. | B93: Nabava, doprema i postava atletske sportske podloge, za vanjske terene: staza za trčanje, poligon s preprekama i zaletište skoka u dalj Rad obuhvaća izradu vodonepropusne monolitne atletske sportske podloge od gumenog granulata i poliuretanskog (PU) veziva koji se izvodi u 3 sloja. Nosivi sloj se sastoji od mješavine SBR crnog gumenog granulata (granulacija 1 - 4 mm) i bezbojnog PU veziva i nanosi se u debljini od 10 - 11 mm. Polaganje nosivog sloja izvodi se specijalnim strojem za automatsko niveliranje (finišer sa laserskom optikom), a prethodno je na asfalt nužno nanijeti osnovni premaz – primer - za asfalt. Na podlogu od SBR granulata nanosi se sloj za brtvljenje pora kojim se zatvaraju sve pore na SBR nosivom sloju (kao priprema za završni sloj), izvodi se ručno čeličnim špahtlama. Na tako pripremljen sloj nanosi se završni sloj od PU veziva u boji granulata, te se posipava proizvedenim EPDM granulatom u boji granulacije 1 - 4 mm, izvodi se ručno nazubljenim špahtlama. Debljina završnog sloja je minimalno 3 mm. Podloga se izvodi u svemu prema uputama proizvođača. Ukupna debljina podloge je minimalno 13 mm. Fizička i mehanička svojstava moraju biti u skladu s kriterijima kvalitete Međunarodnog atletskog saveza (IAAF) za sintetičke sportske podloge. Otpornost na starenje i trošenje mora biti u skladu sa standardima za sintetičke sportske podloge. Sportska podloga mora zadovoljavti uvjete potrebnih certifikata za emisiju hlapljivih organskih spojeva (VOC-s) u školama i zdravstvenim ustanovama. Odabran proizvod mora biti prikladan za ugradnju na projektom predviđenu asfaltnu podlogu, projektiranih nagiba.
B94: Boja podloge - tamnocrvena. U jediničnu cijenu sportskog poda uključeni su svi troškovi materijala i izrade, uključujući prijevoze i sredstva za rad potrebne za ugradnju do potpune funkcionalnosti. Prije narudžbe projektantu se na odobrenje donosi uzorak sportske podloge u specificiranoj boji. Obračun se vrši po m² ugrađenog sportskog poda.
B95: - sportska podloga tamnocrvene boje
B96: m2 | C96: 1650 | E96: =IF((D96>0),SUM(C96*D96),"kn") -> kn
A97: 8.3.17. | B97: Nabava, doprema i postava sportske akrilne podne obloge za vanjske terene: rukomet i košarka Rad obuhvaća izradu visokokvalitetne monolitne sportske akrilne podne obloge. Sistem se sastoji od gumene podloge 10 mm, na koju se nanosi akrilna podloga u 6 slojeva. Nosivi (donji, elastični) sloj se sastoji od gume u roli debljine 10 mm koja se lijepi na asfaltnu podlogu. Na tako pripremljenu gumenu podlogu nanosi se akrilni sloj za brtvljenje pora u 1 premazu, kojim se zatvaraju sve pore na SBR nosivom sloju, te se dobiva potpuno ravna i glatka površina. Nakon toga nanosi se akrilni fleksibilni sloj u 3 premaza, te akrilna boja za srednje brzu podlogu u 2 premaza (završni sloj je posebna, zaglađujuća boja). Ukupna debljina podloge iznosi cca 14 mm. Izvodi se u svemu prema uputama proizvođača. Fizička i mehanička svojstava moraju biti u skladu s kriterijima kvalitete međunarodnih saveza FIBA i IHF za sintetičke sportske podloge. Otpornost na starenje i trošenje mora biti u skladu sa standardima za sintetičke sportske podloge. Sportska podloga mora zadovoljavti uvjete potrebnih certifikata za emisiju hlapljivih organskih spojeva (VOC-s) u školama i zdravstvenim ustanovama, te certifikat vatrootpornosti. Odabran proizvod mora biti prikladan za ugradnju na projektom predviđenu asfaltnu podlogu, projektiranih nagiba. Stavkom je obuhvaćena obrada eventualnih nepravilnosti asfaltne podloge, ravnanje i sl.
B98: Boja sportske podloge (tamnocrvena, svijetlosiva i tamnosiva) - kombinacija boja prema situaciji u izvedbenom projektu. U jediničnu cijenu sportskog poda uključeni su svi troškovi materijala i izrade, uključujući prijevoze i sredstva za rad potrebne za ugradnju do potpune funkcionalnosti. Prije narudžbe projektantu se na odobrenje donosi uzorak sportske podloge u specificiranoj boji. Obračun se vrši po m² ugrađenog sportskog poda.
B99: - sportska podloga sive boje
B100: m2 | C100: 500 | E100: =IF((D100>0),SUM(C100*D100),"kn") -> kn
B101: - sportska podloga tamno sive boje
B102: m2 | C102: 800 | E102: =IF((D102>0),SUM(C102*D102),"kn") -> kn
B103: - sportska podloga tamnocrvene boje
B104: m2 | C104: 850 | E104: =IF((D104>0),SUM(C104*D104),"kn") -> kn
A106: 8.3. | B106: UKUPNO KOLNIČKA KONSTRUKCIJA, KONSTRUKCIJA NOGOSTUPA I SPORTSKIH TERENA - ASFALT | E106: =SUM(E64:E104) -> 0
A108: 8.4. | B108: KOLNIČKA KONSTRUKCIJA - TRAVNA REŠETKA
A109: 8.4.1. | B109: Izrada nosivog sloja kolničke konstrukcije od mehanički stabiliziranog zrnatog kamenog materijala (O.T.U. 5-01) u debljini od d = 30 cm Rad obuhvaća nabavu, dopremu i ugradnju zrnatog kamenog materijala 0/63 mm u nosivi sloj kolničke konstrukcije. Modul stišljivosti Ms mjeren kružnom pločom promjera 30 cm treba biti minimalno 80 MN/m2. Stupanj zbijenosti Sz u odnosu na modificirani Proctor je min 100%. Jediničnom cijenom obuhvaćena je dobava materijala, svi radovi i prijevoz potrebni za izradu nosivog sloja. Obračun se vrši po m3 ugrađenog materijala u zbijenom stanju.
B110: m3 | C110: 47 | E110: =IF((D110>0),SUM(C110*D110),"kn") -> kn
A111: 8.4.2. | B111: Ugradnja geotekstila (O.T.U. 2-08.4) Rad obuhvaća nabavu, dopremu i ugradnju separacijskog geotekstila za odvajanje nosivog i izravnavajućeg sloja od mehanički stabiliziranog zrnatog kamenog materijala. Jediničnom cijenom obuhvaćena je dobava materijala, svi radovi i prijevoz potrebni za ugradnju geoteksila. Karakteristike geotekstila: - masa: min. 400 g - vlačna čvrstoća min.: 17 kN/m - vlačno istezanje: >55% - otpornost na CBR proboj min.: 3,0 kN - test dinamičkog proboja max.: 11 mm - preklop min. 50 cm Obračun se vrši po m2 ugrađenog geoteksila.
...

Sheet 9-Sprinkler inst.
A1: BR. | B1: OPIS STAVKE JED.MJERA | C1: KOLIČINA | D1: JED. CIJENA bez PDV-a | E1: UKUPNA CIJENA bez PDV-a
A3: 9. | B3: RADOVI SPRINKLER INSTALACIJA
B5: OPĆI UVJETI IZVEDBE SPRINKLER SUSTAVA
B6: Sve radove potrebno je izvesti u potpunosti prema projektoj dokumentaciji, troškovniku, svim u trenutku izvođenja važećim tehničkim propisima, normama, uputama proizvođača opreme i pravilima struke. Dinamika izvođenja radova mora se prilagoditi roku za završetak radova.
B7: Za promjene i odstupanja od glavnog i izvedbenog projekta mora se pribaviti pismena suglasnost projektanta i nadzornog inženjera.
B8: Izvođač je dužan prije početka radova projekt provjeriti na licu mjesta i za eventualna odstupanja konzultirati projektanta.
B9: Po završetku ugovorenih radova a prije početka korištenja odnosno stavljanja instalacije u pogonsko stanje instalaciju treba zapisnički pustiti u rad.
B10: Prije stavljanja instalacije u rad treba napraviti obuku krajnjeg korisinika.
B11: Preglede instalacije treba vršiti sukladno zidnim uputama i knjizi rukovanja i održavanja sprinkler sustava.
B13: SPRINKLER SUSTAV
B14: Sprinkler oprema treba zadovoljiti ispod navedene kriterije:
B15: Kriterij tehničke ispravnosti Sprinkler oprema svojim tehničkim karakteristikama treba zadovoljiti tehničke uvjete definirane troškovnikom i glavnim i izvedbenim projektom.
B16: Kriterij kvalitete Sav materijal i oprema koji se upotrijebljava tijekom gradnje trebaju svojom kvalitetom i tehničkim karakteristikama odgovarati trenutno važećim normama za izvedbu protupožarnih instalacija.
B17: Kriterij završne obrade Završne obrade vidljivih dijelova instalacije prije narudžbe opreme treba odobriti projektant. Za ovjeru estetskog kriterija potrebno je projektantu dostaviti uzorak opreme. Završnu boju vidljivih instalacija definira projektant upisom u građevinsku knjigu.
... B50: Jediničnom cijenom svake ispod navedene stavke obuhvaćeni su svi potrebni transporti, dobava, ugradnja i montaža, te sav sitni i potrošni materijal koji je potreban do potpune gotovosti i funcionalnosti.
A52: 9.1. | B52: SPRINKLER STANICA - STROJARSKI DIO
A54: 9.1.1. | B54: Sprinkler ventilska stanica
B55: - tip: mokri - dimenzija: NO100 - dodatna oprema: nadzor ventila i tampon boca
B56: Cijeli komplet predmontiran u kompletu sa sprinkler ventilom NO100, tampon bocom, leptir ventilom s indikacijom otvorenosti NO100 ispred i iza sprinkler ventila, ventilom alarmnog zvona sa indikacijom otvorenosti, svom pripadajućom armaturom, manometrima, alarmnom tlačnom sklopkom
B57: komplet | C57: 1 | E57: =IF((D57>0),SUM(C57*D57),"kn") -> kn
A58: 9.1.2. | B58: Alarmno zvono
B59: - tip: hidrauličko - dimenzija: 3/4"
B60: Cijeli komplet se sastoji od alarmnog zvona, hvatača nečistoća 3/4" i pripadajućih holendera.
B61: komplet | C61: 1 | E61: =IF((D61>0),SUM(C61*D61),"kn") -> kn
A62: 9.1.3. | B62: Sprinkler potopna pumpa pogonjena elektromotorom
B63: - karakteristike: - 1200 l/min @ 52 m - tip: potopna - snaga pumpe: 21 kW - upuštanje: zvijezda-trokut
B64: komplet | C64: 1 | E64: =IF((D64>0),SUM(C64*D64),"kn") -> kn
A65: 9.1.4. | B65: Jockey pumpa
B66: - karakteristike: - 50 l/min @ 55 m - snaga pumpe: 1,1 Kw
B67: komplet | C67: 1 | E67: =IF((D67>0),SUM(C67*D67),"kn") -> kn
A68: 9.1.5. | B68: Leptir ventil
B69: - nazivni pritisak: NP10 - dimenzija: NO100 - spoj na cjevovod: utorni - vrsta: sa električnom i vizualnom kontrolom otvorenosti
B70: Cijeli komplet se sastoji od leptir ventila, mikrosklopke i utornih spojki.
B71: komplet | C71: 2 | E71: =IF((D71>0),SUM(C71*D71),"kn") -> kn
A72: 9.1.6. | B72: Leptir ventil
B73: - nazivni pritisak: NP10 - dimenzija: NO80 - spoj na cjevovod: utorni - vrsta: sa električnom i vizualnom kontrolom otvorenosti
B74: Cijeli komplet se sastoji od leptir ventila, mikrosklopke i utornih spojki.
B75: komplet | C75: 1 | E75: =IF((D75>0),SUM(C75*D75),"kn") -> kn
A76: 9.1.7. | B76: Leptir ventil
B77: - nazivni pritisak: NP10 - dimenzija: NO50 - spoj na cjevovod: utorni - vrsta: sa električnom i vizualnom kontrolom otvorenosti
B78: Cijeli komplet se sastoji od leptir ventila, mikrosklopke i utornih spojki.
B79: komplet | C79: 4 | E79: =IF((D79>0),SUM(C79*D79),"kn") -> kn
A80: 9.1.8. | B80: Ventil za vodu
B81: '- nazivni pritisak: NP10 - dimenzija: 2" - spoj na cjevovod: navojni
B82: Cijeli komplet se sastoji od ventila i holendera.
B83: komplet | C83: 3 | E83: =IF((D83>0),SUM(C83*D83),"kn") -> kn
A84: 9.1.9. | B84: Ventil za vodu
B85: - nazivni pritisak: NP10 - dimenzija: 5/4" - spoj na cjevovod: navojni
B86: Cijeli komplet se sastoji od ventila i holendera.
B87: komplet | C87: 1 | E87: =IF((D87>0),SUM(C87*D87),"kn") -> kn
A88: 9.1.10. | B88: Ventil za vodu
B89: - nazivni pritisak: NP10 - dimenzija: 1" - spoj na cjevovod: navojni
B90: Cijeli komplet se sastoji od ventila i holendera.
B91: komplet | C91: 1 | E91: =IF((D91>0),SUM(C91*D91),"kn") -> kn
A92: 9.1.11. | B92: Ventil za vodu
B93: - nazivni pritisak: NP10 - dimenzija: 1/2" - spoj na cjevovod: navojni
B94: Cijeli komplet se sastoji od ventila i holendera.
B95: komplet | C95: 1 | E95: =IF((D95>0),SUM(C95*D95),"kn") -> kn
A96: 9.1.12. | B96: Nepovratni ventil
B97: - nazivni pritisak: NP10 - dimenzija: NO100 - spoj na cjevovod: utorni
B98: Cijeli komplet se sastoji od nepovratnog ventila i utornih spojki.
B99: komplet | C99: 2 | E99: =IF((D99>0),SUM(C99*D99),"kn") -> kn
A100: 9.1.13. | B100: Nepovratni ventil
B101: - nazivni pritisak: NP10 - dimenzija: 2" - spoj na cjevovod: navojni
B102: Cijeli komplet se sastoji od nepovratnog ventila i holendera.
B103: komplet | C103: 1 | E103: =IF((D103>0),SUM(C103*D103),"kn") -> kn
A104: 9.1.14. | B104: Hvatač nečistoća
B105: - nazivni pritisak: NP10 - dimenzija: 2" - spoj na cjevovod: navojni
B106: Cijeli komplet se sastoji od hvatača nečistoća i holendera.
B107: komplet | C107: 1 | E107: =IF((D107>0),SUM(C107*D107),"kn") -> kn
A108: 9.1.15. | B108: Mjerna blenda
B109: - nazivni pritisak: NP10 - dimenzija: NO80 - spoj na cjevovod: utorni
B110: Cijeli komplet se sastoji od mjerne blende i utornih spojki.
B111: komplet | C111: 1 | E111: =IF((D111>0),SUM(C111*D111),"kn") -> kn
A112: 9.1.16. | B112: Kutni ventil s plovkom - nazivni pritisak: NP10 - dimenzija: NO50 - spoj na cjevovod: navojni Cijeli komplet se sastoji od kutnog ventila s plovkom i holendera.
B113: komplet | C113: 2 | E113: =IF((D113>0),SUM(C113*D113),"kn") -> kn
A114: 9.1.17. | B114: Protuvrtložna ploča za sprinkler pumpu
B115: komplet | C115: 1 | E115: =IF((D115>0),SUM(C115*D115),"kn") -> kn
A116: 9.1.18. | B116: Stabilna spojka - nazivna dimenzija: 2 1/2" - vrsta: tip B
B117: komplet | C117: 2 | E117: =IF((D117>0),SUM(C117*D117),"kn") -> kn
A118: 9.1.19. | B118: Slijepa spojka - nazivna dimenzija: 2 1/2" - vrsta: tip B
B119: komplet | C119: 2 | E119: =IF((D119>0),SUM(C119*D119),"kn") -> kn
A120: 9.1.20. | B120: Natpis od aloksiranog aluminija, s ugraviranim natpisom: "PRIKLJUČAK VATROGASNOG VOZILA NA SPRINKLER INSTALACIJU"
B121: komplet | C121: 1 | E121: =IF((D121>0),SUM(C121*D121),"kn") -> kn
A122: 9.1.21. | B122: Manometarski priključak koji se sastoji od: - Manometar 0-16 bar, Ø100mm, 1/2" - Ventil kuglasti troputi s T pozicijom, 1/2" - Cijevni nastavak 1/2" duljine 50 mm
B123: komplet | C123: 2 | E123: =IF((D123>0),SUM(C123*D123),"kn") -> kn
A124: 9.1.22. | B124: Manometarski priključak koji se sastoji od: - Manometar 0-16 bar (punjen glicerinom), Ø100mm, 1/2" - Ventil kuglasti troputi s T pozicijom, 1/2" - Cijevni nastavak 1/2" duljine 50 mm
B125: komplet | C125: 1 | E125: =IF((D125>0),SUM(C125*D125),"kn") -> kn
A126: 9.1.23. | B126: Priključak za tlačnu sklopku koji se sastoji od: - Manometar 0-16 bar, Ø100mm, 1/2" - Ventil kuglasti troputi s T pozicijom, 1/2" - Tlačna sklopka 1/2" - Pocinčani T komad 1/2" - Pocinčani nipl 1/2" - Pocinčano koljeno 1/2"
B127: komplet | C127: 3 | E127: =IF((D127>0),SUM(C127*D127),"kn") -> kn
A128: 9.1.24. | B128: Cijev - vrsta: čelična, pocinčana, šavna - dimenzija: 3/4" - ispitni tlak: 50 bar - način spajanja: navojno U kompletu sa fitinzima (kolčaci, koljena, T komadi, redukcije i ostali fitinzi) Napomena: Fitinzi su uključeni u cijenu po metru cijevi.
B129: m' | C129: 6 | E129: =IF((D129>0),SUM(C129*D129),"kn") -> kn
A130: 9.1.25. | B130: Cijev - vrsta: čelična, pocinčana, šavna - dimenzija: 1" - ispitni tlak: 50 bar - način spajanja: navojno U kompletu sa fitinzima (kolčaci, koljena, T komadi, redukcije i ostali fitinzi) Napomena: Utorne spojke i fitinzi su uključeni u cijenu po metru cijevi.
B131: m' | C131: 6 | E131: =IF((D131>0),SUM(C131*D131),"kn") -> kn
A132: 9.1.26. | B132: Cijev - vrsta: čelična, crna, šavna - dimenzija: NO50 - ispitni tlak: 50 bar - način spajanja: utorno U kompletu sa utornim spojkama i cijevnim fitinzima (koljena, T komadi, redukcije i ostali fitinzi) Napomena: Utorne spojke i fitinzi su uključeni u cijenu po metru cijevi.
B133: m' | C133: 12 | E133: =IF((D133>0),SUM(C133*D133),"kn") -> kn
A134: 9.1.27. | B134: Cijev - vrsta: čelična, crna, šavna - dimenzija: NO65 - ispitni tlak: 50 bar - način spajanja: utorno U kompletu sa utornim spojkama i cijevnim fitinzima (koljena, T komadi, redukcije i ostali fitinzi) Napomena: Utorne spojke i fitinzi su uključeni u cijenu po metru cijevi.
B135: m' | C135: 6 | E135: =IF((D135>0),SUM(C135*D135),"kn") -> kn
A136: 9.1.28. | B136: Cijev - vrsta: čelična, crna, šavna - dimenzija: NO80 - ispitni tlak: 50 bar - način spajanja: utorno U kompletu sa utornim spojkama i cijevnim fitinzima (koljena, T komadi, redukcije i ostali fitinzi) Napomena: Utorne spojke i fitinzi su uključeni u cijenu po metru cijevi.
B137: m' | C137: 12 | E137: =IF((D137>0),SUM(C137*D137),"kn") -> kn
...
