Workbook
Name AA: #REF!
Name AA: #REF!
Name AA: #REF!
Name AA: #REF!
Name AA: #REF!
Name AA: #REF!
Name AA: #REF!
Name adsdasdads: #REF!
Name adsdasdads: #REF!
Name adsdasdads: #REF!
Name adsdasdads: #REF!
Name adsdasdads: #REF!
Name adsdasdads: #REF!
Name adsdasdads: #REF!
Name aluminijska: #REF!
Name aluminijska: #REF!
Name aluminijska: #REF!
Name aluminijska: #REF!
Name aluminijska: #REF!
Name aluminijska: #REF!
Name aluminijska: #REF!
Name asadasdsd: #REF!
Name asadasdsd: #REF!
Name asadasdsd: #REF!
Name asadasdsd: #REF!
Name asadasdsd: #REF!
Name asadasdsd: #REF!
Name asadasdsd: #REF!
Name betonska: #REF!
Name betonska: #REF!
Name betonska: #REF!
Name betonska: #REF!
Name betonska: #REF!
Name betonska: #REF!
Name dadsasa: #REF!
Name dadsasa: #REF!
Name dadsasa: #REF!
Name dadsasa: #REF!
Name dadsasa: #REF!
Name dadsasa: #REF!
Name dadsasa: #REF!
Name DAS: #REF!
Name DAS: #REF!
Name DAS: #REF!
Name DAS: #REF!
Name DAS: #REF!
Name DAS: #REF!
Name DAS: #REF!
Name DFS: #REF!
Name DFS: #REF!
Name DFS: #REF!
Name DFS: #REF!
Name DFS: #REF!
Name DFS: #REF!
Name DFS: #REF!
Name DGF: #REF!
Name DGF: #REF!
Name DGF: #REF!
Name DGF: #REF!
Name DGF: #REF!

Sheet Naslov arhitektura
A3: JEDNOSTAVNA ZGRADA
A6: TROŠKOVNIK
A7: A. GRAĐEVINSKO - OBRTNIČKI RADOVI
B12: GRAĐEVINA: | C12: OBNOVA TOPLOVODNE KOTLOVNICE
C13: I RAZVODA TOPLE VODE
B15: LOKACIJA: | C15: OSNOVNA ŠKOLA BRATOLJUBA KLAIĆA
C16: BIZOVAC, Dr.Franje Tuđmana 1
B18: INVESTITOR: | C18: OSNOVNA ŠKOLA BRATOLJUBA KLAIĆA
C19: BIZOVAC, Dr.Franje Tuđmana 1
B23: PROJEKTANT: | C23: Respect-ing d.o.o.
C24: Ilirska 27, 31000 Osijek
C25: OIB: 72061576990
A32: U Osijeku, lipanj 2018.
E33: Projektant:
E34: Goran Čičić, dipl.ing.arh.

Sheet Arhitektura opći uvjeti
B2: OPĆI I POSEBNI UVJETI GRAĐENJA
B4: IZVODITELJ JE DUŽAN IZAĆI NA TEREN PRIJE DAVANJA PONUDE
A7: 1. | B7: Izvoditelj je obvezan sve radove po ovom Troškovniku i ugovornoj dokumentaciji izvesti stručno i kvalitetno, pridržavajući se svih dužnosti i obveza iz Zakona o gradnji, Zakona o prostornom uređenju, važećih norma, pravilnika i propisa, pravila zanata, posebnih uzanca o građenju, tehničkoj dokumentaciji, uputa projektanta i konstruktera, te uvjeta Ugovora.
A9: 2. | B9: Svi radovi izvode se s posebnom pažnjom uz prethodnu konzultaciju s nadzorom.
A11: 3. | B11: Radove na rušenjima Izvoditelj treba izvoditi krajnje oprezno uz sva potrebna prethodna osiguranja kao ne bi oštetio vitalne konstrukcijske elemante.
A13: 4. | B13: Za sve vrijeme izvođenja radova glavni Izvoditelj radova mora koordinirati izvedbu svih izvođača radova.
A15: 5. | B15: Nadzorna služba u suglasnosti s Investitorom ovlašteni su izvršiti promjenu oblika i kvalitete izvedbe pojedinih stavaka u skladu s ciljevima projekta ako se to ukaže potrebnim tokom izvođenja radova.
A17: 6. | B17: Prije početka svake nove etape rada vrši se detaljan pregled i usuglašava način izvođenja s nadzorom - projektantom.
A19: 7. | B19: Izvoditelj je dužan dnevno sakupljati otpad na gradilištu i dnevno čistiti sve prometne površine, a nakon završetka svake faze rada dužan je izvršiti detaljno čišćenje kao pripremu za slijedeći rad, što je sve sadržano u jediničnim cijenama pojedinih radova.
A21: 8. | B21: U ovom ponudbenom troškovniku izvoditelj je dužan ponuditi jedinične cijene u koje je uračunao sve troškove za nabavu i dopremu materijala na gradilište, unutarnji transport, prilagodbi radnom vremenu, korisnika sve potrebno za izvedbu određenoga rada, čišćenje nakon svake dovršene faze rada, kao i detaljno završno čišćenje, odvoz otpada, te pripremu i raspremu gradilišta.
A23: 9. | B23: U troškovniku će biti naznačeno za koje stavke izvođač radova ne vrši dobavu materijala nego to vrši investitor. U tom slučaju izvođač je u obvezi preuzeti materijal, izvršiti lokalnu – gradilišnu dostavu do pozicije ugradnje i ugraditi ga sukladno pravilima struke. Viškove materijala predati Investitoru po završetku radova.
A25: 10. | B25: U jediničnu cijenu svakog ponuđenoga rada uključene su i sve zaštite u smislu zaštite na radu i zaštite samih radova, kao npr. potpore, radne skele, rad na visini iznad 3,5 m, privremene ograde, pristupi, korištenje autodizalice i dr., ukoliko u pojedinoj stavci nisu posebno spomenute. U jediničnoj cijeni je i mobiliziranje gradilišta u smislu osiguranja dovoljnog broja kemijskih wc-a, kontejnera za radnike, upravu gradilišta i stručni nadzor.
A27: 11. | B27: U jediničnu cijenu svakog ponuđenoga rada uključena su sva potrebna blindiranja instalacija vodovoda, kanalizacije, grijanja, ventilacije i sl.
A29: 12. | B29: Svi radovi moraju se izvoditi s kvalificiranim radnicima i po pravilima struke.
... A55: 25. | B55: Izvoditelj je dužan izvesti sve potrebne privremene priključke instalacija za potrebe gradilište, el. energiju, vodovod , kanalizaiju te ih uredno održavati i plaćati utrošeno.

Sheet Rekapitulacija arhitektura
B3: REKAPITULACIJA GRAĐEVINSKI I OBRTNIČKI RADOVI
B5: GRAĐEVINSKI I OBRTNIČKI RADOVI
A8: 1. | B8: RUŠENJA I UKLANJANJA | G8: ='Arhitektura 1.Rušenja'!F24 -> 0
A10: 2. | B10: BETONSKI I ZIDARSKI RADOVI | G10: ='Arhitektura 2.Betonski'!F43 -> 0
A12: 3. | B12: STOLARIJA | G12: ='Arhitektura 3.Stolarija'!F48 -> 0
A14: 4. | B14: ZAVRŠNI I OSTALI RADOVI | G14: ='Arhitektura 4.Završni'!F51 -> 0
B18: UKUPNO | G18: =SUM(G7:G15) -> 0
B20: PDV 25% | G20: =G18*0.25 -> 0
B22: SVEUKUPNO | G22: =G18+G20 -> 0

Sheet Arhitektura 1.Rušenja
A2: 1. | B2: RUŠENJA I UKLANJANJA
A3: R.br. | B3: Opis stavke | C3: J.m. | D3: Kol. | E3: Jed.cijena | F3: Uk.cijena
B7: OPĆI UVJETI I NAPOMENE
A9: Ukoliko u stavci nije drugačije navedeno, sve stavke uključuju: ­ sav potreban rad i pribor za demontažu ­ sav potreban rad i pribor za rušenja, štemanja i sl. ­ utovar i odvoz demontiranog materijala na gradski deponij uz plačanje takse deponiranja ­ utovar i odvoz skinutog i uklonjenog materijala ili šute na gradski deponij uz plačanje takse deponiranja ­ potrebna osiguranja prilikom izvođenja radova sukladno zakonu o zaštiti na radu ­ radna skela
A12: 1.1. | B12: Demontaža stolarije
B13: Demontaža postojeće stolarije. Prilikom demontaže obratiti pozornost na što manja oštećenja graničnih zidova, stropa i poda. Stavka obuhvaća sve potrebne radnje i transporte za uklanjanje , utovar i odvoz na deponij . Stolarija veličine 160/200+75.
B14: ­ obračun po kom stolarije | C14: kom | D14: 1 | F14: =D14*E14 -> 0
A16: 1.2. | B16: Uklanjanje parapetnog zida
B17: Strojno i ručno uklanjanje - štemanje dijela parapetnog zida. Zid se sastoji iz zidane blok opeke , tervol 5 cm i ožbukani zid od pune opeke 12 cm. Obratiti pozornost na što manja oštećenja graničnih zidova. Stavka obuhvaća sve potrebne radnje i transporte za uklanjanje žbuke , utovar i odvoz na deponij . Obračun po m2 površine koja se uklanja.
B18: ­ m2 parapeta | C18: m2 | D18: 1.3 | F18: =D18*E18 -> 0
A24: 1. | B24: RUŠENJA I UKLANJANJA | F24: =SUM(F9:F23) -> 0

Sheet Arhitektura 2.Betonski
A2: 2. | B2: BETONSKI I ZIDARSKI RADOVI
A3: R.br. | B3: Opis stavke | C3: J.m. | D3: Kol. | E3: Jed.cijena | F3: Uk.cijena
A5: 2.1. | B5: Izvedba temelja-postamenta u kotlovnici Dobava, spravljanje i ugradnja betona C 25/30, XC2 za temelje-postamente uređaja u kotlovnici visine 10 cm. Beton armirati sa arm.mrežom Q 335, te ga zagladiti ručno za postavu keramičkih pločica. Radove izvesti precizno i bez oštećenja okolnih podnih pločica - te u tu svrhu uz rub postamenta prehodno zarezati pločice da bi se spriječilo naknadno pucanje postojećih pločica. Spravljanje i ugradnja betona je ručna.
B6: Obračun po m2 izvedenog postamenta | C6: m2 | D6: 8.19 | F6: =D6*E6 -> 0
A8: 2.2. | B8: Izvedba ab stepenica sa dijelom terase Dobava, spravljanje i ugradnja betona C 30/37, XC2 za vanjske stepenice i nastavak terase. Debljina ab ploče 14 cm . Beton armirati sa arm.mrežom 2 x Q 335, te ga zagladiti ručno za postavu keramičkih pločica. Radove izvesti precizno i bez oštećenja okolnih podnih pločica . Ispod nastupne stepenice betonirati temelj presjeka 30 x 60 cm u širini stepenišnog kraka i jednog bočnog ruba terase . Na spoju betona sa postojećom terasom i zidom ubušiti ankere fi 12 mm , dužine 10+10 cm, na svakih 10 cm u gornjuj idonjoj zoni armiranja. Spravljanje i ugradnja betona je ručna. Komplet beton + oplata+ armatura+ iskop za temelj.
B9: Obračun po m3 betona | C9: m3 | D9: 2.45 | F9: =D9*E9 -> 0
A11: 2.3. | B11: Izvedba betonskog rubnika-staze Dobava, spravljanje i ugradnja betona C 25/30, XC2 za vanjski rubnik. Debljina ploče 10 cm , širina 60 cm . Beton armirati sa arm.mrežom Q 131, te ga zagladiti ručno uz izradu dilatacijskih spojnica. Spravljanje i ugradnja betona je ručna. Komplet beton + oplata+ armatura+ iskop sa odvozom zemlje i nasip tampona debljine 15 cm.
B12: Obračun po m2 staze | C12: m2 | D12: 4.4 | F12: =D12*E12 -> 0
A14: 2.4. | B14: Uziđivanje fasadnog zida Dobava materijala te uziđivanje fasadnog zida na južnom pročelju, na dijelu prepravljene stolarije . Zid se sastoji iz : unutarnja produžno cementna žbuka+zidani zid blok opekom u pcm 19 cm+ tervol 5 cm+zidani zid 12 cm punom opekom+ vanjska produžno cementna žbuka. Obračunati sve radove potrebne za kompletno uziđivanje i uklapanje sa postojećom fasadom ( uključujući i vanjsko krečenje uzidanog dijela ) .
B15: Obračun po m2 fasade | C15: m2 | D15: 7.86 | F15: =D15*E15 -> 0
A17: 2.5. | B17: Probijanje otvora sa obradom Probijanje otvora u vanjskom zidu za ventilacijske otvore dim 58,5x30 cm sa zidarskom obradom rubova u pcm. te otvora u ab stropu fi 35/45 cm za ventilacijske cijevi i otvori do fi10 cm u zidu 25-40 cm - sve sa obradom istih u pcm. Obračunati sve potrebne radove do krečenja.
B18: otvor 58,5x30 cm | C18: kom | D18: 2 | F18: =D18*E18 -> 0
B19: otvor fi 35/40 cm | C19: kom | D19: 2 | F19: =D19*E19 -> 0
B20: otvor fi do 10 cm | C20: kom | D20: 50 | F20: =D20*E20 -> 0
A22: 2.6. | B22: Obrada uložina i šliceva Obrada uložina prozora na dijelu rušenja parapeta, te raznih šliceva kod polaganja instalacija u produžno cementnom mortu. Komplet do faze gletovanja i krečenja
B23: obračun po m1 obrade | C23: m1 | D23: 35 | F23: =D23*E23 -> 0
A43: 2. | B43: =B2 -> BETONSKI I ZIDARSKI RADOVI | F43: =SUM(F5:F42) -> 0

Sheet Arhitektura 3.Stolarija
A2: 3. | B2: STOLARIJA
A3: R.br. | B3: Opis stavke | C3: J.m. | D3: Kol. | E3: Jed.cijena | F3: Uk.cijena
B5: Napomena: Sve mjere potrebno je provjeriti u naravi! Radioničke nacrte prije izvedbe treba pregledati i ovjeriti projektant!
B7: Vanjski otvori na prostorijama zatvaraju se PVC stolarijom u boji po izboru projektanta.Svi profili moraju biti 5-komorni dizajn i dubina konstrukcije od minimalno 74 mm, termoizolacioni te sa adekvatnim profiliranim brtvama i Al kontinuiranim ojačanjem, ustakljeni IZO staklom 6+12+4.Vanjsko staklo lamistal blago reflektirajuće (metalizirano "Stop Sol " 10% ), unutarnje staklo Low -E, međuprostor punjen argonom.. Stolarija s koeficjentom prolaza topline k=1,1W/m2K.
A10: 3.1. | B10: Unutarnja puna vrata
B11: Izrada, dobava i ugradnja unutarnjih punih jednokrilnih vrata - prostorija domara, bijelo
B12: dim. 70/200 cm | C12: kom | D12: 1 | F12: =D12*E12 -> 0
A14: 3.2. | B14: Vanjska puna vrata
B15: Izrada, dobava i ugradnja vanjskih punih dvokrilnih vrata sa nadsvjetlom - prostorija kotlovnice, bijelo
B16: dim. 50+80//239+65 cm | C16: kom | D16: 1 | F16: =D16*E16 -> 0
A18: 3.3. | B18: Prerada vanjske stolarije
B19: Prerada vanjske PVC stolarije skraćivanjem postojeće na dijelu kotlovnice i ubacivanjem panela na dijelu nadsvjetla ( sa demontažum stakla ). Radove izvesti bez oštećenja dijela stolarije koji se zadržava. Sve prema projektu i odobrenjem nadzornog inžinjera.
B20: ubacivanje nadsvjetla dim. cca 60/100 cm | C20: kom | D20: 6 | F20: =D20*E20 -> 0
B21: skraćivanje fasadne stijene po projektu | C21: kom | D21: 2 | F21: =D21*E21 -> 0
A25: 3.4. | B25: Vatrootporna vrata kotlovnice
B26: Izrada, dobava i ugradnja vatrootpornih, čeličnih, zaokretnih, jednokrilnih, PUNIH vrata, vatrootpornosti T90, tip VZV 1/60 + VST, izrađenih od čeličnog, pocinčanog lima, završno plastificiranih po krilu i dovratniku u boji po RAL-u po izboru. Vrata se isporučuju sa kompletnim tipskim okovom (hidraulički zatvarač na prolaznom krilu, 2 panta, cilindar sa 3 ključa, vatrootporna brava, par inox kvaka) i atestnom dokumentacijom izdanom od strane ovlaštene Institucije u RH. U cijenu su uključena sva vezna sredstva za montažu vrata, opšavi oko vrata, protupožarne gume, pričvrsni elementi, pp brtvljenje. Suha ugradnja.
B27: dim. 70/200 cm | C27: kom | D27: 1 | F27: =D27*E27 -> 0
A48: 3. | B48: =B2 -> STOLARIJA | F48: =SUM(F12:F47) -> 0

Sheet Arhitektura 4.Završni
A2: 4. | B2: ZAVRŠNI I OSTALI RADOVI
A3: R.br. | B3: Opis stavke | C3: J.m. | D3: Kol. | E3: Jed.cijena | F3: Uk.cijena
A5: 4.1. | B5: Pregradni vatrootporni zid EI-90, d=15 cm, (nadvoj)
B6: Dobava materijala i izrada pregradnog gipskartonskog zida, iznad protupožarnih vrata, debljine 150 mm. Zid se sastoji od: ■ 2 x 12.5 mm protupožarna ploča ■ podkonstrukcija/mineralna vuna d=100 mm ■ 2 x 12.5 mm protupožarna ploča Ploče postaviti na tipsku pocinčanu metalnu podkonstrukciju, podgled zatvoriti dvostrukom gipskartonskom protupožarnom pločom. U cijeni radna skela (do 450 cm), sav potreban rad, oblaganje instalacijskih kanala i brtvljenje oko otvora instalacija koje prolaze kroz zid i materijal do potpune gotovosti.
B7: ­ obračun po m2 površine zida | C7: m2 | D7: 1.5 | F7: =D7*E7 -> 0
A9: 4.2. | B9: Pregradni vatrootporni zid EI-90, d=15 cm
B10: Dobava materijala i izrada pregradnog gipskartonskog zida koji se ugrađuje kao pregrada između kotlovnise i domara, debljine 150 mm. Zid se sastoji od: ■ 2 x 12.5 mm protupožarna ploča ■ podkonstrukcija/mineralna vuna d=100 mm ■ 2 x 12.5 mm protupožarna ploča Ploče postaviti na tipsku pocinčanu metalnu podkonstrukciju, podgled zatvoriti dvostrukom gipskartonskom protupožarnom pločom. U cijeni radna skela (do 450 cm), oblaganje instalacijskih kanala, i brtvljenje otvora oko instalacija koje prolaze kroz zid, sav potreban rad i materijal do potpune gotovosti.
B11: ­ obračun po m2 površine zida | C11: m2 | D11: 18.03 | F11: =D11*E11 -> 0
A13: 4.3. | B13: Podne pločice podesta kotlovnice
B14: Dobava materijala i polaganje podnih keramičkih pločica u unutarnje prostorije na podestima-temeljima u kotlovnici. Pločice se polažu ljepljenjem cementnim ljepilom na prethodno betoniranu površinu. Način polaganja i vrsta pločica ista ili slična postojećim.
B15: ­ podne pločice | C15: m2 | D15: 8.19 | F15: =D15*E15 -> 0
B16: ­ sokl h=10cm | C16: m1 | D16: 19.6 | F16: =D16*E16 -> 0
A18: 4.4. | B18: Podne pločice stepenica i terase
B19: Dobava materijala i polaganje protukliznih podnih keramičkih pločica na vanjske stepenice i terasu. Pločice gazišta stepenica sadrže obaveznu protukliznu profilaciju po nastupnom rubu gazišta. Pločice se polažu ljepljenjem cementnim ljepilom na prethodno betoniranu površinu. Nastupni rub pločica gazišta obavezno dodatno protuklizno profiliran.
B20: ­ podne pločice | C20: m2 | D20: 6.25 | F20: =D20*E20 -> 0
B21: ­ sokl h = 10 cm | C21: m1 | D21: 4.3 | F21: =D21*E21 -> 0
B22: ­ čela stepenica h= 16 cm | C22: m1 | D22: 6.5 | F22: =D22*E22 -> 0
A25: 4.5. | B25: Radovi na adaptaciji dimnjaka
B26: Izrezivanje površine dimnjaka iznad krova dimenzija cca 25 x 120 cm okomito na 40 cm od betonske kape. Izrezuje se betonski plašt dimnjaka i keramička cijev. Po montaži novih dimovodnih cijevi otvori se zatvaraju ugradnjom lima oko keramičke cijevi , te betoniranjem betonskog plašta i ličenjem u boji postojećeg dimnjaka. Sve komplet po projektu i odobrenju nadzornog inžinjera.
B27: po komadu otvora | C27: kom | D27: 2 | F27: =D27*E27 -> 0
A29: 4.6. | B29: Zatvaranje postojećih dimovodnih otvora
B30: Zatvaranje dimovodnih otvora u kotlovnici dimenzija cca fi 30 cm . Izrezuje se betonski plašt dimnjaka i keramička cijev. Po montaži novih dimovodnih cijevi otvori se zatvaraju ugradnjom lima oko keramičke cijevi , te betoniranjem betonskog plašta i ličenjem u boji postojećeg dimnjaka. Sve komplet po projektu i odobrenju nadzornog inžinjera.
B31: po komadu otvora | C31: kom | D31: 2 | F31: =D31*E31 -> 0
A33: 4.7. | B33: Prerada oborinske vertikale
B34: Prerada oborinske vertikale zbog izrade terase ubacivanjem LŽ revizije , lŽ T-komada, LŽ cijevi i LŽ luka sve fi 125 mm u ab ploči terase. Sve prema projektu .
B35: po kompletu | C35: kpl | D35: 1 | F35: =D35*E35 -> 0
A37: 4.8. | B37: Krečenje zidova i stropova
B38: Krečenje parapeta, zidova i stropova disperzivnom bijelom bojom u dvije ruke komplet sa svim predradnjama.
B39: ­ zidovi | C39: m2 | D39: 78 | F39: =D39*E39 -> 0
B40: ­ stropovi | C40: m2 | D40: 52 | F40: =D40*E40 -> 0
A42: 4.9. | B42: Brtvljenje cijevi instalacija
B43: Brvljenje smolom za brtvljenje flex200 mjesta prodora cijevi instalacija kroz zid, i u vodomjernom oknu .
B44: po kom zabrtvljenog otvora | C44: kom | D44: 2 | F44: =D44*E44 -> 0
A46: 4.10. | B46: Završno čišćenje
B47: Završno fino čišćenje objekta nakon dovršetka svih građevinsko-obrtničkih radova. Prilikom čišćenja paziti da se završna obrada ne ošteti.
B48: Napomena: višekratna čišćenja u tijeku gradnje ulaze u jedinične cijene svih sudionika na gradnji, ne ulaze u ovu stavku i ne obračunavaju se posebno.
B49: ­ obračun po m2 tlorisne površine | C49: m2 | D49: 52 | F49: =D49*E49 -> 0
A51: 4. | B51: =B2 -> ZAVRŠNI I OSTALI RADOVI | F51: =SUM(F8:F50) -> 0

Sheet Strojarstvo
A1: Investitor: Osnovna škola Bratoljuba Klaića, Bizovac
A2: Građevina: Osnovna škola Bratoljuba Klaića, Bizovac
A3: Lokacija: 31212 Bizovac, Ulica Dr. Franje Tuđmana 1
A4: Glavni projekt - Strojarski projekt obnove toplovodne kotlovnice i glavnog razvoda tople vode
A5: Broj projekta: LT 03 -18
A6: Izradio: Lekoterm d.o.o. Osijek
A7: Projektant: mr.sc. Petar Leko dipl.ing.stroj.
B11: Cijena za svaku točku ovog troškovnika podrazumijeva dobavu, montažu, spajanje, te dovođenje u stanje potpune funkcionalnosti, ukoliko nije predviđeno posebnom stavkom.
B12: Podrazumjeva se da je u cijeni ukalkuliran sav potreban spojni, montažni, ovjesni i ostali materijal potreban za potpuno funkcioniranje, ukoliko nije predviđeno posebnom stavkom.
B13: Podrazumjeva se da je u cijeni ukalkuliran trošak skela, za montažu na visini i viljuškara ili dizalica za istovar i postavljanje teške opreme na mjesto montaže, ukoliko nije predviđeno zasebnim stavkama.
B14: Prije narudžbe količina materijala čija se karakteristična veličina izražava u m, m2, m3 ili kg, izvođač je dužan provjeriti narudžbene količine na osnovu stvarnih izmjera i ili nacrtni dijelova projekta. Za eventualne manjkove ili viškove projektant ne snosi odgovornost.
B15: S izvođačima radova definiranim drugim projektima, izvođač radova po ovom projektu, mora uskladiti redoslijed izvođenja radova, kako ne bi došlo do preklapanja s trasama drugih instalacija i položajima opreme. Sva eventualna neusklađena izvođač je dužan o svom trošku otkloniti.
B16: Ukoliko je za izvođenje pojedinih radova potrebna izrada radionička nacrta, podrazunjeva se da su troškovi njene izrade ukalkulirani stavkama troškovnika za te radove.
B17: Davanjem ponude smatra se da je ponuđač, na što ima pravo, pregledao cjelokupnu projektnu dokumentaciju (nacrtni i tekstualni dio) čiji je ovaj troškovnik dio.
A19: Rb. | C19: Jed. mjera | D19: Količina | E19: Jed. cijena | F19: Ukupna cijena
A21: A | B21: DEMONTAŽNI RADOVI SPREMNIKA I INSTALACIJE LOŽ ULJA
A23: A.1 | B23: INSTALATERSKI RADOVI
A25: 1 | B25: Pražnjenje podzemnog čeličnog spremnika lož ulja zapremnine 40 m3 i cijevovoda od spremnika do plamenika kotlova, njihovo ispiranje i odvoz otpadnog materijala po ovlaštenoj pravnoj osobi za zbrinjavanje otpada, koja je dužna korisniku predati odgovarajuću dokumentaciju o ekološkom zbrinjavanju. Ovlaštena pravna osoba predmetne radove mora izvesti stručno i kvalitetno poštujući ne samo propise zaštite okoliša, nego i specifične protupožarne propise. | C25: kpl | D25: 1 | F25: =D25*E25 -> 0
A26: 2 | B26: Demontaža i odvoz opreme koja se trajno uklanja iz upotrebe i predaja vlasniku korisniku građevine (na prethodno dogovoreno otvoreno ili zatvoreno skladište) odnosno odvozi na lokaciju pravne osobe za metalni otpad ili deponiju građevinskog materijala. Stavka uključuju korištenje kamiona s dizalicom, za prijevoz i dizanje.
B27: podzemni čelični spremnik zapremnine 40 m3 kom 1
B28: metalnih poklopaca armirano betonski okana spremnika, kom 3
B29: odzračno dozračnog cjevovoda DN 50, l= 4 m
B30: cjevovoda lož ulja DN 20 i DN 25, cca 55 m, komplet s termičkom izolacijom mineralna vuna + obloga AL. lim.
C31: kpl | D31: 1 | F31: =D31*E31 -> 0
B32: Ukupno A.1 | F32: =SUM(F25:F31) -> 0
A34: A.2 | B34: POPRATNI GRAĐEVINSKI OBRTNIČKI RADOVI
A36: 1 | B36: Kombinirani (strojno/ručni) iskop zemlje III ktg, za otkopavanje podzemnog spremnika lož ulja, do vijčani spojeva pričvrščenja za armirano betonske stope, uključivo i zemlje iznad spojnog betonskog kanala kotlovnica/spremnik (smo na mjestima loma kanala radi mogućnosti izvlačenja prethodno ispražnjenih cjevovoda lož ulja). | C36: m3 | D36: 60 | F36: =D36*E36 -> 0
A37: 2 | B37: Razbijanje (pikamerom) triju armirano betonski okana spremnika (debljine stijenki 25cm) do min dubine 1 m odnosno do stijenki spremnika i poklopaca betonski kanala širine 50 cm, debljine stjenki (cca 15 cm) u dužini cca 3x3 m (volumen armirano betonski stijenki i poklopaca prije razbijanja cca 7 m3). | C37: kpl | D37: 1 | F37: =D37*E37 -> 0
A38: 3 | B38: Dobava i razastiranje pijeska | C38: m3 | D38: 12 | F38: =D38*E38 -> 0
A39: 4 | B39: Zatrpavanje rupe demontiranog spremnika goriva i betonskog kanal cjevovoda lož ulja, materijalom od razbijanja , iskopa i pjeskom, uz vlaženje i strojno nabijanje (žabicom), do dubine cca 70 cm od nivoa okolnog terena (na mjestu spremnika) i 15 cm od nivoa okolnog terena na mjestu betonski kanala. | C39: kpl | D39: 1 | F39: =D39*E39 -> 0
A40: 5 | B40: Zatrpavanje gornjeg dijela rupe demontiranog spremnika goriva zemljom od iskopa, uz vlaženje i strojno nabijanje (žabicom), do nivoa okolnog terena. | C40: m3 | D40: 18 | F40: =D40*E40 -> 0
A41: 6 | B41: Grabljanje zemlje iznad zatrpane rupe spremnika, sijanje i uvaljivanje sjemena trave. | C41: m2 | D41: 40 | F41: =D41*E41 -> 0
A42: 7 | B42: Podizanje i uklanjanje zaštitene ograde oko mjesta izvođenja radova, dužine cca 40 m. | C42: kpl | D42: 1 | F42: =D42*E42 -> 0
B43: Ukupno A.2 | F43: =SUM(F36:F42) -> 0
A45: B | B45: PRIKLJUČAK I KUĆNA INSTALACIJA PRIRODNOG PLINA
A46: B.1 | B46: INSTALATERSKI RADOVI
B48: PLINOVODNI PRIKLJUČAK ST (SREDNJETLAČNI)
A50: 1 | B50: Dobava i montaža cijevi žute boje iz polietilena visoke gustoće PE 100/SDR 11serije S5 za protočni fluid prirodni plin izrađenih u skladu s važećim normama i propisima u za srednjetlačne priključke prirodnog plina.
B51: d 63 x 8,2 mm (plinovodna cijev) | C51: m | D51: 50 | F51: =D51*E51 -> 0
B52: d 110x 14,6 mm (zaštitna cijev- ugraduje se na križanju s ostalim podzemnim instalacijama, na mjestima gdje nisu zadovoljene minimalne sigurnosne udaljenosti i ispod prometnica) | C52: m | D52: 10 | F52: =D52*E52 -> 0
...

Sheet Elektrotehnika
B1: INVESTITOR: OŠ Bratoljuba Klaića, BIZOVAC
B2: GRAĐEVINA: OŠ Bratoljuba Klaića, KOTLOVNICA
B3: MJESTO GRADNJE: 31212 Bizovac, dr. Franje Tuđmana 1
B4: Dokumentacija: GLAVNI ELEKTROTEHNIČKI PROJEKT
A6: rbr. | B6: Naziv stavke | C6: jedinice | D6: kol. | E6: kn/jed | F6: ukupno kn
B8: 1. DEMONTAŽA ELEKTRIČNE INSTALACIJE KOTLOVNICE
A10: 1. | B10: Demontaža kompletne postojeće električne instalacije u prostoriji postojeće kotlovnice osim razdjelnice kotlovnice, opće rasvjete i priključnica. Demontaža se sastoji od demontaže svih napojnih (energetskih, višežilnih) i signalnih vodova (pretežno na obujmicama, a dio u cijevi i dr.) presjeka 1,5 mm2, 2,5 mm2 i 4 mm2, za napajanje svih tehnoloških trošila u ukupnoj dužini do 40 m i do 100 kom (vodova/strujnih krugova) sa isključenjem u razdjelnici i kod trošila, uključujući i obujmice, cijevi i montažni pribor. | C10: kompl. | D10: 1 | F10: =E10*D10 -> 0
A12: 2. | B12: Nakon demontaže strojarske/tehnološke opreme demontirati i postojeću razdjelnicu kotlovnice koja se sastoji od isključenja napojnog voda u R5 i demontažom, demontaže električne instalacije rasvjete (rasvjetnih tijela u vodotijesnoj izvedbi ukupno do 10 kom) vodova 1,5 mm2 i utičnica (trofaznih i monofaznih) sa vodovima 2,5 mm2 na obujmicama u ukupnoj dužini do 20 m i do 15 kom (vodova/strujnih krugova) sa isključenjem u razdjelnici i kod trošila, uključujući i obujmice, cijevi i montažni pribor. | C12: kompl. | D12: 1 | F12: =E12*D12 -> 0
A14: 3. | B14: Demontaža postojećih dozemnih vodova sa tehnološke opreme, koja se sastoji od komada FE/ZN trake 20x3 mm ili fleksibilnih vodova sa otpajanjem na opremi i sabirnom zemljovodu na zidu kotlovnice ukupno do 35 kom dozemnih vodova. | C14: kompl. | D14: 1 | F14: =E14*D14 -> 0
A16: 4. | B16: Demontirane električne vodove, opremu, sortirati i odložiti na mjesto u dogovoru sa investitorom. | C16: kompl. | D16: 1 | F16: =E16*D16 -> 0
B17: UKUPNO DEMONTAŽA: | F17: =SUM(F10:F16) -> 0
B20: 2. ELEKTRIČNA INSTALACIJA KOTLOVNICE I PROSTORIJE DOMARA
A22: 1. | B22: Isporučiti, montirati i spojiti u postojeću razdjelnicu R5, slijedeću opremu (sa razmještanjem postojeće opreme za potrebe ugradnje nove opreme za novi napojni vod razdjelnice DRK).
B23: - automatski prekidači C40/3 | C23: kom | D23: 1 | F23: =E23*D23 -> 0
B24: - redne stezaljke 16 mm2 | C24: kom | D24: 3 | F24: =E24*D24 -> 0
B25: - ostali montažni materijal i pribor potreban za ožičenje, označavanje i zaštitu, uvodnice, nosači spojni vodiči, pribor za učvršćenje i montažu - vijci, kabelski završeci, izolacione ploče i pregrade i drugo). | C25: paušal | D25: 1 | F25: =E25*D25 -> 0
B26: Komplet dogradnja opreme u razdjelnici R5 sa svim potrebnim radom i materijalom, spojena, ispitana i puštena pod napon | C26: kom | D26: 1 | F26: =E26*D26 -> 0
A28: 2. | B28: Izraditi, isporučiti, montirati na zid (kod ulaza u kotlovnicu) i spojiti razdjelnicu DRK (distributivna razdjelnica kotlovnice). Razdjelnicu izvesti u limenom kućištu dimenzija 400x300x155 mm sa instalacijskim umetkom ili sličnom nivoa zaštite IP66. Razdjelnicu opremiti opremom:
B29: - tropolni isklopnik 63 A sa daljinskim isklopom | C29: kom | D29: 1 | F29: =E29*D29 -> 0
B30: - automatski prekidači
B31: - C 40/3 | C31: kom | D31: 2 | F31: =E31*D31 -> 0
B32: - B 10/1 | C32: kom | D32: 3 | F32: =E32*D32 -> 0
B33: - B 6/1 | C33: kom | D33: 4 | F33: =E33*D33 -> 0
B34: - ugradni relej-pomoćni sklopnik , 230 V, 16 A | C34: kom | D34: 4 | F34: =E34*D34 -> 0
B35: - ugradno jednopolno tipkalo | C35: kom | D35: 1 | F35: =E35*D35 -> 0
B36: - ugradno jednopolno tipkalo (reset) | C36: kom | D36: 1 | F36: =E36*D36 -> 0
B37: - odvodnik prenapona (varistor) SVM 280 sa podnožjem SVM | C37: kom | D37: 4 | F37: =E37*D37 -> 0
B38: - uvodnice prema potrebi | C38: kom | D38: 10 | F38: =E38*D38 -> 0
B39: - redne stezaljke 16 mm2 | C39: kom | D39: 6 | F39: =E39*D39 -> 0
B40: - redne stezaljke 6 mm2 | C40: kom | D40: 9 | F40: =E40*D40 -> 0
B41: - ostali montažni materijal i pribor potreban za ožičenje, označavanje i zaštitu L1,L2,L3,N i Pe sabirnice i nosači spojni vodiči, pribor za učvršćenje i montažu - vijci, pribor za označavanje, kanalne kutije, kabelski završeci, izolacione ploče i pregrade i drugo). | C41: paušal | D41: 1 | F41: =E41*D41 -> 0
B42: Komplet razdjelnica DRK sa svim potrebnim radom i materijalom, spojena, ispitana i puštena pod napon | C42: kom | D42: 1 | F42: =E42*D42 -> 0
A45: 3. | B45: Izraditi, isporučiti, montirati na zid (kod ulaza u kotlovnicu) i spojiti razdjelnicu RK (distributivna razdjelnica kotlovnice). Razdjelnicu izvesti u limenom kućištu dimenzija 800x600x260 mm nivoa zaštite IP66. Razdjelnicu opremiti opremom :
B46: - grebenaste sklopke
B47: - 4G40-10 U | C47: kom | D47: 2 | F47: =E47*D47 -> 0
B48: - 4G16-10 U | C48: kom | D48: 1 | F48: =E48*D48 -> 0
B49: - 4G16-90 U | C49: kom | D49: 10 | F49: =E49*D49 -> 0
B50: - automatski prekidači
B51: - C 32/3 | C51: kom | D51: 3 | F51: =E51*D51 -> 0
B52: - C 16/3 | C52: kom | D52: 1 | F52: =E52*D52 -> 0
...

Sheet REKAPITULACIJA
B2: NAPOMENA: GRUPU STAVKI U STROJARSKIM RADOVIMA POD ''E - INSTALACIJA TERMOVENTILACIJE KUHINJE'' I GRUPU STAVKI POD ''3. ELEKTRIČNA INSTALACIJA TERMOVENTILACIJE KUHINJE'' NE NUDITI JER SE KAO OPREMA KUHINJE NABAVLJA OD STRANE INVESTITORA
B5: REKAPITULACIJA
A7: 1. | B7: GRAĐEVINSKI I OBRTNIČKI RADOVI | C7: ='Rekapitulacija arhitektura'!G18 -> 0
A8: 2. | B8: STROJARSKI RADOVI | C8: =Strojarstvo!F618 -> 0
A9: 3. | B9: ELEKTROTEHNIČKI RADOVI | C9: =Elektrotehnika!F263 -> 0
B11: UKUPNO | C11: =C7+C8+C9 -> 0
B12: PDV 25% | C12: =C11*0.25 -> 0
B13: SVEUKUPNO SA PDV-om | C13: =C11+C12 -> 0
