Workbook
Name AA: #REF!
Name AA: #REF!
Name AA: #REF!
Name AA: #REF!
Name AA: #REF!
Name AA: #REF!
Name AA: #REF!
Name adsdasdads: #REF!
Name adsdasdads: #REF!
Name adsdasdads: #REF!
Name adsdasdads: #REF!
Name adsdasdads: #REF!
Name adsdasdads: #REF!
Name adsdasdads: #REF!
Name aluminijska: #REF!
Name aluminijska: #REF!
Name aluminijska: #REF!
Name aluminijska: #REF!
Name aluminijska: #REF!
Name aluminijska: #REF!
Name aluminijska: #REF!
Name asadasdsd: #REF!
Name asadasdsd: #REF!
Name asadasdsd: #REF!
Name asadasdsd: #REF!
Name asadasdsd: #REF!
Name asadasdsd: #REF!
Name asadasdsd: #REF!
Name betonska: #REF!
Name betonska: #REF!
Name betonska: #REF!
Name betonska: #REF!
Name betonska: #REF!
Name betonska: #REF!
Name dadsasa: #REF!
Name dadsasa: #REF!
Name dadsasa: #REF!
Name dadsasa: #REF!
Name dadsasa: #REF!
Name dadsasa: #REF!
Name dadsasa: #REF!
Name DAS: #REF!
Name DAS: #REF!
Name DAS: #REF!
Name DAS: #REF!
Name DAS: #REF!
Name DAS: #REF!
Name DAS: #REF!
Name DFS: #REF!
Name DFS: #REF!
Name DFS: #REF!
Name DFS: #REF!
Name DFS: #REF!
Name DFS: #REF!
Name DFS: #REF!
Name DGF: #REF!
Name DGF: #REF!
Name DGF: #REF!
Name DGF: #REF!
Name DGF: #REF!

Sheet Naslov arhitektura
A3: JEDNOSTAVNA ZGRADA
A6: TROŠKOVNIK
A7: A. GRAĐEVINSKO - OBRTNIČKI RADOVI
B12: GRAĐEVINA: | C12: OBNOVA TOPLOVODNE KOTLOVNICE
C13: I RAZVODA TOPLE VODE
B15: LOKACIJA: | C15: OSNOVNA ŠKOLA BRATOLJUBA KLAIĆA
C16: BIZOVAC, Dr.Franje Tuđmana 1
B18: INVESTITOR: | C18: OSNOVNA ŠKOLA BRATOLJUBA KLAIĆA
C19: BIZOVAC, Dr.Franje Tuđmana 1
B23: PROJEKTANT: | C23: Respect-ing d.o.o.
C24: Ilirska 27, 31000 Osijek
C25: OIB: 72061576990
A32: U Osijeku, lipanj 2018.
E33: Projektant:
E34: Goran Čičić, dipl.ing.arh.

Sheet Arhitektura opći uvjeti
B2: OPĆI I POSEBNI UVJETI GRAĐENJA
B4: IZVODITELJ JE DUŽAN IZAĆI NA TEREN PRIJE DAVANJA PONUDE
A7: 1. | B7: Izvoditelj je obvezan sve radove po ovom Troškovniku i ugovornoj dokumentaciji izvesti stručno i kvalitetno, pridržavajući se svih dužnosti i obveza iz Zakona o gradnji, Zakona o prostornom uređenju, važećih norma, pravilnika i propisa, pravila zanata, posebnih uzanca o građenju, tehničkoj dokumentaciji, uputa projektanta i konstruktera, te uvjeta Ugovora.
A9: 2. | B9: Svi radovi izvode se s posebnom pažnjom uz prethodnu konzultaciju s nadzorom.
A11: 3. | B11: Radove na rušenjima Izvoditelj treba izvoditi krajnje oprezno uz sva potrebna prethodna osiguranja kao ne bi oštetio vitalne konstrukcijske elemante.
A13: 4. | B13: Za sve vrijeme izvođenja radova glavni Izvoditelj radova mora koordinirati izvedbu svih izvođača radova.
A15: 5. | B15: Nadzorna služba u suglasnosti s Investitorom ovlašteni su izvršiti promjenu oblika i kvalitete izvedbe pojedinih stavaka u skladu s ciljevima projekta ako se to ukaže potrebnim tokom izvođenja radova.
A17: 6. | B17: Prije početka svake nove etape rada vrši se detaljan pregled i usuglašava način izvođenja s nadzorom - projektantom.
A19: 7. | B19: Izvoditelj je dužan dnevno sakupljati otpad na gradilištu i dnevno čistiti sve prometne površine, a nakon završetka svake faze rada dužan je izvršiti detaljno čišćenje kao pripremu za slijedeći rad, što je sve sadržano u jediničnim cijenama pojedinih radova.
A21: 8. | B21: U ovom ponudbenom troškovniku izvoditelj je dužan ponuditi jedinične cijene u koje je uračunao sve troškove za nabavu i dopremu materijala na gradilište, unutarnji transport, prilagodbi radnom vremenu, korisnika sve potrebno za izvedbu određenoga rada, čišćenje nakon svake dovršene faze rada, kao i detaljno završno čišćenje, odvoz otpada, te pripremu i raspremu gradilišta.
A23: 9. | B23: U troškovniku će biti naznačeno za koje stavke izvođač radova ne vrši dobavu materijala nego to vrši investitor. U tom slučaju izvođač je u obvezi preuzeti materijal, izvršiti lokalnu – gradilišnu dostavu do pozicije ugradnje i ugraditi ga sukladno pravilima struke. Viškove materijala predati Investitoru po završetku radova.
A25: 10. | B25: U jediničnu cijenu svakog ponuđenoga rada uključene su i sve zaštite u smislu zaštite na radu i zaštite samih radova, kao npr. potpore, radne skele, rad na visini iznad 3,5 m, privremene ograde, pristupi, korištenje autodizalice i dr., ukoliko u pojedinoj stavci nisu posebno spomenute. U jediničnoj cijeni je i mobiliziranje gradilišta u smislu osiguranja dovoljnog broja kemijskih wc-a, kontejnera za radnike, upravu gradilišta i stručni nadzor.
A27: 11. | B27: U jediničnu cijenu svakog ponuđenoga rada uključena su sva potrebna blindiranja instalacija vodovoda, kanalizacije, grijanja, ventilacije i sl.
A29: 12. | B29: Svi radovi moraju se izvoditi s kvalificiranim radnicima i po pravilima struke.
... A55: 25. | B55: Izvoditelj je dužan izvesti sve potrebne privremene priključke instalacija za potrebe gradilište, el. energiju, vodovod , kanalizaiju te ih uredno održavati i plaćati utrošeno.

Sheet Rekapitulacija arhitektura
B3: REKAPITULACIJA GRAĐEVINSKI I OBRTNIČKI RADOVI
B5: GRAĐEVINSKI I OBRTNIČKI RADOVI
A8: 1. | B8: RUŠENJA I UKLANJANJA | G8: ='Arhitektura 1.Rušenja'!F24 -> 0
A10: 2. | B10: BETONSKI I ZIDARSKI RADOVI | G10: ='Arhitektura 2.Betonski'!F43 -> 0
A12: 3. | B12: STOLARIJA | G12: ='Arhitektura 3.Stolarija'!F48 -> 0
A14: 4. | B14: ZAVRŠNI I OSTALI RADOVI | G14: ='Arhitektura 4.Završni'!F51 -> 0
B18: UKUPNO | G18: =SUM(G7:G15) -> 0
B20: PDV 25% | G20: =G18*0.25 -> 0
B22: SVEUKUPNO | G22: =G18+G20 -> 0

Sheet Arhitektura 1.Rušenja
A2: 1. | B2: RUŠENJA I UKLANJANJA
A3: R.br. | B3: Opis stavke | C3: J.m. | D3: Kol. | E3: Jed.cijena | F3: Uk.cijena
B7: OPĆI UVJETI I NAPOMENE
A9: Ukoliko u stavci nije drugačije navedeno, sve stavke uključuju: ­ sav potreban rad i pribor za demontažu ­ sav potreban rad i pribor za rušenja, štemanja i sl. ­ utovar i odvoz demontiranog materijala na gradski deponij uz plačanje takse deponiranja ­ utovar i odvoz skinutog i uklonjenog materijala ili šute na gradski deponij uz plačanje takse deponiranja ­ potrebna osiguranja prilikom izvođenja radova sukladno zakonu o zaštiti na radu ­ radna skela
A12: 1.1. | B12: Demontaža stolarije
B13: Demontaža postojeće stolarije. Prilikom demontaže obratiti pozornost na što manja oštećenja graničnih zidova, stropa i poda. Stavka obuhvaća sve potrebne radnje i transporte za uklanjanje , utovar i odvoz na deponij . Stolarija veličine 160/200+75.
B14: ­ obračun po kom stolarije | C14: kom | D14: 1 | F14: =D14*E14 -> 0
A16: 1.2. | B16: Uklanjanje parapetnog zida
B17: Strojno i ručno uklanjanje - štemanje dijela parapetnog zida. Zid se sastoji iz zidane blok opeke , tervol 5 cm i ožbukani zid od pune opeke 12 cm. Obratiti pozornost na što manja oštećenja graničnih zidova. Stavka obuhvaća sve potrebne radnje i transporte za uklanjanje žbuke , utovar i odvoz na deponij . Obračun po m2 površine koja se uklanja.
B18: ­ m2 parapeta | C18: m2 | D18: 1.3 | F18: =D18*E18 -> 0
A24: 1. | B24: RUŠENJA I UKLANJANJA | F24: =SUM(F9:F23) -> 0

Sheet Arhitektura 2.Betonski
A2: 2. | B2: BETONSKI I ZIDARSKI RADOVI
A3: R.br. | B3: Opis stavke | C3: J.m. | D3: Kol. | E3: Jed.cijena | F3: Uk.cijena
A5: 2.1. | B5: Izvedba temelja-postamenta u kotlovnici Dobava, spravljanje i ugradnja betona C 25/30, XC2 za temelje-postamente uređaja u kotlovnici visine 10 cm. Beton armirati sa arm.mrežom Q 335, te ga zagladiti ručno za postavu keramičkih pločica. Radove izvesti precizno i bez oštećenja okolnih podnih pločica - te u tu svrhu uz rub postamenta prehodno zarezati pločice da bi se spriječilo naknadno pucanje postojećih pločica. Spravljanje i ugradnja betona je ručna.
B6: Obračun po m2 izvedenog postamenta | C6: m2 | D6: 8.19 | F6: =D6*E6 -> 0
A8: 2.2. | B8: Izvedba ab stepenica sa dijelom terase Dobava, spravljanje i ugradnja betona C 30/37, XC2 za vanjske stepenice i nastavak terase. Debljina ab ploče 14 cm . Beton armirati sa arm.mrežom 2 x Q 335, te ga zagladiti ručno za postavu keramičkih pločica. Radove izvesti precizno i bez oštećenja okolnih podnih pločica . Ispod nastupne stepenice betonirati temelj presjeka 30 x 60 cm u širini stepenišnog kraka i jednog bočnog ruba terase . Na spoju betona sa postojećom terasom i zidom ubušiti ankere fi 12 mm , dužine 10+10 cm, na svakih 10 cm u gornjuj idonjoj zoni armiranja. Spravljanje i ugradnja betona je ručna. Komplet beton + oplata+ armatura+ iskop za temelj.
B9: Obračun po m3 betona | C9: m3 | D9: 2.45 | F9: =D9*E9 -> 0
A11: 2.3. | B11: Izvedba betonskog rubnika-staze Dobava, spravljanje i ugradnja betona C 25/30, XC2 za vanjski rubnik. Debljina ploče 10 cm , širina 60 cm . Beton armirati sa arm.mrežom Q 131, te ga zagladiti ručno uz izradu dilatacijskih spojnica. Spravljanje i ugradnja betona je ručna. Komplet beton + oplata+ armatura+ iskop sa odvozom zemlje i nasip tampona debljine 15 cm.
B12: Obračun po m2 staze | C12: m2 | D12: 4.4 | F12: =D12*E12 -> 0
A14: 2.4. | B14: Uziđivanje fasadnog zida Dobava materijala te uziđivanje fasadnog zida na južnom pročelju, na dijelu prepravljene stolarije . Zid se sastoji iz : unutarnja produžno cementna žbuka+zidani zid blok opekom u pcm 19 cm+ tervol 5 cm+zidani zid 12 cm punom opekom+ vanjska produžno cementna žbuka. Obračunati sve radove potrebne za kompletno uziđivanje i uklapanje sa postojećom fasadom ( uključujući i vanjsko krečenje uzidanog dijela ) .
B15: Obračun po m2 fasade | C15: m2 | D15: 7.86 | F15: =D15*E15 -> 0
A17: 2.5. | B17: Probijanje otvora sa obradom Probijanje otvora u vanjskom zidu za ventilacijske otvore dim 58,5x30 cm sa zidarskom obradom rubova u pcm. te otvora u ab stropu fi 35/45 cm za ventilacijske cijevi i otvori do fi10 cm u zidu 25-40 cm - sve sa obradom istih u pcm. Obračunati sve potrebne radove do krečenja.
B18: otvor 58,5x30 cm | C18: kom | D18: 2 | F18: =D18*E18 -> 0
B19: otvor fi 35/40 cm | C19: kom | D19: 2 | F19: =D19*E19 -> 0
B20: otvor fi do 10 cm | C20: kom | D20: 50 | F20: =D20*E20 -> 0
A22: 2.6. | B22: Obrada uložina i šliceva Obrada uložina prozora na dijelu rušenja parapeta, te raznih šliceva kod polaganja instalacija u produžno cementnom mortu. Komplet do faze gletovanja i krečenja
B23: obračun po m1 obrade | C23: m1 | D23: 35 | F23: =D23*E23 -> 0
A43: 2. | B43: =B2 -> BETONSKI I ZIDARSKI RADOVI | F43: =SUM(F5:F42) -> 0

Sheet Arhitektura 3.Stolarija
A2: 3. | B2: STOLARIJA
A3: R.br. | B3: Opis stavke | C3: J.m. | D3: Kol. | E3: Jed.cijena | F3: Uk.cijena
B5: Napomena: Sve mjere potrebno je provjeriti u naravi! Radioničke nacrte prije izvedbe treba pregledati i ovjeriti projektant!
B7: Vanjski otvori na prostorijama zatvaraju se PVC stolarijom u boji po izboru projektanta.Svi profili moraju biti 5-komorni dizajn i dubina konstrukcije od minimalno 74 mm, termoizolacioni te sa adekvatnim profiliranim brtvama i Al kontinuiranim ojačanjem, ustakljeni IZO staklom 6+12+4.Vanjsko staklo lamistal blago reflektirajuće (metalizirano "Stop Sol " 10% ), unutarnje staklo Low -E, međuprostor punjen argonom.. Stolarija s koeficjentom prolaza topline k=1,1W/m2K.
A10: 3.1. | B10: Unutarnja puna vrata
B11: Izrada, dobava i ugradnja unutarnjih punih jednokrilnih vrata - prostorija domara, bijelo
B12: dim. 70/200 cm | C12: kom | D12: 1 | F12: =D12*E12 -> 0
A14: 3.2. | B14: Vanjska puna vrata
B15: Izrada, dobava i ugradnja vanjskih punih dvokrilnih vrata sa nadsvjetlom - prostorija kotlovnice, bijelo
B16: dim. 50+80//239+65 cm | C16: kom | D16: 1 | F16: =D16*E16 -> 0
A18: 3.3. | B18: Prerada vanjske stolarije
B19: Prerada vanjske PVC stolarije skraćivanjem postojeće na dijelu kotlovnice i ubacivanjem panela na dijelu nadsvjetla ( sa demontažum stakla ). Radove izvesti bez oštećenja dijela stolarije koji se zadržava. Sve prema projektu i odobrenjem nadzornog inžinjera.
B20: ubacivanje nadsvjetla dim. cca 60/100 cm | C20: kom | D20: 6 | F20: =D20*E20 -> 0
B21: skraćivanje fasadne stijene po projektu | C21: kom | D21: 2 | F21: =D21*E21 -> 0
A25: 3.4. | B25: Vatrootporna vrata kotlovnice
B26: Izrada, dobava i ugradnja vatrootpornih, čeličnih, zaokretnih, jednokrilnih, PUNIH vrata, vatrootpornosti T90, tip VZV 1/60 + VST, izrađenih od čeličnog, pocinčanog lima, završno plastificiranih po krilu i dovratniku u boji po RAL-u po izboru. Vrata se isporučuju sa kompletnim tipskim okovom (hidraulički zatvarač na prolaznom krilu, 2 panta, cilindar sa 3 ključa, vatrootporna brava, par inox kvaka) i atestnom dokumentacijom izdanom od strane ovlaštene Institucije u RH. U cijenu su uključena sva vezna sredstva za montažu vrata, opšavi oko vrata, protupožarne gume, pričvrsni elementi, pp brtvljenje. Suha ugradnja.
B27: dim. 70/200 cm | C27: kom | D27: 1 | F27: =D27*E27 -> 0
A48: 3. | B48: =B2 -> STOLARIJA | F48: =SUM(F12:F47) -> 0

Sheet Arhitektura 4.Završni
A2: 4. | B2: ZAVRŠNI I OSTALI RADOVI
A3: R.br. | B3: Opis stavke | C3: J.m. | D3: Kol. | E3: Jed.cijena | F3: Uk.cijena
A5: 4.1. | B5: Pregradni vatrootporni zid EI-90, d=15 cm, (nadvoj)
B6: Dobava materijala i izrada pregradnog gipskartonskog zida, iznad protupožarnih vrata, debljine 150 mm. Zid se sastoji od: ■ 2 x 12.5 mm protupožarna ploča ■ podkonstrukcija/mineralna vuna d=100 mm ■ 2 x 12.5 mm protupožarna ploča Ploče postaviti na tipsku pocinčanu metalnu podkonstrukciju, podgled zatvoriti dvostrukom gipskartonskom protupožarnom pločom. U cijeni radna skela (do 450 cm), sav potreban rad, oblaganje instalacijskih kanala i brtvljenje oko otvora instalacija koje prolaze kroz zid i materijal do potpune gotovosti.
B7: ­ obračun po m2 površine zida | C7: m2 | D7: 1.5 | F7: =D7*E7 -> 0
A9: 4.2. | B9: Pregradni vatrootporni zid EI-90, d=15 cm
B10: Dobava materijala i izrada pregradnog gipskartonskog zida koji se ugrađuje kao pregrada između kotlovnise i domara, debljine 150 mm. Zid se sastoji od: ■ 2 x 12.5 mm protupožarna ploča ■ podkonstrukcija/mineralna vuna d=100 mm ■ 2 x 12.5 mm protupožarna ploča Ploče postaviti na tipsku pocinčanu metalnu podkonstrukciju, podgled zatvoriti dvostrukom gipskartonskom protupožarnom pločom. U cijeni radna skela (do 450 cm), oblaganje instalacijskih kanala, i brtvljenje otvora oko instalacija koje prolaze kroz zid, sav potreban rad i materijal do potpune gotovosti.
B11: ­ obračun po m2 površine zida | C11: m2 | D11: 18.03 | F11: =D11*E11 -> 0
A13: 4.3. | B13: Podne pločice podesta kotlovnice
B14: Dobava materijala i polaganje podnih keramičkih pločica u unutarnje prostorije na podestima-temeljima u kotlovnici. Pločice se polažu ljepljenjem cementnim ljepilom na prethodno betoniranu površinu. Način polaganja i vrsta pločica ista ili slična postojećim.
B15: ­ podne pločice | C15: m2 | D15: 8.19 | F15: =D15*E15 -> 0
B16: ­ sokl h=10cm | C16: m1 | D16: 19.6 | F16: =D16*E16 -> 0
A18: 4.4. | B18: Podne pločice stepenica i terase
B19: Dobava materijala i polaganje protukliznih podnih keramičkih pločica na vanjske stepenice i terasu. Pločice gazišta stepenica sadrže obaveznu protukliznu profilaciju po nastupnom rubu gazišta. Pločice se polažu ljepljenjem cementnim ljepilom na prethodno betoniranu površinu. Nastupni rub pločica gazišta obavezno dodatno protuklizno profiliran.
B20: ­ podne pločice | C20: m2 | D20: 6.25 | F20: =D20*E20 -> 0
B21: ­ sokl h = 10 cm | C21: m1 | D21: 4.3 | F21: =D21*E21 -> 0
B22: ­ čela stepenica h= 16 cm | C22: m1 | D22: 6.5 | F22: =D22*E22 -> 0
A25: 4.5. | B25: Radovi na adaptaciji dimnjaka
B26: Izrezivanje površine dimnjaka iznad krova dimenzija cca 25 x 120 cm okomito na 40 cm od betonske kape. Izrezuje se betonski plašt dimnjaka i keramička cijev. Po montaži novih dimovodnih cijevi otvori se zatvaraju ugradnjom lima oko keramičke cijevi , te betoniranjem betonskog plašta i ličenjem u boji postojećeg dimnjaka. Sve komplet po projektu i odobrenju nadzornog inžinjera.
B27: po komadu otvora | C27: kom | D27: 2 | F27: =D27*E27 -> 0
A29: 4.6. | B29: Zatvaranje postojećih dimovodnih otvora
B30: Zatvaranje dimovodnih otvora u kotlovnici dimenzija cca fi 30 cm . Izrezuje se betonski plašt dimnjaka i keramička cijev. Po montaži novih dimovodnih cijevi otvori se zatvaraju ugradnjom lima oko keramičke cijevi , te betoniranjem betonskog plašta i ličenjem u boji postojećeg dimnjaka. Sve komplet po projektu i odobrenju nadzornog inžinjera.
B31: po komadu otvora | C31: kom | D31: 2 | F31: =D31*E31 -> 0
A33: 4.7. | B33: Prerada oborinske vertikale
B34: Prerada oborinske vertikale zbog izrade terase ubacivanjem LŽ revizije , lŽ T-komada, LŽ cijevi i LŽ luka sve fi 125 mm u ab ploči terase. Sve prema projektu .
B35: po kompletu | C35: kpl | D35: 1 | F35: =D35*E35 -> 0
A37: 4.8. | B37: Krečenje zidova i stropova
B38: Krečenje parapeta, zidova i stropova disperzivnom bijelom bojom u dvije ruke komplet sa svim predradnjama.
B39: ­ zidovi | C39: m2 | D39: 78 | F39: =D39*E39 -> 0
B40: ­ stropovi | C40: m2 | D40: 52 | F40: =D40*E40 -> 0
A42: 4.9. | B42: Brtvljenje cijevi instalacija
B43: Brvljenje smolom za brtvljenje flex200 mjesta prodora cijevi instalacija kroz zid, i u vodomjernom oknu .
B44: po kom zabrtvljenog otvora | C44: kom | D44: 2 | F44: =D44*E44 -> 0
A46: 4.10. | B46: Završno čišćenje
B47: Završno fino čišćenje objekta nakon dovršetka svih građevinsko-obrtničkih radova. Prilikom čišćenja paziti da se završna obrada ne ošteti.
B48: Napomena: višekratna čišćenja u tijeku gradnje ulaze u jedinične cijene svih sudionika na gradnji, ne ulaze u ovu stavku i ne obračunavaju se posebno.
B49: ­ obračun po m2 tlorisne površine | C49: m2 | D49: 52 | F49: =D49*E49 -> 0
A51: 4. | B51: =B2 -> ZAVRŠNI I OSTALI RADOVI | F51: =SUM(F8:F50) -> 0

Sheet Strojarstvo
A1: Investitor: Osnovna škola Bratoljuba Klaića, Bizovac
A2: Građevina: Osnovna škola Bratoljuba Klaića, Bizovac
A3: Lokacija: 31212 Bizovac, Ulica Dr. Franje Tuđmana 1
A4: Glavni projekt - Strojarski projekt obnove toplovodne kotlovnice i glavnog razvoda tople vode
A5: Broj projekta: LT 03 -18
A6: Izradio: Lekoterm d.o.o. Osijek
A7: Projektant: mr.sc. Petar Leko dipl.ing.stroj.
B11: Cijena za svaku točku ovog troškovnika podrazumijeva dobavu, montažu, spajanje, te dovođenje u stanje potpune funkcionalnosti, ukoliko nije predviđeno posebnom stavkom.
B12: Podrazumjeva se da je u cijeni ukalkuliran sav potreban spojni, montažni, ovjesni i ostali materijal potreban za potpuno funkcioniranje, ukoliko nije predviđeno posebnom stavkom.
B13: Podrazumjeva se da je u cijeni ukalkuliran trošak skela, za montažu na visini i viljuškara ili dizalica za istovar i postavljanje teške opreme na mjesto montaže, ukoliko nije predviđeno zasebnim stavkama.
B14: Prije narudžbe količina materijala čija se karakteristična veličina izražava u m, m2, m3 ili kg, izvođač je dužan provjeriti narudžbene količine na osnovu stvarnih izmjera i ili nacrtni dijelova projekta. Za eventualne manjkove ili viškove projektant ne snosi odgovornost.
B15: S izvođačima radova definiranim drugim projektima, izvođač radova po ovom projektu, mora uskladiti redoslijed izvođenja radova, kako ne bi došlo do preklapanja s trasama drugih instalacija i položajima opreme. Sva eventualna neusklađena izvođač je dužan o svom trošku otkloniti.
B16: Ukoliko je za izvođenje pojedinih radova potrebna izrada radionička nacrta, podrazunjeva se da su troškovi njene izrade ukalkulirani stavkama troškovnika za te radove.
B17: Davanjem ponude smatra se da je ponuđač, na što ima pravo, pregledao cjelokupnu projektnu dokumentaciju (nacrtni i tekstualni dio) čiji je ovaj troškovnik dio.
A19: Rb. | C19: Jed. mjera | D19: Količina | E19: Jed. cijena | F19: Ukupna cijena
A21: A | B21: DEMONTAŽNI RADOVI SPREMNIKA I INSTALACIJE LOŽ ULJA
A23: A.1 | B23: INSTALATERSKI RADOVI
A25: 1 | B25: Pražnjenje podzemnog čeličnog spremnika lož ulja zapremnine 40 m3 i cijevovoda od spremnika do plamenika kotlova, njihovo ispiranje i odvoz otpadnog materijala po ovlaštenoj pravnoj osobi za zbrinjavanje otpada, koja je dužna korisniku predati odgovarajuću dokumentaciju o ekološkom zbrinjavanju. Ovlaštena pravna osoba predmetne radove mora izvesti stručno i kvalitetno poštujući ne samo propise zaštite okoliša, nego i specifične protupožarne propise. | C25: kpl | D25: 1 | F25: =D25*E25 -> 0
A26: 2 | B26: Demontaža i odvoz opreme koja se trajno uklanja iz upotrebe i predaja vlasniku korisniku građevine (na prethodno dogovoreno otvoreno ili zatvoreno skladište) odnosno odvozi na lokaciju pravne osobe za metalni otpad ili deponiju građevinskog materijala. Stavka uključuju korištenje kamiona s dizalicom, za prijevoz i dizanje.
B27: podzemni čelični spremnik zapremnine 40 m3 kom 1
B28: metalnih poklopaca armirano betonski okana spremnika, kom 3
B29: odzračno dozračnog cjevovoda DN 50, l= 4 m
B30: cjevovoda lož ulja DN 20 i DN 25, cca 55 m, komplet s termičkom izolacijom mineralna vuna + obloga AL. lim.
C31: kpl | D31: 1 | F31: =D31*E31 -> 0
B32: Ukupno A.1 | F32: =SUM(F25:F31) -> 0
A34: A.2 | B34: POPRATNI GRAĐEVINSKI OBRTNIČKI RADOVI
A36: 1 | B36: Kombinirani (strojno/ručni) iskop zemlje III ktg, za otkopavanje podzemnog spremnika lož ulja, do vijčani spojeva pričvrščenja za armirano betonske stope, uključivo i zemlje iznad spojnog betonskog kanala kotlovnica/spremnik (smo na mjestima loma kanala radi mogućnosti izvlačenja prethodno ispražnjenih cjevovoda lož ulja). | C36: m3 | D36: 60 | F36: =D36*E36 -> 0
A37: 2 | B37: Razbijanje (pikamerom) triju armirano betonski okana spremnika (debljine stijenki 25cm) do min dubine 1 m odnosno do stijenki spremnika i poklopaca betonski kanala širine 50 cm, debljine stjenki (cca 15 cm) u dužini cca 3x3 m (volumen armirano betonski stijenki i poklopaca prije razbijanja cca 7 m3). | C37: kpl | D37: 1 | F37: =D37*E37 -> 0
A38: 3 | B38: Dobava i razastiranje pijeska | C38: m3 | D38: 12 | F38: =D38*E38 -> 0
A39: 4 | B39: Zatrpavanje rupe demontiranog spremnika goriva i betonskog kanal cjevovoda lož ulja, materijalom od razbijanja , iskopa i pjeskom, uz vlaženje i strojno nabijanje (žabicom), do dubine cca 70 cm od nivoa okolnog terena (na mjestu spremnika) i 15 cm od nivoa okolnog terena na mjestu betonski kanala. | C39: kpl | D39: 1 | F39: =D39*E39 -> 0
A40: 5 | B40: Zatrpavanje gornjeg dijela rupe demontiranog spremnika goriva zemljom od iskopa, uz vlaženje i strojno nabijanje (žabicom), do nivoa okolnog terena. | C40: m3 | D40: 18 | F40: =D40*E40 -> 0
A41: 6 | B41: Grabljanje zemlje iznad zatrpane rupe spremnika, sijanje i uvaljivanje sjemena trave. | C41: m2 | D41: 40 | F41: =D41*E41 -> 0
A42: 7 | B42: Podizanje i uklanjanje zaštitene ograde oko mjesta izvođenja radova, dužine cca 40 m. | C42: kpl | D42: 1 | F42: =D42*E42 -> 0
B43: Ukupno A.2 | F43: =SUM(F36:F42) -> 0
A45: B | B45: PRIKLJUČAK I KUĆNA INSTALACIJA PRIRODNOG PLINA
A46: B.1 | B46: INSTALATERSKI RADOVI
B48: PLINOVODNI PRIKLJUČAK ST (SREDNJETLAČNI)
A50: 1 | B50: Dobava i montaža cijevi žute boje iz polietilena visoke gustoće PE 100/SDR 11serije S5 za protočni fluid prirodni plin izrađenih u skladu s važećim normama i propisima u za srednjetlačne priključke prirodnog plina.
B51: d 63 x 8,2 mm (plinovodna cijev) | C51: m | D51: 50 | F51: =D51*E51 -> 0
B52: d 110x 14,6 mm (zaštitna cijev- ugraduje se na križanju s ostalim podzemnim instalacijama, na mjestima gdje nisu zadovoljene minimalne sigurnosne udaljenosti i ispod prometnica) | C52: m | D52: 10 | F52: =D52*E52 -> 0
A53: 2 | B53: Dobava i montaža zapornih cijevni armatura, fazonskih komada, spojnica iz polietilena visoke gustoće za elektrofuziono zavarivanje iz materijala kompaktibilnog cijevima (PE 100 SDR 15 /ISO S5) namjenjenih za srednjetlačne priključke prirodnog plina. | F53: =D53*E53 -> 0
A54: 2.1 | B54: Sedlo s nožem, s okretnim nastavkom d-d1 = 63-63 | C54: kom | D54: 1 | F54: =D54*E54 -> 0
A55: 2.3 | B55: Prijelazni komad PE-HD/ČELIK d 63/DN 50 | C55: kom | D55: 1 | F55: =D55*E55 -> 0
A56: 2.4 | B56: Završna kapa s integriranom stegom d 63 . Kapa se demontira po izvršenoj kontroli čvrstoće plinskog priključka, odnosno neposredno prije prikljucenja na ulicni plinovod. | C56: kom | D56: 1 | F56: =D56*E56 -> 0
A57: 2.5 | B57: Spojnica za elektrofuziono spajanje d 63 | C57: kom | D57: 4 | F57: =D57*E57 -> 0
A58: 2,6 | B58: Spojnica za elektrofuziono spajanje d 110 | C58: kom | D58: 2 | F58: =D58*E58 -> 0
A59: 2.7 | B59: Poluetilenska uvarna plinska kuglasta slavina, za podzemnu ugradnju, komplet s teleskopskom garniturom (vreteno 0,8 m) i škrinjicom (ljevano željeznom kapom) DN 50(d= 63)/NP 10 | C59: kpl | D59: 1 | F59: =D59*E59 -> 0
A60: 3 | B60: Dobava i ugradnja zaštitnih čeličnih cijevi, odgovarajuče debljine i kvalitete prema važečim normama i propisima za ovu namjenu (St. 37.0). Zaštitna cijev (z.c) ugraduje se na izlasku plinovodnog cjevovoda iz zemlje.
B61: 60,3 x 2,9 mm (DN 50) - plinovodna cijev | C61: m | D61: 4 | F61: =D61*E61 -> 0
B62: 88,9 x 3,2 mm (DN 80) - zaštitna cijev | C62: m | D62: 1.5 | F62: =D62*E62 -> 0
A63: 4 | B63: Dobava i montaža toploskupljajuće cijevi Ø 120/40 mm | C63: kom | D63: 2 | F63: =D63*E63 -> 0
A64: 5 | B64: Dobava i montaža jednoslojne PVC drenažne cijevi Ø 125 | C64: m | D64: 1 | F64: =D64*E64 -> 0
A65: 6 | B65: Dobava i ugradnja uvarnih čeličnih lukova 90° dimenzija važečim normama i propisima za ovu namjenu. Ø 60,3 x 3,65 mm (DN 50), kom 1 Ø 88,9 x 3,2 mm (DN 80), kom 3 | C65: kpl | D65: 1 | F65: =D65*E65 -> 0
A66: 7 | B66: Dobava i ugradnja prirubnice s grlom dimenzija i kvalitete prema važečim normama i propisima za ovu namjenu, materijal W.Nr:1.0038 (RSt37-2). Stavka obuhvaća potrebne vijke, matice, nazubljene podložne plocice, brtve i plinarska mast za brtvljenje.
B67: DN 50, PN 16 | C67: kom | D67: 1 | F67: =D67*E67 -> 0
B68: DN 50, PN 16 – slijepa prirubnica | C68: kom | D68: 1 | F68: =D68*E68 -> 0
A69: 8 | B69: Dobava i ugradnja kuglaste slavine za plin, s prirubnim priključcima, kratke izvedbe, s brtvama i vijcima Materijal kucišta GGG40.
B70: DN 50, PN 16 | C70: kom | D70: 1 | F70: =D70*E70 -> 0
A71: 9 | B71: Polaganje plastične trake upozorenja širine 6 -8 cm žute boje s natpisom PLIN ili POZOR PLIN. Traka mora biti položena tako da natpis bude okrenut prema gore. Polaže se na dubini cca 40cm iznad plinovodne cijevi. | C71: m | D71: 50 | F71: =D71*E71 -> 0
A72: 10 | B72: Izrada i dobava metalnog stupa za pločice upozorenja za spoj plinskog priključka na ulični plinovod (Č. cijev Ø48,3x2,6, L= 1,2m koja se ubetonirava u betonsku stopu cca 40 cm od nivoa terena) + metalne pločice upozorenja za spoj plinskog priključka na ulični plinovod, sve u skladu s propisom GPZ 508261/04. Komplet rad i materijal. | C72: kpl | D72: 1 | F72: =D72*E72 -> 0
A73: 11 | B73: Tlačna proba na čvrstocu kućnog priključka d63 PE. Ispitivanje se izvodi prije prikljucenja na ulicni plinovod zrakom ili inertnim plinom (npr. dušik, ugljicni dioksid) pri minimalnom ispitnom tlakom 6 bar - sukladno važečim normama i propisima za ovu namjenu, pri tom se na ispitnom instrumentu mora moći očitati promjena tlaka od 1,0 mbar. Ispitni instrument mora biti klase 0,6 mjernog podrucja 50% višeg od ispitnog tlaka. Minimalno ispitno vrijeme za kucni prikljucak je 3 h nakon temperaturne stabilizacije. Za provedeno ispitivanje treba biti izraden odgovarajuci zapisnik sukladno važečim normama i propisima za ovu namjenu i odobren od strane operatora distribucijskog sustava plina (distributera). | C73: kpl | D73: 1 | F73: =D73*E73 -> 0
A74: 12 | B74: Ispitivanje nepropusnosti prespoja na ulicni plinovod d 63 PE i ispitivanje nepropusnosti svih spojeva na kućnom prikljucku. Ispitivanje izvršiti prije zatrpavanja rova i montažnih jama. Kontrolu nepropusnosti postupkom A4 u kombinaciji s indikatorom plina kućnog priključka izvršiti nakon priključenja na ulicni plinovod i puštanja plina. Za provedeno ispitivanje treba biti izraden odgovarajući zapisnik sukladno važečim normama i propisima za ovu namjenu i odobren od strane operatora distribucijskog sustava plina (distributera). | C74: kpl | D74: 1 | F74: =D74*E74 -> 0
A75: 13 | B75: Antikorozivna zaštita svih čelicnih cijevi, uvarnih elemenata, prirubnica i nosača cijevi. U sklopu ove stavke uključeno je odmašćivanje, ručno čišćenje površina i otprašivanje. Antikorozivna zaštita nadzemnih dijelova izvodi se s dva premaza temeljnom bojom i s dva premaza završne žute boje RAL 1021, prema važečim normama i propisima za ovu namjenu. Na vijčanim spojevima prirubnica izvedenim s nazubljenim podloškama, matica i vijak moraju biti obojani crvenom bojom. | C75: kpl | D75: 1 | F75: =D75*E75 -> 0
A76: 14 | B76: Geodetsko snimanje podzemno izvedene instalacije priključka plina (i podzemnog razvoda plina od MRS-e do kotlovnice) , uključivo predaju elaborata u katastar | C76: kpl | D76: 1 | F76: =D76*E76 -> 0
A77: 15 | B77: Odzračivanje, regulacija i puštanje u rad kućnog priključka | C77: kpl | D77: 1 | F77: =D77*E77 -> 0
A78: 16 | B78: Radiografsko snimanje sviju (kom 4) zavara čeličnog dijela kućnog priključka prirodnog plina DN 50 (prijelaz PE/ČE + cjevovod do završno protuprirubnice kuglaste slavine). Snimanje i pribavljanje nalaza organizira izvođač radova. | C78: kpl | D78: 1 | F78: =D78*E78 -> 0
B80: MJERNO REDUKCIJSKA STANICA (MRS-a) I RAZVOD PLINA (KUĆNA INSTALACIJA)
A82: 17 | B82: Dobava i ugradnja plinskog kutnog filtra, s prirubnim priključkom, materijal GGG 40, DN50/NP6 | C82: kpl | D82: 1 | F82: =D82*E82 -> 0
A83: 18 | B83: Dobava i ugradnja regulatora tlaka plina s blokirajućim ventilom od previsokog izlaznog tlaka i sigurnosnom membranom, prema bažečim normama. Dobavu i ugradnju izvršiti u dogovoru s operatorom distribucijskog sustava plina (distributerom).
B84: ulazni tlak: 1,0 do 3,0 bar (relativni)
B85: izlazni tlak: 75 mbar
B86: zahtjevani max protok: 61 m3/h
B87: prirubni priključci za protok plina: DN 50/ PN16
B88: ispušni priključak (odzraka): R1“
B89: sapnica 10 mm za pe= 1 bar i pa=75 mbara
B90: opruga regulatora za radno područje 70-140 mbara: crna 955-200-17;
B91: opruga blok ventila za previsoki tlak, radnog područja 50-150 mbara: plava 955-200-23;
C92: kpl | D92: 1 | F92: =D92*E92 -> 0
A93: 19 | B93: Dobava, baždarenje, ugradnja, podešavanje, plombiranje i puštanje u rad, prirubničkog plinomjera s rotacijskim klipovima, vatrootporne izvedbe, u kompletu s elektronskim korektorom protoka za mogućnost daljinskog očitanja, s mjernim područjem od 0,9 do 10 bara. Stavka podrazumjeva sitni montažni i potrošni materijal (brtve i spojne elemente, ulje za podmazivanje). Treba udovoljiti zahtjevima važečih normami i propisima za ovu namjenu, odnosno mora imati certifikat(e) i EU oznaku, po kojima zadovoljava zahtjevima važečih EU smjernica. Dobavu i ugradnju izvršiti u dogovoru s operatorom distribucijskog sustava plina (distributerom).
B94: max proračunski protok Qmax =61m3/h
B95: minimalni proračunski protok (najmanjeg plinskog trošila štednjaka školske kuhinje)): Qmin = 0,37m3/h (plinski štednjak)
B96: radni pritisak do 16 bara.
B97: nazivne veličine prirubnički priključaka: DN 50/PN16
B98: napajanje baterijsko 16,5Ah, napon U ≤ 16 V.
B99: temperaturno područje radne okoline: -30oC do +60oC.
B100: oznaka protueksplozijske zaštite Ex II 1/2G Ex ia IIC TS c T6.
B101: Odgovara plinomjer s rotacionim klipovima , izrađen od duktilnog željeza veličine G 40/PN 16 + korektor .
C102: kpl | D102: 1 | F102: =D102*E102 -> 0
A103: 20 | B103: Dobava i ugradnja Č. cijevnog tuljka s unutrašnjim navojnim priključkom za ugradnju temperaturnog osjetnika s vanjskim navojnim priključkom R 1/4 "( koji se isporučuje odnosno naručuje s plinomjerom) + osjetnik temperature. | C103: kpl | D103: 1 | F103: =D103*E103 -> 0
A104: 21 | B104: Dobava i ugradnja plinskog regulatora sa zaštitom od nedostatka plina 75/22 mbara, DN 50 za navedeni maksimalni protok
B105: zahtjevani max protok: 58,6 m3/h
B106: Isporuka sa spojnim fitinzima i brtvama | C106: kpl | D106: 2 | F106: =D106*E106 -> 0
A107: 22 | B107: Dobava i ugradnja plinskog regulatora slijedećih karakteristika: priključci: R 1“, pe= 75 mbar i pa=20 mbara, Vmax=8m3/h; | C107: kpl | D107: 1 | F107: =D107*E107 -> 0
A108: 23 | B108: Dobava i ugradnja el. magnetnog ventila (bez napona opružno zatvoren), veličina DN 25 (1"); napajanje 230V. | C108: kom | D108: 1 | F108: =D108*E108 -> 0
A109: 24 | B109: Dobava i ugradnja dizni (sapnica) za izgaranje prirodnog plina umjesto UNP-a na postojećem plinskom štednjaku (Whirlpool) po ovlaštenom serviseru i puštanje servisiranog štednjaka u upotrebu. O učinjenoj servisnoj prepravci korisnik mora posjedovati servisni zapisnik. | C109: kpl | D109: 1 | F109: =D109*E109 -> 0
A110: 25 | B110: Dobava i ugradnja kuglaste slavine za plin, s prirubnim priključcima kratke izvedbe, s brtvama i vijcima. Materijal kucišta GGG40.
B111: DN 80/PN6 | C111: kpl | D111: 2 | F111: =D111*E111 -> 0
B112: DN 50/PN6 | C112: kpl | D112: 2 | F112: =D112*E112 -> 0
A113: 26 | B113: Dobava i ugradnja kuglaste slavine za plin, s navojnim priključcima:
B114: DN 15 (R1/2") | C114: kom | D114: 2 | F114: =D114*E114 -> 0
...

Sheet Elektrotehnika
B1: INVESTITOR: OŠ Bratoljuba Klaića, BIZOVAC
B2: GRAĐEVINA: OŠ Bratoljuba Klaića, KOTLOVNICA
B3: MJESTO GRADNJE: 31212 Bizovac, dr. Franje Tuđmana 1
B4: Dokumentacija: GLAVNI ELEKTROTEHNIČKI PROJEKT
A6: rbr. | B6: Naziv stavke | C6: jedinice | D6: kol. | E6: kn/jed | F6: ukupno kn
B8: 1. DEMONTAŽA ELEKTRIČNE INSTALACIJE KOTLOVNICE
A10: 1. | B10: Demontaža kompletne postojeće električne instalacije u prostoriji postojeće kotlovnice osim razdjelnice kotlovnice, opće rasvjete i priključnica. Demontaža se sastoji od demontaže svih napojnih (energetskih, višežilnih) i signalnih vodova (pretežno na obujmicama, a dio u cijevi i dr.) presjeka 1,5 mm2, 2,5 mm2 i 4 mm2, za napajanje svih tehnoloških trošila u ukupnoj dužini do 40 m i do 100 kom (vodova/strujnih krugova) sa isključenjem u razdjelnici i kod trošila, uključujući i obujmice, cijevi i montažni pribor. | C10: kompl. | D10: 1 | F10: =E10*D10 -> 0
A12: 2. | B12: Nakon demontaže strojarske/tehnološke opreme demontirati i postojeću razdjelnicu kotlovnice koja se sastoji od isključenja napojnog voda u R5 i demontažom, demontaže električne instalacije rasvjete (rasvjetnih tijela u vodotijesnoj izvedbi ukupno do 10 kom) vodova 1,5 mm2 i utičnica (trofaznih i monofaznih) sa vodovima 2,5 mm2 na obujmicama u ukupnoj dužini do 20 m i do 15 kom (vodova/strujnih krugova) sa isključenjem u razdjelnici i kod trošila, uključujući i obujmice, cijevi i montažni pribor. | C12: kompl. | D12: 1 | F12: =E12*D12 -> 0
A14: 3. | B14: Demontaža postojećih dozemnih vodova sa tehnološke opreme, koja se sastoji od komada FE/ZN trake 20x3 mm ili fleksibilnih vodova sa otpajanjem na opremi i sabirnom zemljovodu na zidu kotlovnice ukupno do 35 kom dozemnih vodova. | C14: kompl. | D14: 1 | F14: =E14*D14 -> 0
A16: 4. | B16: Demontirane električne vodove, opremu, sortirati i odložiti na mjesto u dogovoru sa investitorom. | C16: kompl. | D16: 1 | F16: =E16*D16 -> 0
B17: UKUPNO DEMONTAŽA: | F17: =SUM(F10:F16) -> 0
B20: 2. ELEKTRIČNA INSTALACIJA KOTLOVNICE I PROSTORIJE DOMARA
A22: 1. | B22: Isporučiti, montirati i spojiti u postojeću razdjelnicu R5, slijedeću opremu (sa razmještanjem postojeće opreme za potrebe ugradnje nove opreme za novi napojni vod razdjelnice DRK).
B23: - automatski prekidači C40/3 | C23: kom | D23: 1 | F23: =E23*D23 -> 0
B24: - redne stezaljke 16 mm2 | C24: kom | D24: 3 | F24: =E24*D24 -> 0
B25: - ostali montažni materijal i pribor potreban za ožičenje, označavanje i zaštitu, uvodnice, nosači spojni vodiči, pribor za učvršćenje i montažu - vijci, kabelski završeci, izolacione ploče i pregrade i drugo). | C25: paušal | D25: 1 | F25: =E25*D25 -> 0
B26: Komplet dogradnja opreme u razdjelnici R5 sa svim potrebnim radom i materijalom, spojena, ispitana i puštena pod napon | C26: kom | D26: 1 | F26: =E26*D26 -> 0
A28: 2. | B28: Izraditi, isporučiti, montirati na zid (kod ulaza u kotlovnicu) i spojiti razdjelnicu DRK (distributivna razdjelnica kotlovnice). Razdjelnicu izvesti u limenom kućištu dimenzija 400x300x155 mm sa instalacijskim umetkom ili sličnom nivoa zaštite IP66. Razdjelnicu opremiti opremom:
B29: - tropolni isklopnik 63 A sa daljinskim isklopom | C29: kom | D29: 1 | F29: =E29*D29 -> 0
B30: - automatski prekidači
B31: - C 40/3 | C31: kom | D31: 2 | F31: =E31*D31 -> 0
B32: - B 10/1 | C32: kom | D32: 3 | F32: =E32*D32 -> 0
B33: - B 6/1 | C33: kom | D33: 4 | F33: =E33*D33 -> 0
B34: - ugradni relej-pomoćni sklopnik , 230 V, 16 A | C34: kom | D34: 4 | F34: =E34*D34 -> 0
B35: - ugradno jednopolno tipkalo | C35: kom | D35: 1 | F35: =E35*D35 -> 0
B36: - ugradno jednopolno tipkalo (reset) | C36: kom | D36: 1 | F36: =E36*D36 -> 0
B37: - odvodnik prenapona (varistor) SVM 280 sa podnožjem SVM | C37: kom | D37: 4 | F37: =E37*D37 -> 0
B38: - uvodnice prema potrebi | C38: kom | D38: 10 | F38: =E38*D38 -> 0
B39: - redne stezaljke 16 mm2 | C39: kom | D39: 6 | F39: =E39*D39 -> 0
B40: - redne stezaljke 6 mm2 | C40: kom | D40: 9 | F40: =E40*D40 -> 0
B41: - ostali montažni materijal i pribor potreban za ožičenje, označavanje i zaštitu L1,L2,L3,N i Pe sabirnice i nosači spojni vodiči, pribor za učvršćenje i montažu - vijci, pribor za označavanje, kanalne kutije, kabelski završeci, izolacione ploče i pregrade i drugo). | C41: paušal | D41: 1 | F41: =E41*D41 -> 0
B42: Komplet razdjelnica DRK sa svim potrebnim radom i materijalom, spojena, ispitana i puštena pod napon | C42: kom | D42: 1 | F42: =E42*D42 -> 0
A45: 3. | B45: Izraditi, isporučiti, montirati na zid (kod ulaza u kotlovnicu) i spojiti razdjelnicu RK (distributivna razdjelnica kotlovnice). Razdjelnicu izvesti u limenom kućištu dimenzija 800x600x260 mm nivoa zaštite IP66. Razdjelnicu opremiti opremom :
B46: - grebenaste sklopke
B47: - 4G40-10 U | C47: kom | D47: 2 | F47: =E47*D47 -> 0
B48: - 4G16-10 U | C48: kom | D48: 1 | F48: =E48*D48 -> 0
B49: - 4G16-90 U | C49: kom | D49: 10 | F49: =E49*D49 -> 0
B50: - automatski prekidači
B51: - C 32/3 | C51: kom | D51: 3 | F51: =E51*D51 -> 0
B52: - C 16/3 | C52: kom | D52: 1 | F52: =E52*D52 -> 0
B53: - C 16/2 | C53: kom | D53: 1 | F53: =E53*D53 -> 0
B54: - C 16/1 | C54: kom | D54: 10 | F54: =E54*D54 -> 0
B55: - C 10/1 | C55: kom | D55: 5 | F55: =E55*D55 -> 0
B56: - sklopnik 20 A, 230 V | C56: kom | D56: 2 | F56: =E56*D56 -> 0
B57: - zaštitni transformator 230/24V, 100VA (LP 602010) | C57: kom | D57: 1 | F57: =E57*D57 -> 0
B58: - sabirnice L1,L2,L3,N i Pe komplet sa nosačima cca 0,6 m | C58: kom | D58: 1 | F58: =E58*D58 -> 0
B59: - priključnica ugradna (230V,16V) | C59: kom | D59: 2 | F59: =E59*D59 -> 0
B60: - priključnica ugradna (400V, 16A) | C60: kom | D60: 2 | F60: =E60*D60 -> 0
B61: - priključnica ugradna (24V, 16A) | C61: kom | D61: 1 | F61: =E61*D61 -> 0
B62: - uvodnice prema potrebi | C62: kom | D62: 25 | F62: =E62*D62 -> 0
... B66: Komplet razdjelnica RK sa svim potrebnim radom i materijalom, spojena, ispitana i puštena pod napon | C66: kom | D66: 1 | F66: =E66*D66 -> 0
A68: 4. | B68: Izraditi, isporučiti, montirati na zid (u prostoriji domara) i spojiti razdjelnicu RPD. Razdjelnicu izvesti u limenom kućištu dimenzija 400x300x155 mm nivoa zaštite IP66. Razdjelnicu opremiti slijedećom opremom :
B69: - grebenasta sklopka 4G40-10-U | C69: kom | D69: 1 | F69: =E69*D69 -> 0
B70: - automatski prekidači
B71: - C 16/3 | C71: kom | D71: 2 | F71: =E71*D71 -> 0
B72: - C 16/1 | C72: kom | D72: 6 | F72: =E72*D72 -> 0
B73: - C 10/1 | C73: kom | D73: 2 | F73: =E73*D73 -> 0
B74: - uvodnice prema potrebi | C74: kom | D74: 20 | F74: =E74*D74 -> 0
B75: - redne stezaljke 16 mm2 | C75: kom | D75: 6 | F75: =E75*D75 -> 0
B76: - redne stezaljke 6 mm2 | C76: kom | D76: 9 | F76: =E76*D76 -> 0
B77: - ostali montažni materijal i pribor potreban za ožičenje, označavanje i zaštitu L1,L2,L3,N i Pe sabirnice i nosači spojni vodiči, pribor za učvršćenje i montažu - vijci, pribor za označavanje, kanalne kutije, kabelski završeci, izolacione ploče i pregrade i drugo). | C77: paušal | D77: 1 | F77: =E77*D77 -> 0
B78: Komplet razdjelnica RPD sa svim potrebnim radom i materijalom, spojena, ispitana i puštena pod napon | C78: kom | D78: 1 | F78: =E78*D78 -> 0
A80: 5. | B80: Isporučiti, položiti u zid i spojiti napojni vod od R5 do DRK PP00-Y 5x10 mm2. | C80: m | D80: 35 | F80: =E80*D80 -> 0
A82: 6. | B82: Isporučiti i postaviti/zavjesiti na zid/strop limeni pocinčani regal PK dimenzija 200x50, komplet sa spojnim komadima, nosačima i potrebnim priborom i radom. | C82: m | D82: 40 | F82: =E82*D82 -> 0
A84: 7. | B84: Isporučiti i položiti na postavljeni regal, slijedeće kabelske i instalacione vodove, komplet sa potrebnim priborom (posebno računajući razvodne kutije):
B85: PP00-Y 5x10 mm2 | C85: m | D85: 40 | F85: =E85*D85 -> 0
B86: PP-Y 5x4 mm2 | C86: m | D86: 10 | F86: =E86*D86 -> 0
B87: PP-Y 5x2,5 mm2 | C87: m | D87: 10 | F87: =E87*D87 -> 0
B88: PP-Y 3x2,5 mm2 | C88: m | D88: 10 | F88: =E88*D88 -> 0
B89: PP-Y 4x1,5 mm2 | C89: m | D89: 10 | F89: =E89*D89 -> 0
B90: PP-Y 3x1,5 mm2 | C90: m | D90: 35 | F90: =E90*D90 -> 0
B91: PP-Y 2x1,5 mm2 | C91: m | D91: 25 | F91: =E91*D91 -> 0
B92: PPL-Y 3x1,5 mm2 | C92: m | D92: 10 | F92: =E92*D92 -> 0
B93: J-Y(St)Y 1x2x0,6 mm | C93: m | D93: 65 | F93: =E93*D93 -> 0
B94: P/M-Y 16 mm2 | C94: m | D94: 80 | F94: =E94*D94 -> 0
A96: 8. | B96: Isporučiti i montirati pomoću obujmica na zid (strop) slijedeće vodove:
B97: PP00-Y 5x10 mm2 | C97: m | D97: 25 | F97: =E97*D97 -> 0
B98: PP-Y 5x4 mm2 | C98: m | D98: 15 | F98: =E98*D98 -> 0
B99: PP-Y 5x2,5 mm2 | C99: m | D99: 15 | F99: =E99*D99 -> 0
B100: PP-Y 3x2,5 mm2 | C100: m | D100: 45 | F100: =E100*D100 -> 0
B101: PP-Y 4x1,5 mm2 | C101: m | D101: 55 | F101: =E101*D101 -> 0
B102: PP-Y 3x1,5 mm2 | C102: m | D102: 105 | F102: =E102*D102 -> 0
B103: PP-Y 2x1,5 mm2 | C103: m | D103: 20 | F103: =E103*D103 -> 0
B104: PPL-Y 3x1,5 mm2 | C104: m | D104: 20 | F104: =E104*D104 -> 0
B105: J-Y(St)Y 1x2x0,6 mm | C105: m | D105: 65 | F105: =E105*D105 -> 0
B106: P/M-Y 16 mm2 | C106: m | D106: 35 | F106: =E106*D106 -> 0
B107: Komplet sa svim radom uključujući polaganje vodova te isporuku, montažu i spajanje odgovarajućih razvodnih kutija.
A109: 9. | B109: Isporučiti i montirati pomoću zaštitnih cijevi na zid (strop) i uvodi u priključne kutije slijedeće vodove (uključujući cijevi):
B110: PP00-Y 5x10 mm2 | C110: m | D110: 5 | F110: =E110*D110 -> 0
B111: PP-Y 5x4 mm2 | C111: m | D111: 12 | F111: =E111*D111 -> 0
B112: PP-Y 4x1,5 mm2 | C112: m | D112: 20 | F112: =E112*D112 -> 0
B113: PP-Y 3x1,5 mm2 | C113: m | D113: 30 | F113: =E113*D113 -> 0
B114: PP-Y 2x1,5 mm2 | C114: m | D114: 25 | F114: =E114*D114 -> 0
B115: PPL-Y 3x1,5 mm2 | C115: m | D115: 30 | F115: =E115*D115 -> 0
B116: J-Y(St)Y 1x2x0,75 mm | C116: m | D116: 20 | F116: =E116*D116 -> 0
B117: P/M-Y 16 mm2 | C117: m | D117: 15 | F117: =E117*D117 -> 0
B118: Komplet sa svim radom uključujući polaganje cijevi i vodova te isporuku, montažu i spajanje odgovarajućih razvodnih kutija.
A120: 10. | B120: Isporučiti slijedeća rasvjetna tijela ili slična (komplet sa izvorima svjetlosti, ovjesnim i montažnim priborom prema potrebi) i spojiti na električnu instalaciju. Komplet sa svim potrebnim radom i materijalom.
B121: - nadgradna fluorescentna svjetiljka 2x36 W, IP54. Svjetiljke montirati direktno na strop. | C121: kom | D121: 8 | F121: =E121*D121 -> 0
B122: svjetiljka sigurnosna/protupanična 8W nivoa zaštite IP65. | C122: kom | D122: 1 | F122: =E122*D122 -> 0
...

Sheet REKAPITULACIJA
B2: NAPOMENA: GRUPU STAVKI U STROJARSKIM RADOVIMA POD ''E - INSTALACIJA TERMOVENTILACIJE KUHINJE'' I GRUPU STAVKI POD ''3. ELEKTRIČNA INSTALACIJA TERMOVENTILACIJE KUHINJE'' NE NUDITI JER SE KAO OPREMA KUHINJE NABAVLJA OD STRANE INVESTITORA
B5: REKAPITULACIJA
A7: 1. | B7: GRAĐEVINSKI I OBRTNIČKI RADOVI | C7: ='Rekapitulacija arhitektura'!G18 -> 0
A8: 2. | B8: STROJARSKI RADOVI | C8: =Strojarstvo!F618 -> 0
A9: 3. | B9: ELEKTROTEHNIČKI RADOVI | C9: =Elektrotehnika!F263 -> 0
B11: UKUPNO | C11: =C7+C8+C9 -> 0
B12: PDV 25% | C12: =C11*0.25 -> 0
B13: SVEUKUPNO SA PDV-om | C13: =C11+C12 -> 0
